Shooting information for this photo
| Camera: | NIKON CORPORATION NIKON D600 |
| Exposure: | 0.02 sec. (1/50) |
| Aperture: | f/5.0 |
| Focal Length: | 15.0 mm |
| Flash: | Off, Did not fire |
| Exposure mode: | Manual |
| Max Aperture: | 2.8 |
| Resolution: | 300 x 300 dpi |
| Dimension: | 6016 x 4016 pixels |
| Original Date: | 2014:07:01 14:55:47 |
| Created on: | 2014:07:01 14:55:47 |
| Modified on: | 2014:07:12 08:13:31 |
| Software: | Adobe Photoshop Elements 12.0 Macintosh |
| Already Applied | True |
| Auto Lateral CA | 0 |
| Auto White Version | 134348800 |
| Blacks 2012 | +46 |
| Blue Hue | 0 |
| Blue Saturation | 0 |
| Camera Profile | Embedded |
| Clarity 2012 | 0 |
| Color Mode | RGB |
| Color Noise Reduction | 0 |
| Color Space | sRGB |
| Contrast 2012 | +15 |
| Convert To Grayscale | False |
| Date Created | 2014:07:01 14:55:47 |
| Defringe Green Amount | 0 |
| Defringe Green Hue Hi | 60 |
| Defringe Green Hue Lo | 40 |
| Defringe Purple Amount | 0 |
| Defringe Purple Hue Hi | 70 |
| Defringe Purple Hue Lo | 30 |
| Exposure 2012 | +0.40 |
| Exposure Compensation | +2/3 |
| Format | image/jpeg |
| Grain Amount | 0 |
| Green Hue | 0 |
| Green Saturation | 0 |
| Has Crop | False |
| Has Settings | True |
| Highlights 2012 | 0 |
| Hue Adjustment Aqua | 0 |
| Hue Adjustment Blue | 0 |
| Hue Adjustment Green | 0 |
| Hue Adjustment Magenta | 0 |
| Hue Adjustment Orange | 0 |
| Hue Adjustment Purple | 0 |
| Hue Adjustment Red | 0 |
| Hue Adjustment Yellow | 0 |
| ICC Profile Name | sRGB IEC61966-2.1 |
| ISO | 125 |
| Image Size | 6016x4016 |
| Incremental Temperature | -1 |
| Incremental Tint | 0 |
| Lens Manual Distortion Amount | 0 |
| Lens Profile Enable | 0 |
| Lens Profile Setup | LensDefaults |
| Light Source | Cloudy |
| Light Value | 10.0 |
| Luminance Adjustment Aqua | 0 |
| Luminance Adjustment Blue | 0 |
| Luminance Adjustment Green | 0 |
| Luminance Adjustment Magenta | 0 |
| Luminance Adjustment Orange | 0 |
| Luminance Adjustment Purple | 0 |
| Luminance Adjustment Red | 0 |
| Luminance Adjustment Yellow | 0 |
| Luminance Smoothing | 0 |
| Metering Mode | Multi-segment |
| Parametric Darks | 0 |
| Parametric Highlight Split | 75 |
| Parametric Highlights | 0 |
| Parametric Lights | 0 |
| Parametric Midtone Split | 50 |
| Parametric Shadow Split | 25 |
| Parametric Shadows | 0 |
| Perspective Aspect | 0 |
| Perspective Horizontal | 0 |
| Perspective Rotate | 0.0 |
| Perspective Scale | 100 |
| Perspective Upright | 0 |
| Perspective Vertical | 0 |
| Photographic Sensitivity | 125 |
| Post Crop Vignette Amount | 0 |
| Process Version | 6.7 |
| Rating | 0 |
| Raw File Name | DSC_2096.jpg |
| Red Hue | 0 |
| Red Saturation | 0 |
| Saturation | 0 |
| Saturation Adjustment Aqua | 0 |
| Saturation Adjustment Blue | 0 |
| Saturation Adjustment Green | 0 |
| Saturation Adjustment Magenta | 0 |
| Saturation Adjustment Orange | 0 |
| Saturation Adjustment Purple | 0 |
| Saturation Adjustment Red | 0 |
| Saturation Adjustment Yellow | 0 |
| Sensing Method | One-chip color area |
| Shadow Tint | 0 |
| Shadows 2012 | +7 |
| Sharpen Detail | 25 |
| Sharpen Edge Masking | 0 |
| Sharpen Radius | +1.0 |
| Sharpness | 0 |
| Split Toning Balance | 0 |
| Split Toning Highlight Hue | 0 |
| Split Toning Highlight Saturation | 0 |
| Split Toning Shadow Hue | 0 |
| Split Toning Shadow Saturation | 0 |
| Tone Curve | 0, 0, 255, 255 |
| Tone Curve Blue | 0, 0, 255, 255 |
| Tone Curve Green | 0, 0, 255, 255 |
| Tone Curve Name | Linear |
| Tone Curve Name 2012 | Linear |
| Tone Curve PV2012 | 0, 0, 255, 255 |
| Tone Curve PV2012 Blue | 0, 0, 255, 255 |
| Tone Curve PV2012 Green | 0, 0, 255, 255 |
| Tone Curve PV2012 Red | 0, 0, 255, 255 |
| Tone Curve Red | 0, 0, 255, 255 |
| Version | 8.5 |
| Vibrance | 0 |
| Vignette Amount | 0 |
| White Balance | Custom |
| Whites 2012 | -28 |
X