Shooting information for this photo
| Camera: | NIKON CORPORATION NIKON D700 |
| Exposure: | 0.0125 sec. (1/80) |
| Aperture: | f/4.5 |
| Focal Length: | 105.0 mm (35 mm equivalent: 105.0 mm) |
| Flash: | No Flash |
| Exposure mode: | Program AE |
| Max Aperture: | 4.0 |
| Resolution: | 240 x 240 dpi |
| Dimension: | 1565 x 2352 pixels |
| Original Date: | 2024:10:05 12:30:24.50 |
| Created on: | 2024:10:05 12:30:24.50 |
| Modified on: | 2024:10:07 14:35:39 |
| Software: | Adobe Photoshop 25.12 (Macintosh) |
| Copyright: | Wolfgang Pfriemer |
| Already Applied | True |
| Approximate Focus Distance | 1.58 |
| Artist | Wolfgang Pfriemer |
| Auto Lateral CA | 0 |
| Blacks 2012 | 0 |
| Blue Hue | 0 |
| Blue Saturation | 0 |
| Camera Profile | Embedded |
| Circle Of Confusion | 0.030 mm |
| Clarity 2012 | 0 |
| Color Grade Blending | 50 |
| Color Grade Global Hue | 0 |
| Color Grade Global Lum | 0 |
| Color Grade Global Sat | 0 |
| Color Grade Highlight Lum | 0 |
| Color Grade Midtone Hue | 0 |
| Color Grade Midtone Lum | 0 |
| Color Grade Midtone Sat | 0 |
| Color Grade Shadow Lum | 0 |
| Color Mode | RGB |
| Color Noise Reduction | 0 |
| Color Space | sRGB |
| Contrast | Normal |
| Contrast 2012 | -13 |
| Convert To Grayscale | False |
| Creator | Wolfgang Pfriemer |
| Custom Rendered | Normal |
| Date Created | 2024:10:05 12:30:24.005 |
| Defringe Green Amount | 0 |
| Defringe Green Hue Hi | 60 |
| Defringe Green Hue Lo | 40 |
| Defringe Purple Amount | 0 |
| Defringe Purple Hue Hi | 70 |
| Defringe Purple Hue Lo | 30 |
| Dehaze | 0 |
| Digital Zoom Ratio | 1 |
| Enhance Denoise Already Applied | True |
| Enhance Denoise Luma Amount | 70 |
| Enhance Denoise Version | 251658240 |
| Enhance Details Already Applied | True |
| Enhance Details Version | 218300416 |
| Exposure 2012 | 0.00 |
| Exposure Compensation | -2/3 |
| Exposure Mode | Auto |
| Field Of View | 19.5 deg |
| Focal Length In 35mm Format | 105 mm |
| Format | image/jpeg |
| Gain Control | None |
| Grain Amount | 0 |
| Green Hue | 0 |
| Green Saturation | 0 |
| HDR Edit Mode | 0 |
| Has Crop | False |
| Has Settings | True |
| Highlights 2012 | 0 |
| Hue Adjustment Aqua | 0 |
| Hue Adjustment Blue | 0 |
| Hue Adjustment Green | 0 |
| Hue Adjustment Magenta | 0 |
| Hue Adjustment Orange | 0 |
| Hue Adjustment Purple | 0 |
| Hue Adjustment Red | 0 |
| Hue Adjustment Yellow | 0 |
| Hyperfocal Distance | 81.54 m |
| ICC Profile Name | sRGB IEC61966-2.1 |
| ISO | 200 |
| Image Number | 66819 |
| Image Size | 1565x2352 |
| Incremental Temperature | -1 |
| Incremental Tint | 0 |
| Lens | 28.0-105.0 mm f/2.8-4.0 |
| Lens ID | Sigma 28-105mm F2.8-4 Aspherical |
| Lens Info | 28-105mm f/2.8-4 |
| Lens Manual Distortion Amount | 0 |
| Lens Model | 28.0-105.0 mm f/2.8-4.0 |
| Lens Profile Enable | 0 |
| Light Source | Unknown |
| Light Value | 9.7 |
| Luminance Adjustment Aqua | 0 |
| Luminance Adjustment Blue | 0 |
| Luminance Adjustment Green | 0 |
| Luminance Adjustment Magenta | 0 |
| Luminance Adjustment Orange | 0 |
| Luminance Adjustment Purple | 0 |
| Luminance Adjustment Red | 0 |
| Luminance Adjustment Yellow | 0 |
| Luminance Smoothing | 0 |
| Metering Mode | Multi-segment |
| Override Look Vignette | False |
| Parametric Darks | -3 |
| Parametric Highlight Split | 75 |
| Parametric Highlights | -30 |
| Parametric Lights | -19 |
| Parametric Midtone Split | 50 |
| Parametric Shadow Split | 25 |
| Parametric Shadows | +8 |
| Perspective Aspect | 0 |
| Perspective Horizontal | 0 |
| Perspective Rotate | 0.0 |
| Perspective Scale | 100 |
| Perspective Upright | 0 |
| Perspective Vertical | 0 |
| Perspective X | 0.00 |
| Perspective Y | 0.00 |
| Pick | 0 |
| Point Colors | -1.000000, -1.000000, -1.000000, -1.000000, -1.000000, -1.000000, -1.000000, -1.000000, -1.000000, -1.000000, -1.000000, -1.000000, -1.000000, -1.000000, -1.000000, -1.000000, -1.000000, -1.000000, -1.000000 |
| Post Crop Vignette Amount | 0 |
| Preserved File Name | BAL_0245.NEF |
| Process Version | 15.4 |
| Rating | 0 |
| Red Hue | 0 |
| Red Saturation | 0 |
| Rights | Wolfgang Pfriemer |
| Saturation | Normal |
| Saturation Adjustment Aqua | 0 |
| Saturation Adjustment Blue | 0 |
| Saturation Adjustment Green | 0 |
| Saturation Adjustment Magenta | 0 |
| Saturation Adjustment Orange | 0 |
| Saturation Adjustment Purple | 0 |
| Saturation Adjustment Red | 0 |
| Saturation Adjustment Yellow | 0 |
| Scale Factor To 35 mm Equivalent | 1.0 |
| Scene Capture Type | Standard |
| Scene Type | Directly photographed |
| Sensing Method | One-chip color area |
| Shadow Tint | 0 |
| Shadows 2012 | 0 |
| Sharpness | Normal |
| Split Toning Balance | 0 |
| Split Toning Highlight Hue | 0 |
| Split Toning Highlight Saturation | 0 |
| Split Toning Shadow Hue | 0 |
| Split Toning Shadow Saturation | 0 |
| Subject Distance Range | Unknown |
| Texture | 0 |
| Tone Curve Name 2012 | Linear |
| Tone Curve PV2012 | 0, 0, 255, 255 |
| Tone Curve PV2012 Blue | 0, 0, 255, 255 |
| Tone Curve PV2012 Green | 0, 0, 255, 255 |
| Tone Curve PV2012 Red | 0, 0, 255, 255 |
| Version | 16.5 |
| Vibrance | 0 |
| Vignette Amount | 0 |
| White Balance | Auto |
| Whites 2012 | 0 |
GPS Information |
| GPS Altitude | 35 m Above Sea Level |
| GPS Altitude Ref | Above Sea Level |
| GPS Date Stamp | 2024:10:05 |
| GPS Date/Time | 2024:10:05 04:30:24Z |
| GPS Latitude | 8 deg 38' 46.63" S |
| GPS Latitude Ref | South |
| GPS Longitude | 115 deg 14' 34.80" E |
| GPS Longitude Ref | East |
| GPS Map Datum | WGS 84 |
| GPS Position | 8 deg 38' 46.63" S, 115 deg 14' 34.80" E |
| GPS Satellites | 16 |
| GPS Time Stamp | 04:30:24 |
| GPS Version ID | 2.2.0.0 |
X