Shooting information for this photo
| Camera: | NIKON CORPORATION NIKON D200 |
| Exposure: | 0.005 sec. (1/200) |
| Aperture: | f/7.1 |
| Focal Length: | 18.0 mm (35 mm equivalent: 27.0 mm) |
| Flash: | No Flash |
| Exposure mode: | Program AE |
| Max Aperture: | 3.5 |
| Resolution: | 300 x 300 dpi |
| Dimension: | 2800 x 1866 pixels |
| Original Date: | 2008:11:18 10:15:13.65 |
| Created on: | 2008:11:18 10:15:13.65 |
| Modified on: | 2016:12:02 20:11:40.65 |
| Software: | Adobe Photoshop CC 2015 (Macintosh) |
| Already Applied | True |
| Approximate Focus Distance | 4294967295 |
| Auto Lateral CA | 0 |
| Auto White Version | 134348800 |
| Blacks 2012 | +24 |
| Blue Hue | 0 |
| Blue Saturation | 0 |
| CFA Pattern | [Green,Red][Blue,Green] |
| Camera Profile | Adobe Standard |
| Circle Of Confusion | 0.020 mm |
| Clarity 2012 | +32 |
| Color Mode | RGB |
| Color Noise Reduction | 25 |
| Color Noise Reduction Detail | 50 |
| Color Noise Reduction Smoothness | 50 |
| Color Space | sRGB |
| Color Temperature | 5350 |
| Contrast | Normal |
| Contrast 2012 | -13 |
| Convert To Grayscale | False |
| Crop Angle | 0 |
| Crop Bottom | 0.90965 |
| Crop Constrain To Warp | 1 |
| Crop Height | 3 |
| Crop Left | 0.044879 |
| Crop Right | 0.955121 |
| Crop Top | 0.003155 |
| Crop Unit | Unknown (3) |
| Crop Width | 2 |
| Custom Rendered | Normal |
| Date Created | 2008:11:18 10:15:13.065 |
| Defringe Green Amount | 0 |
| Defringe Green Hue Hi | 60 |
| Defringe Green Hue Lo | 40 |
| Defringe Purple Amount | 0 |
| Defringe Purple Hue Hi | 70 |
| Defringe Purple Hue Lo | 30 |
| Dehaze | 0 |
| Digital Zoom Ratio | 1 |
| Exposure 2012 | 0.00 |
| Exposure Compensation | 0 |
| Exposure Mode | Auto |
| Field Of View | 67.4 deg |
| Focal Length In 35mm Format | 27 mm |
| Format | image/jpeg |
| Gain Control | None |
| Grain Amount | 0 |
| Green Hue | 0 |
| Green Saturation | 0 |
| Has Crop | True |
| Has Settings | True |
| Highlights 2012 | -100 |
| Hue Adjustment Aqua | 0 |
| Hue Adjustment Blue | 0 |
| Hue Adjustment Green | -55 |
| Hue Adjustment Magenta | 0 |
| Hue Adjustment Orange | 0 |
| Hue Adjustment Purple | 0 |
| Hue Adjustment Red | 0 |
| Hue Adjustment Yellow | +61 |
| Hyperfocal Distance | 2.28 m |
| ICC Profile Name | sRGB IEC61966-2.1 |
| ISO | 125 |
| Image Number | 5165 |
| Image Size | 2800x1866 |
| Lens | 18.0-70.0 mm f/3.5-4.5 |
| Lens ID | AF-S DX Zoom-Nikkor 18-70mm f/3.5-4.5G IF-ED |
| Lens Info | 18-70mm f/3.5-4.5 |
| Lens Manual Distortion Amount | 0 |
| Lens Model | 18.0-70.0 mm f/3.5-4.5 |
| Lens Profile Enable | 0 |
| Lens Profile Setup | LensDefaults |
| Light Source | Unknown |
| Light Value | 13.0 |
| Luminance Adjustment Aqua | 0 |
| Luminance Adjustment Blue | 0 |
| Luminance Adjustment Green | +53 |
| Luminance Adjustment Magenta | 0 |
| Luminance Adjustment Orange | 0 |
| Luminance Adjustment Purple | 0 |
| Luminance Adjustment Red | 0 |
| Luminance Adjustment Yellow | -43 |
| Luminance Smoothing | 0 |
| Metering Mode | Multi-segment |
| Parametric Darks | +2 |
| Parametric Highlight Split | 75 |
| Parametric Highlights | -3 |
| Parametric Lights | 0 |
| Parametric Midtone Split | 50 |
| Parametric Shadow Split | 25 |
| Parametric Shadows | +63 |
| Perspective Aspect | 0 |
| Perspective Horizontal | 0 |
| Perspective Rotate | 0.0 |
| Perspective Scale | 100 |
| Perspective Upright | 0 |
| Perspective Vertical | -33 |
| Post Crop Vignette Amount | 0 |
| Process Version | 6.7 |
| Rating | 0 |
| Raw File Name | Laos Nov.2008-1-057.NEF |
| Red Hue | 0 |
| Red Saturation | 0 |
| Saturation | Normal |
| Saturation Adjustment Aqua | 0 |
| Saturation Adjustment Blue | +38 |
| Saturation Adjustment Green | +71 |
| Saturation Adjustment Magenta | 0 |
| Saturation Adjustment Orange | 0 |
| Saturation Adjustment Purple | 0 |
| Saturation Adjustment Red | 0 |
| Saturation Adjustment Yellow | +78 |
| Scale Factor To 35 mm Equivalent | 1.5 |
| Scene Capture Type | Standard |
| Scene Type | Directly photographed |
| Sensing Method | One-chip color area |
| Shadow Tint | 0 |
| Shadows 2012 | +44 |
| Sharpen Detail | 25 |
| Sharpen Edge Masking | 0 |
| Sharpen Radius | +1.0 |
| Sharpness | Normal |
| Split Toning Balance | 0 |
| Split Toning Highlight Hue | 0 |
| Split Toning Highlight Saturation | 0 |
| Split Toning Shadow Hue | 0 |
| Split Toning Shadow Saturation | 0 |
| Subject Distance Range | Unknown |
| Tint | -7 |
| Tone Curve | 0, 0, 32, 22, 64, 56, 128, 128, 192, 196, 255, 255 |
| Tone Curve Blue | 0, 0, 255, 255 |
| Tone Curve Green | 0, 0, 255, 255 |
| Tone Curve Name | Medium Contrast |
| Tone Curve Name 2012 | Linear |
| Tone Curve PV2012 | 0, 0, 255, 255 |
| Tone Curve PV2012 Blue | 0, 0, 255, 255 |
| Tone Curve PV2012 Green | 0, 0, 255, 255 |
| Tone Curve PV2012 Red | 0, 0, 255, 255 |
| Tone Curve Red | 0, 0, 255, 255 |
| Tone Map Strength | 0 |
| Version | 9.5.1 |
| Vibrance | 0 |
| Vignette Amount | 0 |
| White Balance | Auto |
| Whites 2012 | +21 |
X