Shooting information for this photo
Camera: | NIKON CORPORATION NIKON D700 |
Exposure: | 0.008 sec. (1/125) |
Aperture: | f/9.0 |
Focal Length: | 160.0 mm (35 mm equivalent: 160.0 mm) |
Flash: | No Flash |
Exposure mode: | Aperture-priority AE |
Max Aperture: | 2.8 |
Resolution: | 240 x 240 dpi |
Original Date: | 2012:05:27 17:48:59.75 |
Created on: | 2012:05:27 17:48:59.75 |
Modified on: | 2012:07:01 20:23:38 |
Software: | Adobe Photoshop Lightroom 3.6 (Windows) |
Copyright: | GERARD PANDOLFO |
Already Applied | True |
Approximate Focus Distance | 4294967295 |
Artist | Gerard Pandolfo |
Blue Hue | 0 |
Blue Saturation | 0 |
Brightness | +50 |
CFA Pattern | [Red,Green][Green,Blue] |
Camera Profile | Adobe Standard |
Chromatic Aberration B | 0 |
Chromatic Aberration R | 0 |
Circle Of Confusion | 0.030 mm |
Clarity | 0 |
Color Noise Reduction | 25 |
Color Noise Reduction Detail | 50 |
Color Temperature | 5450 |
Contrast | Normal |
Convert To Grayscale | True |
Creator | Gerard Pandolfo |
Custom Rendered | Normal |
Date Created | 2012:05:27 17:48:59.75 |
Defringe | 0 |
Depth Of Field | inf (94.67 m - inf) |
Digital Source Type | nil |
Digital Zoom Ratio | 1 |
Exposure | 0.00 |
Exposure Compensation | -2/3 |
Exposure Mode | Auto |
Field Of View | 12.8 deg |
Fill Light | 0 |
Focal Length In 35mm Format | 160 mm |
Format | image/jpeg |
Gain Control | None |
Grain Amount | 0 |
Gray Mixer Aqua | -18 |
Gray Mixer Blue | +8 |
Gray Mixer Green | -26 |
Gray Mixer Magenta | +4 |
Gray Mixer Orange | -18 |
Gray Mixer Purple | +15 |
Gray Mixer Red | -9 |
Gray Mixer Yellow | -22 |
Green Hue | 0 |
Green Saturation | 0 |
Has Crop | False |
Has Settings | True |
Hierarchical Subject | piscine |
Highlight Recovery | 0 |
Hyperfocal Distance | 94.67 m |
ISO | 200 |
Image Number | 4978 |
Image Size | 4256x2832 |
Label | Rouge |
Lens | 80.0-200.0 mm f/2.8 |
Lens ID | Tokina AT-X 828 AF PRO (AF 80-200mm f/2.8) or AF Zoom-Nikkor 80-200mm f/2.8D ED |
Lens Info | 80-200mm f/2.8 |
Lens Manual Distortion Amount | 0 |
Lens Model | 80.0-200.0 mm f/2.8 |
Lens Profile Enable | 0 |
Lens Profile Setup | LensDefaults |
Light Source | Unknown |
Light Value | 12.3 |
Luminance Smoothing | 0 |
Metering Mode | Multi-segment |
Minor Model Age Disclosure | Unknown (nil) |
Model Release Status | Unknown (nil) |
PLUS Version | 1.2.0 |
Paint Correction Active | true |
Paint Correction Amount | 1.000000 |
Paint Correction Brightness | 0.000000 |
Paint Correction Clarity | 0.000000 |
Paint Correction Contrast | 0.000000 |
Paint Correction Exposure | 0.250000 |
Paint Correction Hue | 242.000000 |
Paint Correction Mask Center Weight | 0.211855 |
Paint Correction Mask Flow | 1.000000 |
Paint Correction Mask Radius | 0.006852 |
Paint Correction Mask Value | 0.000000 |
Paint Correction Mask What | Mask/Paint |
Paint Correction Saturation | 0.920000 |
Paint Correction Sharpness | 0.000000 |
Paint Correction What | Correction |
Parametric Darks | -15 |
Parametric Highlight Split | 75 |
Parametric Highlights | +8 |
Parametric Lights | +15 |
Parametric Midtone Split | 50 |
Parametric Shadow Split | 25 |
Parametric Shadows | -30 |
Perspective Horizontal | 0 |
Perspective Rotate | 0.0 |
Perspective Scale | 100 |
Perspective Vertical | 0 |
Post Crop Vignette Amount | 0 |
Process Version | 5.7 |
Property Release Status | Unknown (nil) |
Red Hue | 0 |
Red Saturation | 0 |
Rights | GERARD PANDOLFO |
Saturation | Normal |
Scale Factor To 35 mm Equivalent | 1.0 |
Scene Capture Type | Standard |
Scene Type | Directly photographed |
Sensing Method | One-chip color area |
Shadow Tint | 0 |
Shadows | 5 |
Sharpen Detail | 25 |
Sharpen Edge Masking | 0 |
Sharpen Radius | +1.0 |
Sharpness | Normal |
Split Toning Balance | 0 |
Split Toning Highlight Hue | 0 |
Split Toning Highlight Saturation | 0 |
Split Toning Shadow Hue | 0 |
Split Toning Shadow Saturation | 0 |
Subject | piscine |
Subject Distance | 4294967295 m |
Subject Distance Range | Unknown |
Tint | +11 |
Tone Curve | 0, 0, 32, 22, 64, 56, 128, 128, 192, 196, 255, 255 |
Tone Curve Name | Medium Contrast |
Version | 6.6 |
Vignette Amount | 0 |
White Balance | Auto |