Shooting information for this photo
| Camera: | FUJIFILM X100S |
| Exposure: | 0.00118 sec. (1/850) |
| Aperture: | f/7.1 |
| Focal Length: | 23.0 mm (35 mm equivalent: 66.7 mm) |
| Flash: | Off, Did not fire |
| Exposure mode: | Program AE |
| Max Aperture: | 2.0 |
| Resolution: | 240 x 240 dpi |
| Original Date: | 2017:04:04 11:47:24 |
| Created on: | 2017:04:04 11:47:24 |
| Modified on: | 2017:04:05 15:33:24 |
| Software: | Adobe Photoshop Lightroom 6.9 (Windows) |
| Already Applied | True |
| Auto Lateral CA | 1 |
| Auto White Version | 134348800 |
| Blacks 2012 | 0 |
| Blue Hue | 0 |
| Blue Saturation | 0 |
| Brightness Value | 9.15 |
| Camera Profile | Camera Velvia/VIVID |
| Circle Of Confusion | 0.010 mm |
| Clarity 2012 | +10 |
| Color Noise Reduction | 25 |
| Color Noise Reduction Detail | 50 |
| Color Noise Reduction Smoothness | 50 |
| Color Space | sRGB |
| Color Temperature | 5050 |
| Contrast 2012 | +29 |
| Convert To Grayscale | False |
| Crop Angle | 0 |
| Crop Bottom | 0.974755 |
| Crop Constrain To Warp | 0 |
| Crop Left | 0.186916 |
| Crop Right | 0.654206 |
| Crop Top | 0.330996 |
| Custom Rendered | Normal |
| Date Created | 2017:04:04 11:47:24 |
| Defringe Green Amount | 0 |
| Defringe Green Hue Hi | 60 |
| Defringe Green Hue Lo | 40 |
| Defringe Purple Amount | 0 |
| Defringe Purple Hue Hi | 70 |
| Defringe Purple Hue Lo | 30 |
| Dehaze | 0 |
| Exposure 2012 | 0.00 |
| Exposure Compensation | 0 |
| Exposure Mode | Auto |
| Field Of View | 30.2 deg |
| Format | image/jpeg |
| Grain Amount | 0 |
| Green Hue | 0 |
| Green Saturation | 0 |
| Has Crop | True |
| Has Settings | True |
| Highlights 2012 | 0 |
| Hue Adjustment Aqua | 0 |
| Hue Adjustment Blue | 0 |
| Hue Adjustment Green | 0 |
| Hue Adjustment Magenta | 0 |
| Hue Adjustment Orange | 0 |
| Hue Adjustment Purple | 0 |
| Hue Adjustment Red | 0 |
| Hue Adjustment Yellow | 0 |
| Hyperfocal Distance | 7.20 m |
| ISO | 400 |
| Image Size | 2288x2101 |
| Label | Red |
| Lens Manual Distortion Amount | 0 |
| Lens Profile Enable | 0 |
| Lens Profile Setup | LensDefaults |
| Light Source | Unknown |
| Light Value | 13.4 |
| Luminance Adjustment Aqua | 0 |
| Luminance Adjustment Blue | 0 |
| Luminance Adjustment Green | 0 |
| Luminance Adjustment Magenta | 0 |
| Luminance Adjustment Orange | 0 |
| Luminance Adjustment Purple | 0 |
| Luminance Adjustment Red | 0 |
| Luminance Adjustment Yellow | 0 |
| Luminance Smoothing | 0 |
| Metering Mode | Multi-segment |
| Parametric Darks | 0 |
| Parametric Highlight Split | 75 |
| Parametric Highlights | 0 |
| Parametric Lights | 0 |
| Parametric Midtone Split | 50 |
| Parametric Shadow Split | 25 |
| Parametric Shadows | 0 |
| Perspective Aspect | 0 |
| Perspective Horizontal | 0 |
| Perspective Rotate | 0.0 |
| Perspective Scale | 100 |
| Perspective Upright | 0 |
| Perspective Vertical | 0 |
| Perspective X | 0.00 |
| Perspective Y | 0.00 |
| Post Crop Vignette Amount | 0 |
| Process Version | 6.7 |
| Rating | 2 |
| Red Hue | 0 |
| Red Saturation | 0 |
| Saturation | 0 |
| Saturation Adjustment Aqua | 0 |
| Saturation Adjustment Blue | 0 |
| Saturation Adjustment Green | 0 |
| Saturation Adjustment Magenta | 0 |
| Saturation Adjustment Orange | 0 |
| Saturation Adjustment Purple | 0 |
| Saturation Adjustment Red | 0 |
| Saturation Adjustment Yellow | 0 |
| Scale Factor To 35 mm Equivalent | 2.9 |
| Scene Capture Type | Standard |
| Scene Type | Directly photographed |
| Sensing Method | One-chip color area |
| Sensitivity Type | Standard Output Sensitivity |
| Shadow Tint | 0 |
| Shadows 2012 | +19 |
| Sharpen Detail | 25 |
| Sharpen Edge Masking | 0 |
| Sharpen Radius | +1.0 |
| Sharpness | Normal |
| Split Toning Balance | 0 |
| Split Toning Highlight Hue | 0 |
| Split Toning Highlight Saturation | 0 |
| Split Toning Shadow Hue | 0 |
| Split Toning Shadow Saturation | 0 |
| Subject Distance Range | Unknown |
| Tint | +11 |
| Tone Curve | 0, 0, 255, 255 |
| Tone Curve Blue | 0, 0, 255, 255 |
| Tone Curve Green | 0, 0, 255, 255 |
| Tone Curve Name | Linear |
| Tone Curve Name 2012 | Linear |
| Tone Curve PV2012 | 0, 0, 255, 255 |
| Tone Curve PV2012 Blue | 0, 0, 255, 255 |
| Tone Curve PV2012 Green | 0, 0, 255, 255 |
| Tone Curve PV2012 Red | 0, 0, 255, 255 |
| Tone Curve Red | 0, 0, 255, 255 |
| Tone Map Strength | 0 |
| Version | 9.9 |
| Vibrance | 0 |
| Vignette Amount | 0 |
| White Balance | Auto |
| Whites 2012 | 0 |
X