Shooting information for this photo
| Camera: | NIKON CORPORATION NIKON D300 |
| Exposure: | 0.02222 sec. (1/45) |
| Aperture: | f/2.8 |
| Focal Length: | 17.0 mm (35 mm equivalent: 25.0 mm) |
| Flash: | No Flash |
| Exposure mode: | Manual |
| Max Aperture: | 2.8 |
| Resolution: | 240 x 240 dpi |
| Original Date: | 2014:06:05 09:25:29 |
| Created on: | 2014:06:05 09:25:29 |
| Modified on: | 2014:07:22 15:08:03 |
| Software: | Adobe Photoshop Lightroom 5.5 (Windows) |
| Already Applied | True |
| Approximate Focus Distance | 2.99 |
| Auto Lateral CA | 0 |
| Auto White Version | 134348800 |
| Blacks 2012 | -19 |
| Blue Hue | 0 |
| Blue Saturation | 0 |
| Camera Profile | Embedded |
| Circle Of Confusion | 0.020 mm |
| City | Lugano |
| Clarity 2012 | +24 |
| Color Noise Reduction | 0 |
| Contrast | Normal |
| Contrast 2012 | +9 |
| Convert To Grayscale | False |
| Country | Switzerland |
| Crop Angle | 0 |
| Crop Bottom | 0.985975 |
| Crop Constrain To Warp | 0 |
| Crop Left | 0 |
| Crop Right | 1 |
| Crop Top | 0 |
| Custom Rendered | Normal |
| Date Created | 2014:06:05 09:25:29-04:00 |
| Defringe Green Amount | 0 |
| Defringe Green Hue Hi | 60 |
| Defringe Green Hue Lo | 40 |
| Defringe Purple Amount | 0 |
| Defringe Purple Hue Hi | 70 |
| Defringe Purple Hue Lo | 30 |
| Depth Of Field | 5.38 m (1.88 - 7.27) |
| Digital Zoom Ratio | 1 |
| Exposure 2012 | +0.90 |
| Exposure Compensation | 0 |
| Exposure Mode | Manual |
| Field Of View | 71.5 deg |
| Focal Length In 35mm Format | 25 mm |
| Format | image/jpeg |
| Gain Control | Low gain up |
| Grain Amount | 0 |
| Green Hue | 0 |
| Green Saturation | 0 |
| Has Crop | True |
| Has Settings | True |
| Highlights 2012 | -36 |
| Hue Adjustment Aqua | 0 |
| Hue Adjustment Blue | 0 |
| Hue Adjustment Green | 0 |
| Hue Adjustment Magenta | 0 |
| Hue Adjustment Orange | 0 |
| Hue Adjustment Purple | 0 |
| Hue Adjustment Red | 0 |
| Hue Adjustment Yellow | 0 |
| Hyperfocal Distance | 5.05 m |
| ISO | 400 |
| Image Number | 26380 |
| Image Size | 4288x2808 |
| Incremental Temperature | 0 |
| Incremental Tint | 0 |
| Label | Red |
| Lens | 17.0-55.0 mm f/2.8 |
| Lens ID | AF-S DX Zoom-Nikkor 17-55mm f/2.8G IF-ED |
| Lens Info | 17-55mm f/2.8 |
| Lens Manual Distortion Amount | 0 |
| Lens Model | 17.0-55.0 mm f/2.8 |
| Lens Profile Enable | 0 |
| Lens Profile Setup | LensDefaults |
| Light Source | Flash |
| Light Value | 6.5 |
| Luminance Adjustment Aqua | 0 |
| Luminance Adjustment Blue | 0 |
| Luminance Adjustment Green | 0 |
| Luminance Adjustment Magenta | 0 |
| Luminance Adjustment Orange | 0 |
| Luminance Adjustment Purple | 0 |
| Luminance Adjustment Red | 0 |
| Luminance Adjustment Yellow | 0 |
| Luminance Smoothing | 0 |
| Metering Mode | Center-weighted average |
| Parametric Darks | 0 |
| Parametric Highlight Split | 75 |
| Parametric Highlights | 0 |
| Parametric Lights | 0 |
| Parametric Midtone Split | 50 |
| Parametric Shadow Split | 25 |
| Parametric Shadows | 0 |
| Perspective Aspect | 0 |
| Perspective Horizontal | 0 |
| Perspective Rotate | 0.0 |
| Perspective Scale | 100 |
| Perspective Upright | 0 |
| Perspective Vertical | 0 |
| Post Crop Vignette Amount | 0 |
| Process Version | 6.7 |
| Rating | 1 |
| Red Hue | 0 |
| Red Saturation | 0 |
| Saturation | Normal |
| Saturation Adjustment Aqua | 0 |
| Saturation Adjustment Blue | 0 |
| Saturation Adjustment Green | 0 |
| Saturation Adjustment Magenta | 0 |
| Saturation Adjustment Orange | 0 |
| Saturation Adjustment Purple | 0 |
| Saturation Adjustment Red | 0 |
| Saturation Adjustment Yellow | 0 |
| Scale Factor To 35 mm Equivalent | 1.5 |
| Scene Capture Type | Standard |
| Scene Type | Directly photographed |
| Sensing Method | One-chip color area |
| Shadow Tint | 0 |
| Shadows 2012 | 0 |
| Sharpen Detail | 25 |
| Sharpen Edge Masking | 0 |
| Sharpen Radius | +1.0 |
| Sharpness | Normal |
| Split Toning Balance | 0 |
| Split Toning Highlight Hue | 0 |
| Split Toning Highlight Saturation | 0 |
| Split Toning Shadow Hue | 0 |
| Split Toning Shadow Saturation | 0 |
| State | Ticino |
| Subject Distance | 2.99 m |
| Subject Distance Range | Unknown |
| Tone Curve | 0, 0, 255, 255 |
| Tone Curve Blue | 0, 0, 255, 255 |
| Tone Curve Green | 0, 0, 255, 255 |
| Tone Curve Name | Linear |
| Tone Curve Name 2012 | Linear |
| Tone Curve PV2012 | 0, 0, 255, 255 |
| Tone Curve PV2012 Blue | 0, 0, 255, 255 |
| Tone Curve PV2012 Green | 0, 0, 255, 255 |
| Tone Curve PV2012 Red | 0, 0, 255, 255 |
| Tone Curve Red | 0, 0, 255, 255 |
| Version | 8.5 |
| Vibrance | +12 |
| Vignette Amount | 0 |
| White Balance | Manual |
| Whites 2012 | 0 |
GPS Information |
| GPS Altitude | 298 m Above Sea Level |
| GPS Altitude Ref | Above Sea Level |
| GPS Date Stamp | 2014:06:05 |
| GPS Date/Time | 2014:06:05 07:21:29Z |
| GPS Latitude | 45 deg 59' 59.87" N |
| GPS Latitude Ref | North |
| GPS Longitude | 8 deg 56' 57.98" E |
| GPS Longitude Ref | East |
| GPS Position | 45 deg 59' 59.87" N, 8 deg 56' 57.98" E |
| GPS Satellites | 04 |
| GPS Time Stamp | 07:21:29 |
| GPS Version ID | 2.2.0.0 |
X