Shooting information for this photo
| Camera: | NIKON CORPORATION NIKON D300 |
| Exposure: | 0.01111 sec. (1/90) |
| Aperture: | f/1.4 |
| Focal Length: | 50.0 mm (35 mm equivalent: 75.0 mm) |
| Flash: | No Flash |
| Exposure mode: | Manual |
| Max Aperture: | 1.4 |
| Resolution: | 240 x 240 dpi |
| Dimension: | 2603 x 3254 pixels |
| Original Date: | 2012:05:09 20:53:39.17 |
| Digitized Date: | 2012:05:09 20:53:39.17-04:00 |
| Created on: | 2012:05:09 20:53:39.17 |
| Modified on: | 2012:05:22 14:29:48 |
| Software: | Ver.1.10 |
| Already Applied | True |
| Blue Hue | 0 |
| Blue Saturation | 0 |
| Brightness | +74 |
| CFA Pattern | [Red,Green][Green,Blue] |
| Camera Profile | Camera Neutral beta 2 |
| Chromatic Aberration B | 0 |
| Chromatic Aberration R | 0 |
| Circle Of Confusion | 0.020 mm |
| Clarity | +49 |
| Color Noise Reduction | 25 |
| Color Noise Reduction Detail | 50 |
| Color Temperature | 5650 |
| Contrast | Normal |
| Convert To Grayscale | False |
| Crop Angle | 0 |
| Crop Bottom | 0.995788 |
| Crop Constrain To Warp | 0 |
| Crop Height | 2603 |
| Crop Left | 0.140444 |
| Crop Right | 0.899239 |
| Crop Top | 0.081824 |
| Crop Unit | pixels |
| Crop Width | 3254 |
| Custom Rendered | Normal |
| Defringe | 0 |
| Depth Of Field | 0.56 m (4.75 - 5.31) |
| Digital Zoom Ratio | 1 |
| Exposure | 0.00 |
| Exposure Compensation | 0 |
| Exposure Mode | Manual |
| Field Of View | 27.0 deg |
| Fill Light | 34 |
| Flash Fired | False |
| Flash Function | False |
| Flash Mode | Unknown |
| Flash Red Eye Mode | False |
| Flash Return | No return detection |
| Focal Length In 35mm Format | 75 mm |
| Gain Control | Low gain up |
| Grain Amount | 0 |
| Green Hue | 0 |
| Green Saturation | 0 |
| Has Crop | True |
| Has Settings | True |
| Highlight Recovery | 0 |
| Hue Adjustment Aqua | 0 |
| Hue Adjustment Blue | 0 |
| Hue Adjustment Green | 0 |
| Hue Adjustment Magenta | 0 |
| Hue Adjustment Orange | 0 |
| Hue Adjustment Purple | 0 |
| Hue Adjustment Red | 0 |
| Hue Adjustment Yellow | 0 |
| Hyperfocal Distance | 89.15 m |
| ISO | 400 |
| Image Number | 19068 |
| Image Size | 2603x3254 |
| Label | Green |
| Lens | 50.0 mm f/1.4 |
| Lens ID | AF Nikkor 50mm f/1.4D |
| Lens Info | 50mm f/1.4 |
| Lens Manual Distortion Amount | 0 |
| Lens Profile Enable | 0 |
| Lens Profile Setup | LensDefaults |
| Light Source | Cloudy |
| Light Value | 5.5 |
| Luminance Adjustment Aqua | 0 |
| Luminance Adjustment Blue | 0 |
| Luminance Adjustment Green | 0 |
| Luminance Adjustment Magenta | 0 |
| Luminance Adjustment Orange | 0 |
| Luminance Adjustment Purple | 0 |
| Luminance Adjustment Red | 0 |
| Luminance Adjustment Yellow | 0 |
| Luminance Smoothing | 0 |
| Metering Mode | Multi-segment |
| Paint Correction Active | true |
| Paint Correction Amount | 1.000000 |
| Paint Correction Brightness | 0.024000 |
| Paint Correction Clarity | 0.000000 |
| Paint Correction Contrast | 0.000000 |
| Paint Correction Exposure | -0.244000 |
| Paint Correction Hue | 230.000000 |
| Paint Correction Mask Center Weight | 0.206133 |
| Paint Correction Mask Flow | 0.847000 |
| Paint Correction Mask Radius | 0.158995 |
| Paint Correction Mask Value | 0.700000 |
| Paint Correction Mask What | Mask/Paint |
| Paint Correction Saturation | 0.000000 |
| Paint Correction Sharpness | 0.000000 |
| Paint Correction What | Correction |
| Parametric Darks | 0 |
| Parametric Highlight Split | 75 |
| Parametric Highlights | 0 |
| Parametric Lights | 0 |
| Parametric Midtone Split | 50 |
| Parametric Shadow Split | 25 |
| Parametric Shadows | 0 |
| Perspective Horizontal | 0 |
| Perspective Rotate | 0.0 |
| Perspective Scale | 100 |
| Perspective Vertical | 0 |
| Post Crop Vignette Amount | 0 |
| Process Version | 5.7 |
| Rating | 2 |
| Red Hue | 0 |
| Red Saturation | 0 |
| Saturation | Normal |
| Saturation Adjustment Aqua | 0 |
| Saturation Adjustment Blue | 0 |
| Saturation Adjustment Green | 0 |
| Saturation Adjustment Magenta | 0 |
| Saturation Adjustment Orange | 0 |
| Saturation Adjustment Purple | 0 |
| Saturation Adjustment Red | 0 |
| Saturation Adjustment Yellow | 0 |
| Scale Factor To 35 mm Equivalent | 1.5 |
| Scene Capture Type | Standard |
| Scene Type | Directly photographed |
| Sensing Method | One-chip color area |
| Shadow Tint | 0 |
| Shadows | 14 |
| Sharpen Detail | 25 |
| Sharpen Edge Masking | 0 |
| Sharpen Radius | +1.0 |
| Sharpness | Normal |
| Split Toning Balance | 0 |
| Split Toning Highlight Hue | 0 |
| Split Toning Highlight Saturation | 0 |
| Split Toning Shadow Hue | 0 |
| Split Toning Shadow Saturation | 0 |
| Subject Distance | 5.01 m |
| Subject Distance Range | Unknown |
| Tint | -1 |
| Tone Curve | 0, 0, 32, 22, 64, 56, 128, 128, 192, 196, 255, 255 |
| Tone Curve Name | Medium Contrast |
| Version | 6.1 |
| Vibrance | +36 |
| Vignette Amount | 0 |
| White Balance | Manual |
GPS Information |
| GPS Altitude | 7 m Above Sea Level |
| GPS Altitude Ref | Above Sea Level |
| GPS Date Stamp | 2012:05:10 |
| GPS Date/Time | 2012:05:10 00:51:05Z |
| GPS Latitude | 29 deg 57' 28.06" N |
| GPS Latitude Ref | North |
| GPS Longitude | 90 deg 3' 59.25" W |
| GPS Longitude Ref | West |
| GPS Position | 29 deg 57' 28.06" N, 90 deg 3' 59.25" W |
| GPS Satellites | 09 |
| GPS Time Stamp | 00:51:05 |
| GPS Version ID | 2.2.0.0 |
X