Shooting information for this photo
| Camera: | NIKON COOLPIX P510 |
| Exposure: | 0.008 sec. (1/125) |
| Aperture: | f/3.0 |
| Focal Length: | 4.3 mm (35 mm equivalent: 24.0 mm) |
| Flash: | Off, Did not fire |
| Exposure mode: | Program AE |
| Max Aperture: | 3.0 |
| Resolution: | 240 x 240 dpi |
| Dimension: | 4203 x 3152 pixels |
| Original Date: | 2013:01:26 12:46:28 |
| Digitized Date: | 2013:01:26 12:46:28-05:00 |
| Created on: | 2013:01:26 12:46:28 |
| Modified on: | 2013:02:08 07:31:10 |
| Software: | COOLPIX P510 V1.0 |
| Copyright: | (C)2011 Kathleen E. Thorpe |
| Already Applied | True |
| Blue Hue | 0 |
| Blue Saturation | 0 |
| Brightness | 0 |
| Camera Profile | Embedded |
| Chromatic Aberration B | 0 |
| Chromatic Aberration R | 0 |
| Circle Of Confusion | 0.005 mm |
| Clarity | +49 |
| Color Noise Reduction | 0 |
| Contrast | Normal |
| Convert To Grayscale | False |
| Crop Angle | 0 |
| Crop Bottom | 0.956044 |
| Crop Constrain To Warp | 0 |
| Crop Height | 3152 |
| Crop Left | 0.087912 |
| Crop Right | 1 |
| Crop Top | 0.043956 |
| Crop Unit | pixels |
| Crop Width | 4203 |
| Custom Rendered | Normal |
| Defringe | 0 |
| Digital Zoom Ratio | 0 |
| Exposure | 0.00 |
| Exposure Compensation | 0 |
| Exposure Mode | Auto |
| Field Of View | 73.7 deg |
| Fill Light | 0 |
| Flash Fired | False |
| Flash Function | False |
| Flash Mode | Off |
| Flash Red Eye Mode | False |
| Flash Return | No return detection |
| Focal Length In 35mm Format | 24 mm |
| Gain Control | Low gain up |
| Grain Amount | 0 |
| Green Hue | 0 |
| Green Saturation | 0 |
| Has Crop | True |
| Has Settings | True |
| Highlight Recovery | 0 |
| Hue Adjustment Aqua | 0 |
| Hue Adjustment Blue | 0 |
| Hue Adjustment Green | 0 |
| Hue Adjustment Magenta | 0 |
| Hue Adjustment Orange | 0 |
| Hue Adjustment Purple | 0 |
| Hue Adjustment Red | 0 |
| Hue Adjustment Yellow | 0 |
| Hyperfocal Distance | 1.14 m |
| ISO | 200 |
| Image Size | 4203x3152 |
| Incremental Temperature | 0 |
| Incremental Tint | 0 |
| Label | Green |
| Lens Manual Distortion Amount | 0 |
| Lens Profile Enable | 0 |
| Lens Profile Setup | LensDefaults |
| Light Source | Unknown |
| Light Value | 9.1 |
| Luminance Adjustment Aqua | -55 |
| Luminance Adjustment Blue | -55 |
| Luminance Adjustment Green | -48 |
| Luminance Adjustment Magenta | 0 |
| Luminance Adjustment Orange | 0 |
| Luminance Adjustment Purple | 0 |
| Luminance Adjustment Red | 0 |
| Luminance Adjustment Yellow | 0 |
| Luminance Smoothing | 0 |
| Marked | True |
| Metering Mode | Multi-segment |
| Parametric Darks | 0 |
| Parametric Highlight Split | 75 |
| Parametric Highlights | 0 |
| Parametric Lights | 0 |
| Parametric Midtone Split | 50 |
| Parametric Shadow Split | 25 |
| Parametric Shadows | 0 |
| Perspective Horizontal | 0 |
| Perspective Rotate | 0.0 |
| Perspective Scale | 100 |
| Perspective Vertical | 0 |
| Post Crop Vignette Amount | 0 |
| Process Version | 5.7 |
| Rating | 1 |
| Red Hue | 0 |
| Red Saturation | 0 |
| Rights | ©2011 Kathleen E. Thorpe |
| Saturation | Normal |
| Saturation Adjustment Aqua | 0 |
| Saturation Adjustment Blue | 0 |
| Saturation Adjustment Green | 0 |
| Saturation Adjustment Magenta | 0 |
| Saturation Adjustment Orange | 0 |
| Saturation Adjustment Purple | 0 |
| Saturation Adjustment Red | 0 |
| Saturation Adjustment Yellow | 0 |
| Scale Factor To 35 mm Equivalent | 5.6 |
| Scene Capture Type | Standard |
| Scene Type | Directly photographed |
| Shadow Tint | 0 |
| Shadows | 18 |
| Sharpen Detail | 25 |
| Sharpen Edge Masking | 0 |
| Sharpen Radius | +1.0 |
| Sharpness | Normal |
| Split Toning Balance | 0 |
| Split Toning Highlight Hue | 0 |
| Split Toning Highlight Saturation | 0 |
| Split Toning Shadow Hue | 0 |
| Split Toning Shadow Saturation | 0 |
| Subject Distance Range | Unknown |
| Tone Curve | 0, 0, 255, 255 |
| Tone Curve Name | Linear |
| Version | 6.1 |
| Vibrance | +22 |
| Vignette Amount | 0 |
| White Balance | Auto |
X