Shooting information for this photo
| Camera: | Hewlett-Packard HP PhotoSmart C945 (V01.60) |
| Exposure: | 0.8 sec. |
| Aperture: | f/12.0 |
| Focal Length: | 38.2 mm (35 mm equivalent: 186.0 mm) |
| Flash: | Off, Did not fire |
| Exposure mode: | Aperture-priority AE |
| Max Aperture: | 2.6 |
| Resolution: | 240 x 240 dpi |
| Dimension: | 2608 x 1952 pixels |
| Original Date: | 2012:03:07 15:25:23 |
| Digitized Date: | 2012:03:07 15:25:23-05:00 |
| Created on: | 2012:03:07 15:25:23 |
| Modified on: | 2012:03:20 07:44:10 |
| Software: | Adobe Photoshop CS4 Windows |
| Copyright: | (C)2011 Kathleen E. Thorpe |
| Already Applied | True |
| Blue Hue | 0 |
| Blue Saturation | 0 |
| Brightness | 0 |
| Brightness Value | 2.3828125 |
| Camera Profile | Embedded |
| Chromatic Aberration B | 0 |
| Chromatic Aberration R | 0 |
| Circle Of Confusion | 0.006 mm |
| Clarity | +52 |
| Color Noise Reduction | 0 |
| Color Space | Uncalibrated |
| Contrast | Normal |
| Convert To Grayscale | False |
| Custom Rendered | Normal |
| Defringe | 0 |
| Exposure | 0.00 |
| Exposure Compensation | 0 |
| Exposure Index | 100 |
| Exposure Mode | Auto |
| Field Of View | 11.1 deg |
| Fill Light | 23 |
| Flash Fired | False |
| Flash Function | False |
| Flash Mode | Off |
| Flash Red Eye Mode | False |
| Flash Return | No return detection |
| Focal Length In 35mm Format | 186 mm |
| Format | image/tiff |
| Gain Control | Low gain up |
| Grain Amount | 0 |
| Green Hue | 0 |
| Green Saturation | 0 |
| Has Crop | False |
| Has Settings | True |
| Highlight Recovery | 0 |
| Hue Adjustment Aqua | 0 |
| Hue Adjustment Blue | 0 |
| Hue Adjustment Green | 0 |
| Hue Adjustment Magenta | 0 |
| Hue Adjustment Orange | 0 |
| Hue Adjustment Purple | 0 |
| Hue Adjustment Red | 0 |
| Hue Adjustment Yellow | 0 |
| Hyperfocal Distance | 19.72 m |
| ISO | 100 |
| Image Size | 2608x1952 |
| Incremental Temperature | 0 |
| Incremental Tint | 0 |
| Label | Green |
| Lens Manual Distortion Amount | 0 |
| Lens Profile Enable | 0 |
| Lens Profile Setup | LensDefaults |
| Light Source | Standard Light A |
| Light Value | 7.5 |
| Luminance Adjustment Aqua | 0 |
| Luminance Adjustment Blue | 0 |
| Luminance Adjustment Green | 0 |
| Luminance Adjustment Magenta | 0 |
| Luminance Adjustment Orange | 0 |
| Luminance Adjustment Purple | 0 |
| Luminance Adjustment Red | 0 |
| Luminance Adjustment Yellow | 0 |
| Luminance Smoothing | 0 |
| Marked | True |
| Metering Mode | Center-weighted average |
| Parametric Darks | 0 |
| Parametric Highlight Split | 75 |
| Parametric Highlights | 0 |
| Parametric Lights | 0 |
| Parametric Midtone Split | 50 |
| Parametric Shadow Split | 25 |
| Parametric Shadows | 0 |
| Perspective Horizontal | 0 |
| Perspective Rotate | 0.0 |
| Perspective Scale | 100 |
| Perspective Vertical | 0 |
| Post Crop Vignette Amount | 0 |
| Process Version | 5.7 |
| Rating | 1 |
| Red Hue | 0 |
| Red Saturation | 0 |
| Rights | ©2011 Kathleen E. Thorpe |
| Saturation | Normal |
| Saturation Adjustment Aqua | 0 |
| Saturation Adjustment Blue | 0 |
| Saturation Adjustment Green | 0 |
| Saturation Adjustment Magenta | 0 |
| Saturation Adjustment Orange | 0 |
| Saturation Adjustment Purple | 0 |
| Saturation Adjustment Red | 0 |
| Saturation Adjustment Yellow | 0 |
| Scale Factor To 35 mm Equivalent | 4.9 |
| Scene Capture Type | Standard |
| Scene Type | Directly photographed |
| Sensing Method | Not defined |
| Shadow Tint | 0 |
| Shadows | 9 |
| Sharpen Detail | 25 |
| Sharpen Edge Masking | 0 |
| Sharpen Radius | +1.0 |
| Sharpness | Normal |
| Split Toning Balance | 0 |
| Split Toning Highlight Hue | 0 |
| Split Toning Highlight Saturation | 0 |
| Split Toning Shadow Hue | 0 |
| Split Toning Shadow Saturation | 0 |
| Subject Distance Range | Distant |
| Tone Curve | 0, 0, 255, 255 |
| Tone Curve Name | Linear |
| Version | 6.1 |
| Vibrance | 0 |
| Vignette Amount | 0 |
| White Balance | Auto |
X