Shooting information for this photo
| Camera: | NIKON CORPORATION NIKON D300 |
| Exposure: | 0.004 sec. (1/250) |
| Aperture: | f/38.0 |
| Focal Length: | 60.0 mm (35 mm equivalent: 90.0 mm) |
| Flash: | On, Return not detected |
| Exposure mode: | Manual |
| Max Aperture: | 3.0 |
| Resolution: | 240 x 240 dpi |
| Dimension: | 2848 x 4288 pixels |
| Original Date: | 2010:09:01 16:05:54.76 |
| Digitized Date: | 2010:09:01 16:05:54.76-04:00 |
| Created on: | 2010:09:01 16:05:54.76 |
| Modified on: | 2010:09:15 14:42:41 |
| Software: | Ver.1.10 |
| Copyright: | (C)2010 Kathleen E. Thorpe |
| Already Applied | True |
| Blue Hue | +11 |
| Blue Saturation | -21 |
| Brightness | +64 |
| Camera Profile | Adobe Standard |
| Chromatic Aberration B | 0 |
| Chromatic Aberration R | 0 |
| Circle Of Confusion | 0.020 mm |
| Clarity | 0 |
| Color Noise Reduction | 25 |
| Color Noise Reduction Detail | 50 |
| Color Space | Uncalibrated |
| Contrast | Normal |
| Convert To Grayscale | True |
| Custom Rendered | Normal |
| Defringe | 0 |
| Depth Of Field | 0.06 m (0.39 - 0.45) |
| Digital Zoom Ratio | 1 |
| Exposure | 0.00 |
| Exposure Compensation | 0 |
| Exposure Mode | Manual |
| Field Of View | 22.6 deg |
| Fill Light | 0 |
| Flash Fired | True |
| Flash Function | False |
| Flash Mode | On |
| Flash Red Eye Mode | False |
| Flash Return | Return not detected |
| Focal Length In 35mm Format | 90 mm |
| Format | image/tiff |
| Gain Control | None |
| Grain Amount | 0 |
| Gray Mixer Aqua | -10 |
| Gray Mixer Blue | +19 |
| Gray Mixer Green | -9 |
| Gray Mixer Magenta | +30 |
| Gray Mixer Orange | +20 |
| Gray Mixer Purple | +25 |
| Gray Mixer Red | +34 |
| Gray Mixer Yellow | +9 |
| Green Hue | +16 |
| Green Saturation | +51 |
| Has Crop | False |
| Has Settings | True |
| Highlight Recovery | 0 |
| Hyperfocal Distance | 4.73 m |
| ISO | 200 |
| Image Number | 6674 |
| Image Size | 2848x4288 |
| Incremental Temperature | 0 |
| Incremental Tint | 0 |
| Lens | 60.0 mm f/2.8 |
| Lens ID | AF-S Micro Nikkor 60mm f/2.8G ED |
| Lens Info | 60mm f/2.8 |
| Lens Manual Distortion Amount | 0 |
| Lens Profile Enable | 0 |
| Lens Profile Setup | LensDefaults |
| Light Source | Unknown |
| Light Value | 17.5 |
| Luminance Smoothing | 0 |
| Marked | True |
| Metering Mode | Spot |
| Parametric Darks | 0 |
| Parametric Highlight Split | 75 |
| Parametric Highlights | 0 |
| Parametric Lights | -2 |
| Parametric Midtone Split | 50 |
| Parametric Shadow Split | 25 |
| Parametric Shadows | 0 |
| Perspective Horizontal | 0 |
| Perspective Rotate | 0.0 |
| Perspective Scale | 100 |
| Perspective Vertical | 0 |
| Post Crop Vignette Amount | 0 |
| Process Version | 5.7 |
| Rating | 2 |
| Red Hue | +23 |
| Red Saturation | +10 |
| Rights | ©2010 Kathleen E. Thorpe |
| Saturation | Normal |
| Scale Factor To 35 mm Equivalent | 1.5 |
| Scene Capture Type | Standard |
| Scene Type | Directly photographed |
| Sensing Method | One-chip color area |
| Shadow Tint | +4 |
| Shadows | 0 |
| Sharpen Detail | 25 |
| Sharpen Edge Masking | 0 |
| Sharpen Radius | +1.0 |
| Sharpness | Normal |
| Split Toning Balance | 0 |
| Split Toning Highlight Hue | 215 |
| Split Toning Highlight Saturation | 49 |
| Split Toning Shadow Hue | 216 |
| Split Toning Shadow Saturation | 12 |
| Subject Distance | 0.42 m |
| Subject Distance Range | Unknown |
| Tone Curve | 0, 0, 255, 255 |
| Tone Curve Name | Linear |
| Version | 6.1 |
| Vignette Amount | -100 |
| Vignette Midpoint | 40 |
| White Balance | Auto |
X