Shooting information for this photo
Camera: | NIKON CORPORATION NIKON D300 |
Exposure: | 0.004 sec. (1/250) |
Aperture: | f/8.0 |
Focal Length: | 19.0 mm (35 mm equivalent: 28.0 mm) |
Flash: | No Flash |
Exposure mode: | Manual |
Max Aperture: | 2.8 |
Resolution: | 240 x 240 dpi |
Dimension: | 3892 x 2585 pixels |
Original Date: | 2012:11:27 11:46:46.00 |
Digitized Date: | 2012:11:27 11:46:46.00-05:00 |
Created on: | 2012:11:27 11:46:46.00 |
Modified on: | 2012:12:30 09:13:11 |
Software: | Adobe Photoshop Lightroom |
Already Applied | True |
Black Clip | 0.010350 |
Blue Hue | 0 |
Blue Saturation | 0 |
Brightness | 0 |
Camera Profile | Embedded |
Chromatic Aberration B | 0 |
Chromatic Aberration R | 0 |
Circle Of Confusion | 0.020 mm |
Clarity | 0 |
Color Noise Reduction | 0 |
Color Saturation | 50.0 |
Color Temperature | 0.0 |
Contrast | Normal |
Convert To Grayscale | False |
Crop Angle | 1.00322 |
Crop Bottom | 0.937134 |
Crop Constrain To Warp | 1 |
Crop Height | 2585 |
Crop Left | 0.080206 |
Crop Right | 0.97717 |
Crop Top | 0.005689 |
Crop Unit | pixels |
Crop Width | 3892 |
Custom Rendered | Normal |
Defringe | 0 |
Depth Of Field | inf (1.40 m - inf) |
Digital Zoom Ratio | 1 |
Exposure | 0.00 |
Exposure Compensation | 0 |
Exposure Mode | Manual |
Field Of View | 65.5 deg |
Fill Light | 21 |
Flash Fired | False |
Flash Function | False |
Flash Mode | Unknown |
Flash Red Eye Mode | False |
Flash Return | No return detection |
Focal Length In 35mm Format | 28 mm |
Gain Control | None |
Gamma | 1.0 |
Grain Amount | 0 |
Green Hue | 0 |
Green Saturation | 0 |
Has Crop | True |
Has Settings | True |
Highlight Recovery | 0 |
Highlights Smoothing | 0.0 |
Hue Adjustment Aqua | 0 |
Hue Adjustment Blue | 0 |
Hue Adjustment Green | 0 |
Hue Adjustment Magenta | 0 |
Hue Adjustment Orange | 0 |
Hue Adjustment Purple | 0 |
Hue Adjustment Red | 0 |
Hue Adjustment Yellow | 0 |
Hyperfocal Distance | 2.21 m |
ISO | 200 |
Image Number | 20767 |
Image Size | 3892x2585 |
Incremental Temperature | 0 |
Incremental Tint | 0 |
Label | Green |
Lens | 17.0-55.0 mm f/2.8 |
Lens ID | AF-S DX Zoom-Nikkor 17-55mm f/2.8G IF-ED |
Lens Info | 17-55mm f/2.8 |
Lens Manual Distortion Amount | 0 |
Lens Profile Enable | 0 |
Lens Profile Setup | LensDefaults |
Light Source | Unknown |
Light Value | 13.0 |
Luminance Adjustment Aqua | 0 |
Luminance Adjustment Blue | 0 |
Luminance Adjustment Green | 0 |
Luminance Adjustment Magenta | 0 |
Luminance Adjustment Orange | 0 |
Luminance Adjustment Purple | 0 |
Luminance Adjustment Red | 0 |
Luminance Adjustment Yellow | 0 |
Luminance Smoothing | 0 |
Luminosity | 6.0 |
Metering Mode | Multi-segment |
Method | Details Enhancer |
Microcontrast | 6.0 |
Microsmoothing | 3.0 |
Parametric Darks | 0 |
Parametric Highlight Split | 75 |
Parametric Highlights | 0 |
Parametric Lights | 0 |
Parametric Midtone Split | 50 |
Parametric Shadow Split | 25 |
Parametric Shadows | 0 |
Perspective Horizontal | +13 |
Perspective Rotate | 0.0 |
Perspective Scale | 100 |
Perspective Vertical | -31 |
Post Crop Vignette Amount | 0 |
Process Version | 5.7 |
Rating | 1 |
Red Hue | 0 |
Red Saturation | 0 |
Saturation | Normal |
Saturation Adjustment Aqua | 0 |
Saturation Adjustment Blue | 0 |
Saturation Adjustment Green | 0 |
Saturation Adjustment Magenta | 0 |
Saturation Adjustment Orange | 0 |
Saturation Adjustment Purple | 0 |
Saturation Adjustment Red | 0 |
Saturation Adjustment Yellow | 0 |
Saturation Highlights | 0.0 |
Saturation Shadows | 0.0 |
Scale Factor To 35 mm Equivalent | 1.5 |
Scene Capture Type | Standard |
Scene Type | Directly photographed |
Sensing Method | One-chip color area |
Shadow Tint | 0 |
Shadows | 16 |
Shadows Clipping | 0.0 |
Shadows Smoothing | 0.0 |
Sharpen Detail | 25 |
Sharpen Edge Masking | 0 |
Sharpen Radius | +1.0 |
Sharpness | Normal |
Smoothing | Medium |
Smoothing Mode | Light |
Split Toning Balance | 0 |
Split Toning Highlight Hue | 0 |
Split Toning Highlight Saturation | 0 |
Split Toning Shadow Hue | 0 |
Split Toning Shadow Saturation | 0 |
Strength | 100.0 |
Subject Distance | 3.76 m |
Subject Distance Range | Unknown |
Tone Curve | 0, 0, 255, 255 |
Tone Curve Name | Linear |
Version | 6.1 |
Vibrance | 0 |
Vignette Amount | 0 |
White Balance | Auto |
White Clip | 0.490350 |