Shooting information for this photo
| Camera: | NIKON CORPORATION NIKON D300 |
| Exposure: | 0.008 sec. (1/125) |
| Aperture: | f/8.0 |
| Focal Length: | 55.0 mm (35 mm equivalent: 82.0 mm) |
| Flash: | No Flash |
| Exposure mode: | Manual |
| Max Aperture: | 2.8 |
| Resolution: | 240 x 240 dpi |
| Dimension: | 2032 x 2032 pixels |
| Original Date: | 2012:07:03 10:58:50.43 |
| Digitized Date: | 2012:07:03 10:58:50.43-04:00 |
| Created on: | 2012:07:03 10:58:50.43 |
| Modified on: | 2012:07:25 15:15:37 |
| Software: | Ver.1.10 |
| Already Applied | True |
| Blue Hue | 0 |
| Blue Saturation | 0 |
| Brightness | +50 |
| CFA Pattern | [Red,Green][Green,Blue] |
| Camera Profile | Camera Neutral beta 2 |
| Chromatic Aberration B | 0 |
| Chromatic Aberration R | 0 |
| Circle Of Confusion | 0.020 mm |
| Clarity | +54 |
| Color Noise Reduction | 25 |
| Color Noise Reduction Detail | 50 |
| Color Temperature | 5650 |
| Contrast | Normal |
| Convert To Grayscale | False |
| Crop Angle | 0 |
| Crop Bottom | 0.997245 |
| Crop Constrain To Warp | 0 |
| Crop Height | 2032 |
| Crop Left | 0.259392 |
| Crop Right | 0.733282 |
| Crop Top | 0.283747 |
| Crop Unit | pixels |
| Crop Width | 2032 |
| Custom Rendered | Normal |
| Defringe | 0 |
| Depth Of Field | 0.03 m (0.58 - 0.62) |
| Digital Zoom Ratio | 1 |
| Exposure | 0.00 |
| Exposure Compensation | 0 |
| Exposure Mode | Manual |
| Field Of View | 24.8 deg |
| Fill Light | 0 |
| Flash Fired | False |
| Flash Function | False |
| Flash Mode | Unknown |
| Flash Red Eye Mode | False |
| Flash Return | No return detection |
| Focal Length In 35mm Format | 82 mm |
| Gain Control | None |
| Grain Amount | 0 |
| Green Hue | 0 |
| Green Saturation | 0 |
| Has Crop | True |
| Has Settings | True |
| Highlight Recovery | 0 |
| Hue Adjustment Aqua | 0 |
| Hue Adjustment Blue | 0 |
| Hue Adjustment Green | 0 |
| Hue Adjustment Magenta | 0 |
| Hue Adjustment Orange | 0 |
| Hue Adjustment Purple | 0 |
| Hue Adjustment Red | 0 |
| Hue Adjustment Yellow | 0 |
| Hyperfocal Distance | 18.76 m |
| ISO | 200 |
| Image Number | 19237 |
| Image Size | 2032x2032 |
| Label | Red |
| Lens | 17.0-55.0 mm f/2.8 |
| Lens ID | AF-S DX Zoom-Nikkor 17-55mm f/2.8G IF-ED |
| Lens Info | 17-55mm f/2.8 |
| Lens Manual Distortion Amount | 0 |
| Lens Profile Enable | 0 |
| Lens Profile Setup | LensDefaults |
| Light Source | Cloudy |
| Light Value | 12.0 |
| Luminance Adjustment Aqua | 0 |
| Luminance Adjustment Blue | 0 |
| Luminance Adjustment Green | 0 |
| Luminance Adjustment Magenta | 0 |
| Luminance Adjustment Orange | 0 |
| Luminance Adjustment Purple | 0 |
| Luminance Adjustment Red | 0 |
| Luminance Adjustment Yellow | 0 |
| Luminance Smoothing | 0 |
| Metering Mode | Spot |
| Parametric Darks | 0 |
| Parametric Highlight Split | 75 |
| Parametric Highlights | 0 |
| Parametric Lights | 0 |
| Parametric Midtone Split | 50 |
| Parametric Shadow Split | 25 |
| Parametric Shadows | 0 |
| Perspective Horizontal | 0 |
| Perspective Rotate | 0.0 |
| Perspective Scale | 100 |
| Perspective Vertical | 0 |
| Post Crop Vignette Amount | 0 |
| Process Version | 5.7 |
| Rating | 2 |
| Red Hue | 0 |
| Red Saturation | 0 |
| Saturation | Normal |
| Saturation Adjustment Aqua | 0 |
| Saturation Adjustment Blue | 0 |
| Saturation Adjustment Green | 0 |
| Saturation Adjustment Magenta | 0 |
| Saturation Adjustment Orange | 0 |
| Saturation Adjustment Purple | 0 |
| Saturation Adjustment Red | 0 |
| Saturation Adjustment Yellow | 0 |
| Scale Factor To 35 mm Equivalent | 1.5 |
| Scene Capture Type | Standard |
| Scene Type | Directly photographed |
| Sensing Method | One-chip color area |
| Shadow Tint | 0 |
| Shadows | 5 |
| Sharpen Detail | 25 |
| Sharpen Edge Masking | 0 |
| Sharpen Radius | +1.0 |
| Sharpness | Normal |
| Split Toning Balance | 0 |
| Split Toning Highlight Hue | 0 |
| Split Toning Highlight Saturation | 0 |
| Split Toning Shadow Hue | 0 |
| Split Toning Shadow Saturation | 0 |
| Subject Distance | 0.6 m |
| Subject Distance Range | Unknown |
| Tint | -1 |
| Tone Curve | 0, 0, 32, 22, 64, 56, 128, 128, 192, 196, 255, 255 |
| Tone Curve Name | Medium Contrast |
| Version | 6.1 |
| Vibrance | +24 |
| Vignette Amount | 0 |
| White Balance | Manual |
GPS Information |
| GPS Altitude | 1231 m Above Sea Level |
| GPS Altitude Ref | Above Sea Level |
| GPS Date Stamp | 2012:07:03 |
| GPS Date/Time | 2012:07:03 14:56:09Z |
| GPS Latitude | 35 deg 57' 50.36" N |
| GPS Latitude Ref | North |
| GPS Longitude | 82 deg 30' 29.42" W |
| GPS Longitude Ref | West |
| GPS Position | 35 deg 57' 50.36" N, 82 deg 30' 29.42" W |
| GPS Satellites | 06 |
| GPS Time Stamp | 14:56:09 |
| GPS Version ID | 2.2.0.0 |
X