Shooting information for this photo
| Camera: | NIKON CORPORATION NIKON D300 |
| Exposure: | 0.01111 sec. (1/90) |
| Aperture: | f/6.7 |
| Focal Length: | 60.0 mm (35 mm equivalent: 90.0 mm) |
| Flash: | No Flash |
| Exposure mode: | Manual |
| Max Aperture: | 3.1 |
| Resolution: | 240 x 240 dpi |
| Dimension: | 1221 x 1221 pixels |
| Original Date: | 2012:02:20 14:00:03.50 |
| Digitized Date: | 2012:02:20 14:00:03.50-05:00 |
| Created on: | 2012:02:20 14:00:03.50 |
| Modified on: | 2012:02:29 17:24:16 |
| Software: | Ver.1.10 |
| Already Applied | True |
| Blue Hue | 0 |
| Blue Saturation | 0 |
| Brightness | +91 |
| CFA Pattern | [Red,Green][Green,Blue] |
| Camera Profile | Camera Neutral beta 2 |
| Chromatic Aberration B | 0 |
| Chromatic Aberration R | 0 |
| Circle Of Confusion | 0.020 mm |
| Clarity | +61 |
| Color Noise Reduction | 25 |
| Color Noise Reduction Detail | 50 |
| Color Temperature | 5450 |
| Contrast | Normal |
| Convert To Grayscale | False |
| Crop Angle | 0 |
| Crop Bottom | 0.829364 |
| Crop Constrain To Warp | 0 |
| Crop Height | 1221 |
| Crop Left | 0.332638 |
| Crop Right | 0.617296 |
| Crop Top | 0.400777 |
| Crop Unit | pixels |
| Crop Width | 1221 |
| Custom Rendered | Normal |
| Defringe | 0 |
| Depth Of Field | 0.006 m (0.317 - 0.323) |
| Digital Zoom Ratio | 1 |
| Exposure | 0.00 |
| Exposure Compensation | 0 |
| Exposure Mode | Manual |
| Field Of View | 22.6 deg |
| Fill Light | 0 |
| Flash Fired | False |
| Flash Function | False |
| Flash Mode | Unknown |
| Flash Red Eye Mode | False |
| Flash Return | No return detection |
| Focal Length In 35mm Format | 90 mm |
| Gain Control | None |
| Grain Amount | 0 |
| Green Hue | 0 |
| Green Saturation | 0 |
| Has Crop | True |
| Has Settings | True |
| Highlight Recovery | 0 |
| Hue Adjustment Aqua | 0 |
| Hue Adjustment Blue | 0 |
| Hue Adjustment Green | 0 |
| Hue Adjustment Magenta | 0 |
| Hue Adjustment Orange | 0 |
| Hue Adjustment Purple | 0 |
| Hue Adjustment Red | 0 |
| Hue Adjustment Yellow | 0 |
| Hyperfocal Distance | 26.82 m |
| ISO | 200 |
| Image Number | 17934 |
| Image Size | 1221x1221 |
| Label | Green |
| Lens | 60.0 mm f/2.8 |
| Lens ID | AF-S Micro Nikkor 60mm f/2.8G ED |
| Lens Info | 60mm f/2.8 |
| Lens Manual Distortion Amount | 0 |
| Lens Profile Enable | 0 |
| Lens Profile Setup | LensDefaults |
| Light Source | Unknown |
| Light Value | 11.0 |
| Luminance Adjustment Aqua | 0 |
| Luminance Adjustment Blue | 0 |
| Luminance Adjustment Green | 0 |
| Luminance Adjustment Magenta | 0 |
| Luminance Adjustment Orange | 0 |
| Luminance Adjustment Purple | 0 |
| Luminance Adjustment Red | 0 |
| Luminance Adjustment Yellow | 0 |
| Luminance Smoothing | 0 |
| Metering Mode | Multi-segment |
| Parametric Darks | 0 |
| Parametric Highlight Split | 75 |
| Parametric Highlights | 0 |
| Parametric Lights | 0 |
| Parametric Midtone Split | 50 |
| Parametric Shadow Split | 25 |
| Parametric Shadows | 0 |
| Perspective Horizontal | 0 |
| Perspective Rotate | 0.0 |
| Perspective Scale | 100 |
| Perspective Vertical | 0 |
| Post Crop Vignette Amount | 0 |
| Process Version | 5.7 |
| Rating | 1 |
| Red Hue | 0 |
| Red Saturation | 0 |
| Saturation | Normal |
| Saturation Adjustment Aqua | 0 |
| Saturation Adjustment Blue | 0 |
| Saturation Adjustment Green | 0 |
| Saturation Adjustment Magenta | 0 |
| Saturation Adjustment Orange | 0 |
| Saturation Adjustment Purple | 0 |
| Saturation Adjustment Red | 0 |
| Saturation Adjustment Yellow | 0 |
| Scale Factor To 35 mm Equivalent | 1.5 |
| Scene Capture Type | Standard |
| Scene Type | Directly photographed |
| Sensing Method | One-chip color area |
| Shadow Tint | 0 |
| Shadows | 13 |
| Sharpen Detail | 25 |
| Sharpen Edge Masking | 0 |
| Sharpen Radius | +1.0 |
| Sharpness | Normal |
| Split Toning Balance | 0 |
| Split Toning Highlight Hue | 0 |
| Split Toning Highlight Saturation | 0 |
| Split Toning Shadow Hue | 0 |
| Split Toning Shadow Saturation | 0 |
| Subject Distance | 0.32 m |
| Subject Distance Range | Unknown |
| Tint | +5 |
| Tone Curve | 0, 0, 32, 22, 64, 56, 128, 128, 192, 196, 255, 255 |
| Tone Curve Name | Medium Contrast |
| Version | 6.1 |
| Vibrance | +33 |
| Vignette Amount | 0 |
| White Balance | Auto |
GPS Information |
| GPS Altitude | 2 m Above Sea Level |
| GPS Altitude Ref | Above Sea Level |
| GPS Date Stamp | 2012:02:20 |
| GPS Date/Time | 2012:02:20 17:57:40Z |
| GPS Latitude | 27 deg 19' 34.71" N |
| GPS Latitude Ref | North |
| GPS Longitude | 82 deg 32' 25.75" W |
| GPS Longitude Ref | West |
| GPS Position | 27 deg 19' 34.71" N, 82 deg 32' 25.75" W |
| GPS Satellites | 06 |
| GPS Time Stamp | 17:57:40 |
| GPS Version ID | 2.2.0.0 |
X