Shooting information for this photo
| Camera: | NIKON CORPORATION NIKON D300 |
| Exposure: | 0.5 sec. |
| Aperture: | f/8.0 |
| Focal Length: | 17.0 mm (35 mm equivalent: 25.0 mm) |
| Flash: | No Flash |
| Exposure mode: | Aperture-priority AE |
| Max Aperture: | 2.8 |
| Resolution: | 240 x 240 dpi |
| Dimension: | 4288 x 2846 pixels |
| Original Date: | 2012:01:26 16:06:47.22 |
| Digitized Date: | 2012:01:26 16:06:47.22-05:00 |
| Created on: | 2012:01:26 16:06:47.22 |
| Modified on: | 2012:03:10 17:03:27 |
| Software: | Adobe Photoshop Lightroom |
| Already Applied | True |
| Black Clip | 0.393200 |
| Blue Hue | 0 |
| Blue Saturation | 0 |
| Brightness | 0 |
| Camera Profile | Embedded |
| Chromatic Aberration B | 0 |
| Chromatic Aberration R | 0 |
| Circle Of Confusion | 0.020 mm |
| Clarity | +36 |
| Color Noise Reduction | 0 |
| Color Saturation | 46.0 |
| Color Temperature | 0.0 |
| Contrast | Normal |
| Convert To Grayscale | False |
| Custom Rendered | Normal |
| Defringe | 0 |
| Depth Of Field | inf (1.21 m - inf) |
| Digital Zoom Ratio | 1 |
| Exposure | 0.00 |
| Exposure Compensation | 0 |
| Exposure Mode | Auto |
| Field Of View | 71.5 deg |
| Fill Light | 37 |
| Flash Fired | False |
| Flash Function | False |
| Flash Mode | Unknown |
| Flash Red Eye Mode | False |
| Flash Return | No return detection |
| Focal Length In 35mm Format | 25 mm |
| Gain Control | None |
| Gamma | 1.0 |
| Grain Amount | 0 |
| Green Hue | 0 |
| Green Saturation | 0 |
| Has Crop | False |
| Has Settings | True |
| Highlight Recovery | 0 |
| Highlights Smoothing | 100.0 |
| Hue Adjustment Aqua | 0 |
| Hue Adjustment Blue | 0 |
| Hue Adjustment Green | 0 |
| Hue Adjustment Magenta | 0 |
| Hue Adjustment Orange | 0 |
| Hue Adjustment Purple | 0 |
| Hue Adjustment Red | 0 |
| Hue Adjustment Yellow | 0 |
| Hyperfocal Distance | 1.77 m |
| ISO | 200 |
| Image Number | 17682 |
| Image Size | 4288x2846 |
| Incremental Temperature | 0 |
| Incremental Tint | 0 |
| Label | Green |
| Lens | 17.0-55.0 mm f/2.8 |
| Lens ID | AF-S DX Zoom-Nikkor 17-55mm f/2.8G IF-ED |
| Lens Info | 17-55mm f/2.8 |
| Lens Manual Distortion Amount | 0 |
| Lens Profile Enable | 0 |
| Lens Profile Setup | LensDefaults |
| Light Source | Unknown |
| Light Value | 6.0 |
| Luminance Adjustment Aqua | 0 |
| Luminance Adjustment Blue | 0 |
| Luminance Adjustment Green | 0 |
| Luminance Adjustment Magenta | 0 |
| Luminance Adjustment Orange | 0 |
| Luminance Adjustment Purple | 0 |
| Luminance Adjustment Red | 0 |
| Luminance Adjustment Yellow | 0 |
| Luminance Smoothing | 0 |
| Luminosity | 6.0 |
| Metering Mode | Multi-segment |
| Method | Details Enhancer |
| Microcontrast | 3.0 |
| Microsmoothing | 20.0 |
| Parametric Darks | 0 |
| Parametric Highlight Split | 75 |
| Parametric Highlights | 0 |
| Parametric Lights | 0 |
| Parametric Midtone Split | 50 |
| Parametric Shadow Split | 25 |
| Parametric Shadows | 0 |
| Perspective Horizontal | 0 |
| Perspective Rotate | 0.0 |
| Perspective Scale | 100 |
| Perspective Vertical | 0 |
| Post Crop Vignette Amount | 0 |
| Process Version | 5.7 |
| Rating | 1 |
| Red Hue | 0 |
| Red Saturation | 0 |
| Saturation | Normal |
| Saturation Adjustment Aqua | 0 |
| Saturation Adjustment Blue | 0 |
| Saturation Adjustment Green | 0 |
| Saturation Adjustment Magenta | 0 |
| Saturation Adjustment Orange | 0 |
| Saturation Adjustment Purple | 0 |
| Saturation Adjustment Red | 0 |
| Saturation Adjustment Yellow | 0 |
| Saturation Highlights | 0.0 |
| Saturation Shadows | 0.0 |
| Scale Factor To 35 mm Equivalent | 1.5 |
| Scene Capture Type | Standard |
| Scene Type | Directly photographed |
| Sensing Method | One-chip color area |
| Shadow Tint | 0 |
| Shadows | 28 |
| Shadows Clipping | 0.0 |
| Shadows Smoothing | 0.0 |
| Sharpen Detail | 25 |
| Sharpen Edge Masking | 0 |
| Sharpen Radius | +1.0 |
| Sharpness | Normal |
| Smoothing | 10.0 |
| Smoothing Mode | Slider |
| Split Toning Balance | 0 |
| Split Toning Highlight Hue | 0 |
| Split Toning Highlight Saturation | 0 |
| Split Toning Shadow Hue | 0 |
| Split Toning Shadow Saturation | 0 |
| Strength | 80.0 |
| Subject Distance | 3.76 m |
| Subject Distance Range | Unknown |
| Tone Curve | 0, 0, 255, 255 |
| Tone Curve Name | Linear |
| Version | 6.1 |
| Vibrance | +26 |
| Vignette Amount | 0 |
| White Balance | Auto |
| White Clip | 0.995250 |
GPS Information |
| GPS Altitude | 10 m Above Sea Level |
| GPS Altitude Ref | Above Sea Level |
| GPS Date Stamp | 2012:01:26 |
| GPS Date/Time | 2012:01:26 20:04:27Z |
| GPS Latitude | 29 deg 54' 17.50" N |
| GPS Latitude Ref | North |
| GPS Longitude | 81 deg 18' 55.03" W |
| GPS Longitude Ref | West |
| GPS Position | 29 deg 54' 17.50" N, 81 deg 18' 55.03" W |
| GPS Satellites | 11 |
| GPS Time Stamp | 20:04:27 |
| GPS Version ID | 2.2.0.0 |
X