Shooting information for this photo
| Camera: | NIKON CORPORATION NIKON Z fc |
| Exposure: | 0.00625 sec. (1/160) |
| Aperture: | f/2.0 |
| Focal Length: | 23.0 mm (35 mm equivalent: 34.0 mm) |
| Flash: | No Flash |
| Exposure mode: | Aperture-priority AE |
| Resolution: | 240 x 240 dpi |
| Original Date: | 2025:04:25 20:37:59.01 |
| Created on: | 2025:04:25 20:37:59.01 |
| Modified on: | 2025:05:13 20:16:43 |
| Software: | Adobe Photoshop Lightroom 6.14 (Windows) |
| Copyright: | UWE SCHULZE |
| Already Applied | True |
| Artist | UWE SCHULZE |
| Auto Lateral CA | 1 |
| Auto White Version | 134348800 |
| Blacks 2012 | -8 |
| Blue Hue | 0 |
| Blue Saturation | 0 |
| CFA Pattern | [Red,Green][Green,Blue] |
| Camera Profile | Embedded |
| Circle Of Confusion | 0.020 mm |
| Clarity 2012 | +40 |
| Color Noise Reduction | 0 |
| Color Space | sRGB |
| Contrast | Normal |
| Contrast 2012 | 0 |
| Convert To Grayscale | False |
| Creator | UWE SCHULZE |
| Crop Angle | 0 |
| Crop Bottom | 1 |
| Crop Constrain To Warp | 0 |
| Crop Left | 0.02487 |
| Crop Right | 1 |
| Crop Top | 0 |
| Custom Rendered | Custom |
| Date Created | 2025:04:25 20:37:59.01 |
| Defringe Green Amount | 0 |
| Defringe Green Hue Hi | 60 |
| Defringe Green Hue Lo | 40 |
| Defringe Purple Amount | 0 |
| Defringe Purple Hue Hi | 70 |
| Defringe Purple Hue Lo | 30 |
| Dehaze | 0 |
| Distortion Correction Already Applied | True |
| Exposure 2012 | 0.00 |
| Exposure Compensation | 0 |
| Exposure Mode | Auto |
| Field Of View | 55.8 deg |
| Focal Length In 35mm Format | 34 mm |
| Format | image/jpeg |
| Gain Control | None |
| Grain Amount | 0 |
| Green Hue | 0 |
| Green Saturation | 0 |
| Has Crop | True |
| Has Settings | True |
| Highlights 2012 | -91 |
| Hue Adjustment Aqua | 0 |
| Hue Adjustment Blue | 0 |
| Hue Adjustment Green | 0 |
| Hue Adjustment Magenta | 0 |
| Hue Adjustment Orange | 0 |
| Hue Adjustment Purple | 0 |
| Hue Adjustment Red | 0 |
| Hue Adjustment Yellow | 0 |
| Hyperfocal Distance | 13.01 m |
| ISO | 100 |
| Image Number | 3221 |
| Image Size | 5430x3712 |
| Incremental Temperature | +4 |
| Incremental Tint | 0 |
| Lateral Chromatic Aberration Correction Already Applied | True |
| Lens | Viltrox AF 23/1.4 Z |
| Lens Info | 23mm f/1.4 |
| Lens Manual Distortion Amount | 0 |
| Lens Model | Viltrox AF 23/1.4 Z |
| Lens Profile Chromatic Aberration Scale | 100 |
| Lens Profile Distortion Scale | 100 |
| Lens Profile Enable | 1 |
| Lens Profile Filename | NIKON D3X (Nikon FX 14-24mm f2.8 G ED).lcp |
| Lens Profile Name | Adobe (Nikon AF-S NIKKOR 14-24mm f/2.8G ED) |
| Lens Profile Setup | Custom |
| Lens Profile Vignetting Scale | 100 |
| Light Source | Cloudy |
| Light Value | 9.3 |
| Luminance Adjustment Aqua | 0 |
| Luminance Adjustment Blue | 0 |
| Luminance Adjustment Green | 0 |
| Luminance Adjustment Magenta | 0 |
| Luminance Adjustment Orange | 0 |
| Luminance Adjustment Purple | 0 |
| Luminance Adjustment Red | 0 |
| Luminance Adjustment Yellow | 0 |
| Luminance Noise Reduction Contrast | 0 |
| Luminance Noise Reduction Detail | 50 |
| Luminance Smoothing | 11 |
| Metering Mode | Multi-segment |
| Paint Correction Active | true |
| Paint Correction Amount | 1.000000 |
| Paint Correction Brightness | 0.000000 |
| Paint Correction Clarity 2012 | 0.000000 |
| Paint Correction Contrast 2012 | 0.000000 |
| Paint Correction Defringe | 0.000000 |
| Paint Correction Exposure 2012 | 0.157000 |
| Paint Correction Highlights 2012 | 0.000000 |
| Paint Correction Hue | 240.000000 |
| Paint Correction Local Blacks 2012 | 0.000000 |
| Paint Correction Local Dehaze | 0.000000 |
| Paint Correction Local Whites 2012 | 0.000000 |
| Paint Correction Luminance Noise | 0.000000 |
| Paint Correction Mask Center Weight | 0.136133 |
| Paint Correction Mask Flow | 1.000000 |
| Paint Correction Mask Radius | 0.107466 |
| Paint Correction Mask Value | 1.000000 |
| Paint Correction Mask What | Mask/Paint |
| Paint Correction Moire | 0.000000 |
| Paint Correction Saturation | 0.000000 |
| Paint Correction Shadows 2012 | 0.000000 |
| Paint Correction Sharpness | 0.000000 |
| Paint Correction Temperature | 0.000000 |
| Paint Correction Tint | 0.000000 |
| Paint Correction What | Correction |
| Parametric Darks | 0 |
| Parametric Highlight Split | 75 |
| Parametric Highlights | 0 |
| Parametric Lights | 0 |
| Parametric Midtone Split | 50 |
| Parametric Shadow Split | 25 |
| Parametric Shadows | 0 |
| Perspective Aspect | 0 |
| Perspective Horizontal | 0 |
| Perspective Rotate | 0.0 |
| Perspective Scale | 100 |
| Perspective Upright | 0 |
| Perspective Vertical | 0 |
| Perspective X | 0.00 |
| Perspective Y | 0.00 |
| Post Crop Vignette Amount | 0 |
| Process Version | 6.7 |
| Recommended Exposure Index | 100 |
| Red Hue | 0 |
| Red Saturation | 0 |
| Rights | UWE SCHULZE |
| Saturation | Normal |
| Saturation Adjustment Aqua | 0 |
| Saturation Adjustment Blue | 0 |
| Saturation Adjustment Green | 0 |
| Saturation Adjustment Magenta | 0 |
| Saturation Adjustment Orange | 0 |
| Saturation Adjustment Purple | 0 |
| Saturation Adjustment Red | 0 |
| Saturation Adjustment Yellow | 0 |
| Scale Factor To 35 mm Equivalent | 1.5 |
| Scene Capture Type | Standard |
| Scene Type | Directly photographed |
| Sensing Method | One-chip color area |
| Sensitivity Type | Recommended Exposure Index |
| Shadow Tint | 0 |
| Shadows 2012 | +34 |
| Sharpen Detail | 25 |
| Sharpen Edge Masking | 83 |
| Sharpen Radius | +1.0 |
| Sharpness | Normal |
| Split Toning Balance | 0 |
| Split Toning Highlight Hue | 0 |
| Split Toning Highlight Saturation | 0 |
| Split Toning Shadow Hue | 0 |
| Split Toning Shadow Saturation | 0 |
| Subject Distance Range | Unknown |
| Tone Curve | 0, 0, 255, 255 |
| Tone Curve Blue | 0, 0, 255, 255 |
| Tone Curve Green | 0, 0, 255, 255 |
| Tone Curve Name | Linear |
| Tone Curve Name 2012 | Linear |
| Tone Curve PV2012 | 0, 0, 255, 255 |
| Tone Curve PV2012 Blue | 0, 0, 255, 255 |
| Tone Curve PV2012 Green | 0, 0, 255, 255 |
| Tone Curve PV2012 Red | 0, 0, 255, 255 |
| Tone Curve Red | 0, 0, 255, 255 |
| Tone Map Strength | 0 |
| Version | 10.1 |
| Vibrance | +28 |
| Vignette Amount | 0 |
| Vignette Correction Already Applied | True |
| White Balance | Manual |
| Whites 2012 | +10 |
X