Shooting information for this photo
| Camera: | NIKON CORPORATION NIKON Z fc |
| Exposure: | 0.002 sec. (1/500) |
| Aperture: | f/7.1 |
| Focal Length: | 600.0 mm (35 mm equivalent: 900.0 mm) |
| Flash: | No Flash |
| Exposure mode: | Manual |
| Resolution: | 240 x 240 dpi |
| Original Date: | 2025:05:24 12:12:39.01 |
| Created on: | 2025:05:24 12:12:39.01 |
| Modified on: | 2025:05:24 13:20:57 |
| Software: | Adobe Photoshop Lightroom 6.14 (Windows) |
| Copyright: | UWE SCHULZE |
| Already Applied | True |
| Artist | UWE SCHULZE |
| Auto Lateral CA | 0 |
| Auto White Version | 134348800 |
| Blacks 2012 | -16 |
| Blue Hue | 0 |
| Blue Saturation | 0 |
| CFA Pattern | [Red,Green][Green,Blue] |
| Camera Profile | Embedded |
| Circle Of Confusion | 0.020 mm |
| Clarity 2012 | +38 |
| Color Noise Reduction | 0 |
| Color Space | sRGB |
| Contrast | Normal |
| Contrast 2012 | +2 |
| Convert To Grayscale | False |
| Creator | UWE SCHULZE |
| Crop Angle | 0 |
| Crop Bottom | 0.828562 |
| Crop Constrain To Warp | 0 |
| Crop Left | 0.163731 |
| Crop Right | 1 |
| Crop Top | 0.12296 |
| Custom Rendered | Custom |
| Date Created | 2025:05:24 12:12:39.01 |
| Defringe Green Amount | 0 |
| Defringe Green Hue Hi | 60 |
| Defringe Green Hue Lo | 40 |
| Defringe Purple Amount | 0 |
| Defringe Purple Hue Hi | 70 |
| Defringe Purple Hue Lo | 30 |
| Dehaze | 0 |
| Exposure 2012 | 0.00 |
| Exposure Compensation | +5/3 |
| Exposure Mode | Manual |
| Field Of View | 2.3 deg |
| Focal Length In 35mm Format | 900 mm |
| Format | image/jpeg |
| Gain Control | None |
| Grain Amount | 0 |
| Green Hue | 0 |
| Green Saturation | 0 |
| Has Crop | True |
| Has Settings | True |
| Highlights 2012 | -97 |
| Hue Adjustment Aqua | 0 |
| Hue Adjustment Blue | 0 |
| Hue Adjustment Green | 0 |
| Hue Adjustment Magenta | 0 |
| Hue Adjustment Orange | 0 |
| Hue Adjustment Purple | 0 |
| Hue Adjustment Red | 0 |
| Hue Adjustment Yellow | 0 |
| Hyperfocal Distance | 2531.31 m |
| ISO | 250 |
| Image Number | 3871 |
| Image Size | 4656x2619 |
| Incremental Temperature | 0 |
| Incremental Tint | 0 |
| Lens | NIKKOR Z 180-600mm f/5.6-6.3 VR |
| Lens Info | 180-600mm f/5.6-6.3 |
| Lens Make | NIKON |
| Lens Manual Distortion Amount | 0 |
| Lens Model | NIKKOR Z 180-600mm f/5.6-6.3 VR |
| Lens Profile Enable | 0 |
| Lens Profile Setup | LensDefaults |
| Light Source | Cloudy |
| Light Value | 13.3 |
| Luminance Adjustment Aqua | 0 |
| Luminance Adjustment Blue | 0 |
| Luminance Adjustment Green | 0 |
| Luminance Adjustment Magenta | 0 |
| Luminance Adjustment Orange | 0 |
| Luminance Adjustment Purple | 0 |
| Luminance Adjustment Red | 0 |
| Luminance Adjustment Yellow | 0 |
| Luminance Noise Reduction Contrast | 0 |
| Luminance Noise Reduction Detail | 50 |
| Luminance Smoothing | 16 |
| Metering Mode | Multi-segment |
| Parametric Darks | 0 |
| Parametric Highlight Split | 75 |
| Parametric Highlights | 0 |
| Parametric Lights | 0 |
| Parametric Midtone Split | 50 |
| Parametric Shadow Split | 25 |
| Parametric Shadows | 0 |
| Perspective Aspect | 0 |
| Perspective Horizontal | 0 |
| Perspective Rotate | 0.0 |
| Perspective Scale | 100 |
| Perspective Upright | 0 |
| Perspective Vertical | 0 |
| Perspective X | 0.00 |
| Perspective Y | 0.00 |
| Post Crop Vignette Amount | 0 |
| Process Version | 6.7 |
| Recommended Exposure Index | 250 |
| Red Hue | 0 |
| Red Saturation | 0 |
| Rights | UWE SCHULZE |
| Saturation | Normal |
| Saturation Adjustment Aqua | 0 |
| Saturation Adjustment Blue | 0 |
| Saturation Adjustment Green | 0 |
| Saturation Adjustment Magenta | 0 |
| Saturation Adjustment Orange | 0 |
| Saturation Adjustment Purple | 0 |
| Saturation Adjustment Red | 0 |
| Saturation Adjustment Yellow | 0 |
| Scale Factor To 35 mm Equivalent | 1.5 |
| Scene Capture Type | Standard |
| Scene Type | Directly photographed |
| Sensing Method | One-chip color area |
| Sensitivity Type | Recommended Exposure Index |
| Shadow Tint | 0 |
| Shadows 2012 | +79 |
| Sharpen Detail | 25 |
| Sharpen Edge Masking | 66 |
| Sharpen Radius | +1.0 |
| Sharpness | Normal |
| Split Toning Balance | 0 |
| Split Toning Highlight Hue | 0 |
| Split Toning Highlight Saturation | 0 |
| Split Toning Shadow Hue | 0 |
| Split Toning Shadow Saturation | 0 |
| Subject Distance Range | Unknown |
| Tone Curve | 0, 0, 255, 255 |
| Tone Curve Blue | 0, 0, 255, 255 |
| Tone Curve Green | 0, 0, 255, 255 |
| Tone Curve Name | Linear |
| Tone Curve Name 2012 | Linear |
| Tone Curve PV2012 | 0, 0, 255, 255 |
| Tone Curve PV2012 Blue | 0, 0, 255, 255 |
| Tone Curve PV2012 Green | 0, 0, 255, 255 |
| Tone Curve PV2012 Red | 0, 0, 255, 255 |
| Tone Curve Red | 0, 0, 255, 255 |
| Tone Map Strength | 0 |
| Version | 10.1 |
| Vibrance | +11 |
| Vignette Amount | 0 |
| White Balance | Manual |
| Whites 2012 | +7 |
X