Shooting information for this photo
| Camera: | NIKON CORPORATION NIKON Z 50 |
| Exposure: | 0.00063 sec. (1/1600) |
| Aperture: | f/4.0 |
| Focal Length: | 56.0 mm (35 mm equivalent: 84.0 mm) |
| Flash: | Off, Did not fire |
| Exposure mode: | Aperture-priority AE |
| Resolution: | 240 x 240 dpi |
| Original Date: | 2025:04:27 13:27:43.53 |
| Created on: | 2025:04:27 13:27:43.53 |
| Modified on: | 2025:05:08 18:16:53 |
| Software: | Adobe Photoshop Lightroom 6.14 (Windows) |
| Copyright: | UWE SCHULZE |
| Already Applied | True |
| Artist | UWE SCHULZE |
| Auto Lateral CA | 0 |
| Auto White Version | 134348800 |
| Blacks 2012 | -7 |
| Blue Hue | 0 |
| Blue Saturation | 0 |
| CFA Pattern | [Red,Green][Green,Blue] |
| Camera Profile | Embedded |
| Circle Of Confusion | 0.020 mm |
| Clarity 2012 | +40 |
| Color Noise Reduction | 0 |
| Color Space | sRGB |
| Contrast | Normal |
| Contrast 2012 | +34 |
| Convert To Grayscale | False |
| Creator | UWE SCHULZE |
| Crop Angle | 0 |
| Crop Bottom | 1 |
| Crop Constrain To Warp | 0 |
| Crop Left | 0 |
| Crop Right | 0.970984 |
| Crop Top | 0 |
| Custom Rendered | Custom |
| Date Created | 2025:04:27 13:27:43.53 |
| Defringe Green Amount | 0 |
| Defringe Green Hue Hi | 60 |
| Defringe Green Hue Lo | 40 |
| Defringe Purple Amount | 0 |
| Defringe Purple Hue Hi | 70 |
| Defringe Purple Hue Lo | 30 |
| Dehaze | 0 |
| Exposure 2012 | 0.00 |
| Exposure Compensation | -1/3 |
| Exposure Mode | Auto |
| Field Of View | 24.2 deg |
| Focal Length In 35mm Format | 84 mm |
| Format | image/jpeg |
| Gain Control | None |
| Grain Amount | 0 |
| Green Hue | 0 |
| Green Saturation | 0 |
| Has Crop | True |
| Has Settings | True |
| Highlights 2012 | -100 |
| Hue Adjustment Aqua | 0 |
| Hue Adjustment Blue | 0 |
| Hue Adjustment Green | 0 |
| Hue Adjustment Magenta | 0 |
| Hue Adjustment Orange | 0 |
| Hue Adjustment Purple | 0 |
| Hue Adjustment Red | 0 |
| Hue Adjustment Yellow | 0 |
| Hyperfocal Distance | 39.14 m |
| ISO | 100 |
| Image Number | 8501 |
| Image Size | 5406x3712 |
| Incremental Temperature | +5 |
| Incremental Tint | 0 |
| Lens | Viltrox AF 56/1.4 Z |
| Lens Info | 56mm f/1.4 |
| Lens Manual Distortion Amount | 0 |
| Lens Model | Viltrox AF 56/1.4 Z |
| Lens Profile Enable | 0 |
| Lens Profile Setup | LensDefaults |
| Light Source | Unknown |
| Light Value | 14.6 |
| Luminance Adjustment Aqua | 0 |
| Luminance Adjustment Blue | 0 |
| Luminance Adjustment Green | 0 |
| Luminance Adjustment Magenta | 0 |
| Luminance Adjustment Orange | 0 |
| Luminance Adjustment Purple | 0 |
| Luminance Adjustment Red | 0 |
| Luminance Adjustment Yellow | 0 |
| Luminance Noise Reduction Contrast | 0 |
| Luminance Noise Reduction Detail | 50 |
| Luminance Smoothing | 11 |
| Metering Mode | Multi-segment |
| Parametric Darks | 0 |
| Parametric Highlight Split | 75 |
| Parametric Highlights | 0 |
| Parametric Lights | 0 |
| Parametric Midtone Split | 50 |
| Parametric Shadow Split | 25 |
| Parametric Shadows | 0 |
| Perspective Aspect | 0 |
| Perspective Horizontal | 0 |
| Perspective Rotate | 0.0 |
| Perspective Scale | 100 |
| Perspective Upright | 1 |
| Perspective Vertical | 0 |
| Perspective X | 0.00 |
| Perspective Y | 0.00 |
| Post Crop Vignette Amount | 0 |
| Process Version | 6.7 |
| Recommended Exposure Index | 100 |
| Red Hue | 0 |
| Red Saturation | 0 |
| Rights | UWE SCHULZE |
| Saturation | Normal |
| Saturation Adjustment Aqua | 0 |
| Saturation Adjustment Blue | 0 |
| Saturation Adjustment Green | 0 |
| Saturation Adjustment Magenta | 0 |
| Saturation Adjustment Orange | 0 |
| Saturation Adjustment Purple | 0 |
| Saturation Adjustment Red | 0 |
| Saturation Adjustment Yellow | 0 |
| Scale Factor To 35 mm Equivalent | 1.5 |
| Scene Capture Type | Standard |
| Scene Type | Directly photographed |
| Sensing Method | One-chip color area |
| Sensitivity Type | Recommended Exposure Index |
| Shadow Tint | 0 |
| Shadows 2012 | +100 |
| Sharpen Detail | 25 |
| Sharpen Edge Masking | 87 |
| Sharpen Radius | +1.0 |
| Sharpness | Normal |
| Split Toning Balance | 0 |
| Split Toning Highlight Hue | 0 |
| Split Toning Highlight Saturation | 0 |
| Split Toning Shadow Hue | 0 |
| Split Toning Shadow Saturation | 0 |
| Subject Distance Range | Unknown |
| Tone Curve | 0, 0, 255, 255 |
| Tone Curve Blue | 0, 0, 255, 255 |
| Tone Curve Green | 0, 0, 255, 255 |
| Tone Curve Name | Linear |
| Tone Curve Name 2012 | Linear |
| Tone Curve PV2012 | 0, 0, 255, 255 |
| Tone Curve PV2012 Blue | 0, 0, 255, 255 |
| Tone Curve PV2012 Green | 0, 0, 255, 255 |
| Tone Curve PV2012 Red | 0, 0, 255, 255 |
| Tone Curve Red | 0, 0, 255, 255 |
| Tone Map Strength | 0 |
| Version | 10.1 |
| Vibrance | +23 |
| Vignette Amount | 0 |
| White Balance | Auto |
| Whites 2012 | +23 |
X