Shooting information for this photo
| Camera: | PENTAX Corporation PENTAX K200D |
| Exposure: | 0.008 sec. (1/125) |
| Aperture: | f/6.7 |
| Focal Length: | 19.0 mm (35 mm equivalent: 28.0 mm) |
| Flash: | Off, Did not fire |
| Exposure mode: | Program AE |
| Resolution: | 240 x 240 dpi |
| Dimension: | 3872 x 2592 pixels |
| Original Date: | 2009:06:28 14:21:31 |
| Digitized Date: | 2009:06:28 14:21:31+02:00 |
| Created on: | 2009:06:28 14:21:31 |
| Modified on: | 2009:06:28 20:21:25 |
| Software: | K200D Ver 1.00 |
| Already Applied | True |
| Blue Hue | 0 |
| Blue Saturation | 0 |
| Brightness | +53 |
| Camera Profile | Adobe Standard |
| Chromatic Aberration B | 0 |
| Chromatic Aberration R | 0 |
| Circle Of Confusion | 0.020 mm |
| City | Nürnberg |
| Clarity | 0 |
| Color Noise Reduction | 25 |
| Color Temperature | 5500 |
| Contrast | High |
| Convert To Grayscale | False |
| Country | Deutschland |
| Country Code | DEU |
| Custom Rendered | Normal |
| Date Created | 2009:06:28 14:21:31 |
| Defringe | 0 |
| Exposure | 0.00 |
| Exposure Compensation | 0 |
| Exposure Mode | Auto |
| Field Of View | 65.5 deg |
| Fill Light | 0 |
| Flash Fired | False |
| Flash Function | False |
| Flash Mode | Off |
| Flash Red Eye Mode | False |
| Flash Return | No return detection |
| Focal Length In 35mm Format | 28 mm |
| Green Hue | 0 |
| Green Saturation | 0 |
| Has Crop | False |
| Has Settings | True |
| Highlight Recovery | 24 |
| Hue Adjustment Aqua | 0 |
| Hue Adjustment Blue | 0 |
| Hue Adjustment Green | 0 |
| Hue Adjustment Magenta | 0 |
| Hue Adjustment Orange | 0 |
| Hue Adjustment Purple | 0 |
| Hue Adjustment Red | 0 |
| Hue Adjustment Yellow | 0 |
| Hyperfocal Distance | 2.64 m |
| ISO | 100 |
| Image Size | 3872x2592 |
| Lens | Sigma or Tamron Lens |
| Lens ID | Sigma AF 10-20mm F4-5.6 EX DC or Sigma 12-24mm F4.5 EX DG or Sigma 17-70mm F2.8-4.5 DC Macro or Sigma 18-50mm F3.5-5.6 DC |
| Light Value | 12.5 |
| Location | Nürnberg |
| Luminance Adjustment Aqua | 0 |
| Luminance Adjustment Blue | 0 |
| Luminance Adjustment Green | 0 |
| Luminance Adjustment Magenta | 0 |
| Luminance Adjustment Orange | 0 |
| Luminance Adjustment Purple | 0 |
| Luminance Adjustment Red | 0 |
| Luminance Adjustment Yellow | 0 |
| Luminance Smoothing | 0 |
| Metering Mode | Multi-segment |
| Parametric Darks | 0 |
| Parametric Highlight Split | 75 |
| Parametric Highlights | 0 |
| Parametric Lights | 0 |
| Parametric Midtone Split | 50 |
| Parametric Shadow Split | 25 |
| Parametric Shadows | 0 |
| Post Crop Vignette Amount | 0 |
| Primary Chromaticities | 0.64, 0.33, 0.21, 0.71, 0.15, 0.06 |
| Red Hue | 0 |
| Red Saturation | 0 |
| Saturation | Normal |
| Saturation Adjustment Aqua | 0 |
| Saturation Adjustment Blue | 0 |
| Saturation Adjustment Green | 0 |
| Saturation Adjustment Magenta | 0 |
| Saturation Adjustment Orange | 0 |
| Saturation Adjustment Purple | 0 |
| Saturation Adjustment Red | 0 |
| Saturation Adjustment Yellow | 0 |
| Scale Factor To 35 mm Equivalent | 1.5 |
| Scene Capture Type | Standard |
| Sensing Method | One-chip color area |
| Shadow Tint | 0 |
| Shadows | 4 |
| Sharpen Detail | 25 |
| Sharpen Edge Masking | 0 |
| Sharpen Radius | +1.0 |
| Sharpness | Hard |
| Split Toning Balance | 0 |
| Split Toning Highlight Hue | 0 |
| Split Toning Highlight Saturation | 0 |
| Split Toning Shadow Hue | 0 |
| Split Toning Shadow Saturation | 0 |
| State | Bayern |
| Subject | Ausflugsziele, Kaiserburg, Nürnberg, Orte |
| Subject Distance Range | Distant |
| Tint | +10 |
| Tone Curve | 0, 0, 32, 22, 64, 56, 128, 128, 192, 196, 255, 255 |
| Tone Curve Name | Medium Contrast |
| Version | 5.4 |
| Vibrance | 0 |
| Vignette Amount | 0 |
| White Balance | Auto |
| White Point | 0.313, 0.329 |
GPS Information |
| GPS Altitude | 339 m Above Sea Level |
| GPS Altitude Ref | Above Sea Level |
| GPS Date Stamp | 2009:06:28 |
| GPS Date/Time | 2009:06:28 12:21:31Z |
| GPS Latitude | 49 deg 27' 29.06" N |
| GPS Latitude Ref | North |
| GPS Longitude | 11 deg 4' 32.22" E |
| GPS Longitude Ref | East |
| GPS Map Datum | WGS-84 |
| GPS Position | 49 deg 27' 29.06" N, 11 deg 4' 32.22" E |
| GPS Satellites | 0 |
| GPS Time Stamp | 12:21:31 |
| GPS Version ID | 2.2.0.0 |
X