Shooting information for this photo
Camera: | PENTAX Corporation PENTAX K200D |
Exposure: | 0.01667 sec. (1/60) |
Aperture: | f/6.7 |
Focal Length: | 43.0 mm (35 mm equivalent: 64.0 mm) |
Flash: | Off, Did not fire |
Exposure mode: | Landscape |
Resolution: | 240 x 240 dpi |
Dimension: | 2812 x 1874 pixels |
Original Date: | 2008:08:02 13:40:48 |
Digitized Date: | 2008:08:02 13:40:48+02:00 |
Created on: | 2008:08:02 13:40:48 |
Modified on: | 2008:08:03 11:12:57 |
Software: | K200D Ver 1.00 |
Copyright: | Copyright 2008 by Tobias Bauer. |
Already Applied | True |
Artist | Tobias Bauer |
Blue Hue | 0 |
Blue Saturation | 0 |
Brightness | +28 |
Camera Profile | ACR 4.4 |
Chromatic Aberration B | 0 |
Chromatic Aberration R | 0 |
Circle Of Confusion | 0.020 mm |
City | Marktredwitz |
Clarity | 0 |
Color Noise Reduction | 25 |
Color Temperature | 5500 |
Contrast | High |
Convert To Grayscale | False |
Country | Deutschland |
Country Code | DEU |
Creator | Tobias Bauer |
Crop Angle | 0 |
Crop Bottom | 0.89694 |
Crop Height | 1874 |
Crop Left | 0.172414 |
Crop Right | 0.89858 |
Crop Top | 0.173763 |
Crop Unit | pixels |
Crop Width | 2812 |
Custom Rendered | Normal |
Defringe | 0 |
Exposure | +0.95 |
Exposure Compensation | 0 |
Exposure Mode | Auto |
Field Of View | 31.4 deg |
Fill Light | 0 |
Flash Fired | False |
Flash Function | False |
Flash Mode | Off |
Flash Red Eye Mode | False |
Flash Return | No return detection |
Focal Length In 35mm Format | 64 mm |
Green Hue | 0 |
Green Saturation | 0 |
Has Crop | True |
Has Settings | True |
Hierarchical Subject | Ereignisse|FieldDay, Orte|Deutschland, Orte|Deutschland|Bayern, Orte|Deutschland|Bayern|Haingr ün, Orte|Deutschland|Bayern|Marktr edwitz, Sonstiges|DARC, Sonstiges|DARC|FieldDay 2008 |
Highlight Recovery | 100 |
Hue Adjustment Aqua | 0 |
Hue Adjustment Blue | 0 |
Hue Adjustment Green | 0 |
Hue Adjustment Magenta | 0 |
Hue Adjustment Orange | 0 |
Hue Adjustment Purple | 0 |
Hue Adjustment Red | 0 |
Hue Adjustment Yellow | 0 |
Hyperfocal Distance | 13.67 m |
ISO | 100 |
Image Size | 2812x1874 |
Lens | smc PENTAX-DA 18-55mm F3.5-5.6 AL |
Lens ID | smc PENTAX-DA 18-55mm F3.5-5.6 AL |
Lens Info | 18-55mm f/3.5-5.6 |
Light Value | 11.4 |
Location | Haingrün |
Luminance Adjustment Aqua | 0 |
Luminance Adjustment Blue | 0 |
Luminance Adjustment Green | 0 |
Luminance Adjustment Magenta | 0 |
Luminance Adjustment Orange | 0 |
Luminance Adjustment Purple | 0 |
Luminance Adjustment Red | 0 |
Luminance Adjustment Yellow | 0 |
Luminance Smoothing | 0 |
Marked | True |
Metering Mode | Multi-segment |
Parametric Darks | 0 |
Parametric Highlight Split | 75 |
Parametric Highlights | 0 |
Parametric Lights | 0 |
Parametric Midtone Split | 50 |
Parametric Shadow Split | 25 |
Parametric Shadows | 0 |
Post Crop Vignette Amount | 0 |
Red Hue | 0 |
Red Saturation | 0 |
Rights | Copyright 2008 by Tobias Bauer. |
Saturation | Normal |
Saturation Adjustment Aqua | 0 |
Saturation Adjustment Blue | 0 |
Saturation Adjustment Green | 0 |
Saturation Adjustment Magenta | 0 |
Saturation Adjustment Orange | 0 |
Saturation Adjustment Purple | 0 |
Saturation Adjustment Red | 0 |
Saturation Adjustment Yellow | 0 |
Scale Factor To 35 mm Equivalent | 1.5 |
Scene Capture Type | Landscape |
Sensing Method | One-chip color area |
Shadow Tint | 0 |
Shadows | 11 |
Sharpen Detail | 25 |
Sharpen Edge Masking | 0 |
Sharpen Radius | +1.0 |
Sharpness | Hard |
Split Toning Balance | 0 |
Split Toning Highlight Hue | 0 |
Split Toning Highlight Saturation | 0 |
Split Toning Shadow Hue | 0 |
Split Toning Shadow Saturation | 0 |
State | Bayern |
Subject | Bayern, DARC, Deutschland, Ereignisse, FieldDay, FieldDay 2008, Haingrün, Marktredwitz, Sonstiges |
Subject Distance Range | Distant |
Tint | +10 |
Tone Curve | 0, 0, 32, 22, 64, 56, 128, 128, 192, 196, 255, 255 |
Tone Curve Name | Medium Contrast |
Version | 4.5 |
Vibrance | 0 |
Vignette Amount | 0 |
White Balance | Auto |
GPS Information |
GPS Altitude | 631.5 m Above Sea Level |
GPS Altitude Ref | Above Sea Level |
GPS Date Stamp | 2008:08:02 |
GPS Date/Time | 2008:08:02 11:40:48Z |
GPS Latitude | 50 deg 0' 0.77" N |
GPS Latitude Ref | North |
GPS Longitude | 12 deg 8' 21.79" E |
GPS Longitude Ref | East |
GPS Map Datum | WGS-84 |
GPS Position | 50 deg 0' 0.77" N, 12 deg 8' 21.79" E |
GPS Satellites | 0 |
GPS Time Stamp | 11:40:48 |
GPS Version ID | 2.2.0.0 |