Shooting information for this photo
Camera: | PENTAX Corporation PENTAX K200D |
Exposure: | 0.02222 sec. (1/45) |
Aperture: | f/6.7 |
Focal Length: | 45.0 mm (35 mm equivalent: 67.0 mm) |
Flash: | Off, Did not fire |
Exposure mode: | Landscape |
Resolution: | 240 x 240 dpi |
Dimension: | 3872 x 2592 pixels |
Original Date: | 2008:08:03 08:41:21 |
Digitized Date: | 2008:08:03 08:41:21+02:00 |
Created on: | 2008:08:03 08:41:21 |
Modified on: | 2008:08:03 11:40:39 |
Software: | K200D Ver 1.00 |
Copyright: | Copyright 2008 by Tobias Bauer. |
Already Applied | True |
Artist | Tobias Bauer |
Blue Hue | 0 |
Blue Saturation | 0 |
Brightness | +60 |
Camera Profile | ACR 4.4 |
Chromatic Aberration B | 0 |
Chromatic Aberration R | 0 |
Circle Of Confusion | 0.020 mm |
City | Tröstau |
Clarity | 0 |
Color Noise Reduction | 25 |
Color Temperature | 5500 |
Contrast | High |
Convert To Grayscale | False |
Country | Deutschland |
Country Code | DEU |
Creator | Tobias Bauer |
Custom Rendered | Normal |
Defringe | 0 |
Description | Pilot: Uli Dembinski "The Cobra".Deutscher Meister im Motorkunstflug.Weltrekordhalte r mit 222 Loopings am Stück..Kenngröße Daten .Baujahre 1987 (2000 Überholt).Hersteller Jakowlew .Spannweite 8,20 m .Länge 7,48 m .Höhe 2,00 m .Flügelfläche 14,3 m² .Leergewicht 640 kg .Startgewicht 840 kg .Besatzung 1 .Steigleistung 16 m/s .Höchstgeschwindigkeit 320 km/h .Startrollstrecke 150 m .Landerollstrecke 200 m .Triebwerk ein Iwtschenko M-14P .Leistung 265 kW / 360 PS .G-limit -9 / +9 |
Exposure | 0.00 |
Exposure Compensation | 0 |
Exposure Mode | Auto |
Field Of View | 30.1 deg |
Fill Light | 0 |
Flash Fired | False |
Flash Function | False |
Flash Mode | Off |
Flash Red Eye Mode | False |
Flash Return | No return detection |
Focal Length In 35mm Format | 67 mm |
Green Hue | 0 |
Green Saturation | 0 |
Has Crop | False |
Has Settings | True |
Hierarchical Subject | Ereignisse|Flugfest Tröstau, Orte|Deutschland, Orte|Deutschland|Bayern, Orte|Deutschland|Bayern|Tröst au, Sonstiges|Fahrzeuge|Flugzeug, Sonstiges|Fahrzeuge|Flugzeug|J akowlew Jak-55 |
Highlight Recovery | 70 |
Hue Adjustment Aqua | 0 |
Hue Adjustment Blue | 0 |
Hue Adjustment Green | 0 |
Hue Adjustment Magenta | 0 |
Hue Adjustment Orange | 0 |
Hue Adjustment Purple | 0 |
Hue Adjustment Red | 0 |
Hue Adjustment Yellow | 0 |
Hyperfocal Distance | 14.98 m |
ISO | 200 |
Image Description | Pilot: Uli Dembinski "The Cobra".Deutscher Meister im Motorkunstflug.Weltrekordhalte r mit 222 Loopings am Stuck..Kenngro?e Daten .Baujahre 1987 (2000 Uberholt).Hersteller Jakowlew .Spannweite 8,20 m .Lange 7,48 m .Hohe 2,00 m .Flugelflache 14,3 m? .Leergewicht 640 kg .Startgewicht 840 kg .Besatzung 1 .Steigleistung 16 m/s .Hochstgeschwindigkeit 320 km/h .Startrollstrecke 150 m .Landerollstrecke 200 m .Triebwerk ein Iwtschenko M-14P .Leistung 265 kW / 360 PS .G-limit -9 / +9 |
Image Size | 3872x2592 |
Lens | smc PENTAX-DA 18-55mm F3.5-5.6 AL |
Lens ID | smc PENTAX-DA 18-55mm F3.5-5.6 AL |
Lens Info | 18-55mm f/3.5-5.6 |
Light Value | 10.0 |
Location | Tröstau |
Luminance Adjustment Aqua | 0 |
Luminance Adjustment Blue | 0 |
Luminance Adjustment Green | 0 |
Luminance Adjustment Magenta | 0 |
Luminance Adjustment Orange | 0 |
Luminance Adjustment Purple | 0 |
Luminance Adjustment Red | 0 |
Luminance Adjustment Yellow | 0 |
Luminance Smoothing | 0 |
Marked | True |
Metering Mode | Multi-segment |
Parametric Darks | 0 |
Parametric Highlight Split | 75 |
Parametric Highlights | 0 |
Parametric Lights | 0 |
Parametric Midtone Split | 50 |
Parametric Shadow Split | 25 |
Parametric Shadows | 0 |
Post Crop Vignette Amount | 0 |
Red Hue | 0 |
Red Saturation | 0 |
Rights | Copyright 2008 by Tobias Bauer. |
Saturation | Normal |
Saturation Adjustment Aqua | 0 |
Saturation Adjustment Blue | 0 |
Saturation Adjustment Green | 0 |
Saturation Adjustment Magenta | 0 |
Saturation Adjustment Orange | 0 |
Saturation Adjustment Purple | 0 |
Saturation Adjustment Red | 0 |
Saturation Adjustment Yellow | 0 |
Scale Factor To 35 mm Equivalent | 1.5 |
Scene Capture Type | Landscape |
Sensing Method | One-chip color area |
Shadow Tint | 0 |
Shadows | 8 |
Sharpen Detail | 25 |
Sharpen Edge Masking | 0 |
Sharpen Radius | +1.0 |
Sharpness | Hard |
Split Toning Balance | 0 |
Split Toning Highlight Hue | 0 |
Split Toning Highlight Saturation | 0 |
Split Toning Shadow Hue | 0 |
Split Toning Shadow Saturation | 0 |
State | Bayern |
Subject | Bayern, Deutschland, Ereignisse, Fahrzeuge, Flugfest Tröstau, Flugzeug, Jakowlew Jak-55, Sonstiges, Tröstau |
Subject Distance Range | Distant |
Tint | +10 |
Title | Jakowlew Jak-55 |
Tone Curve | 0, 0, 32, 22, 64, 56, 128, 128, 192, 196, 255, 255 |
Tone Curve Name | Medium Contrast |
Version | 4.5 |
Vibrance | 0 |
Vignette Amount | 0 |
White Balance | Auto |
GPS Information |
GPS Altitude | 562 m Above Sea Level |
GPS Altitude Ref | Above Sea Level |
GPS Date Stamp | 2008:08:03 |
GPS Date/Time | 2008:08:03 06:41:21Z |
GPS Latitude | 50 deg 1' 10.90" N |
GPS Latitude Ref | North |
GPS Longitude | 11 deg 55' 59.86" E |
GPS Longitude Ref | East |
GPS Map Datum | WGS-84 |
GPS Position | 50 deg 1' 10.90" N, 11 deg 55' 59.86" E |
GPS Satellites | 0 |
GPS Time Stamp | 06:41:21 |
GPS Version ID | 2.2.0.0 |