Shooting information for this photo
Camera: | PENTAX Corporation PENTAX K200D |
Exposure: | 0.004 sec. (1/250) |
Aperture: | f/8.0 |
Focal Length: | 38.0 mm (35 mm equivalent: 57.0 mm) |
Flash: | Off, Did not fire |
Exposure mode: | Program AE |
Resolution: | 240 x 240 dpi |
Original Date: | 2008:05:12 10:52:18 |
Digitized Date: | 2008:05:12 10:52:18+02:00 |
Created on: | 2008:05:12 10:52:18 |
Modified on: | 2008:05:17 14:23:40 |
Software: | Adobe Photoshop Elements 6.0 |
Copyright: | Copyright 2008 by Tobias Bauer. |
Already Applied | True |
Artist | Tobias Bauer |
Blue Hue | 0 |
Blue Saturation | 0 |
Brightness | +33 |
CFA Pattern | [Red,Green][Green,Blue] |
Camera Profile | Embedded |
Chromatic Aberration B | 0 |
Chromatic Aberration R | 0 |
Circle Of Confusion | 0.020 mm |
Clarity | 0 |
Color Noise Reduction | 25 |
Color Temperature | 5500 |
Contrast | High |
Convert To Grayscale | False |
Creator | Tobias Bauer |
Custom Rendered | Normal |
Defringe | 0 |
Exposure | 0.00 |
Exposure Compensation | 0 |
Exposure Mode | Auto |
Field Of View | 35.1 deg |
Fill Light | 0 |
Flash Fired | False |
Flash Function | False |
Flash Mode | Off |
Flash Red Eye Mode | False |
Flash Return | No return detection |
Focal Length In 35mm Format | 57 mm |
Green Hue | 0 |
Green Saturation | 0 |
Has Crop | False |
Has Settings | True |
Highlight Recovery | 20 |
Hue Adjustment Aqua | 0 |
Hue Adjustment Blue | 0 |
Hue Adjustment Green | 0 |
Hue Adjustment Magenta | 0 |
Hue Adjustment Orange | 0 |
Hue Adjustment Purple | 0 |
Hue Adjustment Red | 0 |
Hue Adjustment Yellow | 0 |
Hyperfocal Distance | 9.01 m |
ISO | 100 |
Image Size | 3872x2592 |
Lens | smc PENTAX-DA 18-55mm F3.5-5.6 AL |
Lens ID | smc PENTAX-DA 18-55mm F3.5-5.6 AL |
Lens Info | 18-55mm f/3.5-5.6 |
Light Value | 14.0 |
Luminance Adjustment Aqua | 0 |
Luminance Adjustment Blue | 0 |
Luminance Adjustment Green | 0 |
Luminance Adjustment Magenta | 0 |
Luminance Adjustment Orange | 0 |
Luminance Adjustment Purple | 0 |
Luminance Adjustment Red | 0 |
Luminance Adjustment Yellow | 0 |
Luminance Smoothing | 0 |
Marked | True |
Metering Mode | Multi-segment |
Parametric Darks | 0 |
Parametric Highlight Split | 75 |
Parametric Highlights | 0 |
Parametric Lights | 0 |
Parametric Midtone Split | 50 |
Parametric Shadow Split | 25 |
Parametric Shadows | 0 |
Red Hue | 0 |
Red Saturation | 0 |
Rights | Copyright 2008 by Tobias Bauer. |
Saturation | Normal |
Saturation Adjustment Aqua | 0 |
Saturation Adjustment Blue | 0 |
Saturation Adjustment Green | 0 |
Saturation Adjustment Magenta | 0 |
Saturation Adjustment Orange | 0 |
Saturation Adjustment Purple | 0 |
Saturation Adjustment Red | 0 |
Saturation Adjustment Yellow | 0 |
Scale Factor To 35 mm Equivalent | 1.5 |
Scene Capture Type | Standard |
Sensing Method | One-chip color area |
Shadow Tint | 0 |
Shadows | 4 |
Sharpen Detail | 25 |
Sharpen Edge Masking | 0 |
Sharpen Radius | +1.0 |
Sharpness | Hard |
Split Toning Balance | 0 |
Split Toning Highlight Hue | 0 |
Split Toning Highlight Saturation | 0 |
Split Toning Shadow Hue | 0 |
Split Toning Shadow Saturation | 0 |
Subject | Ausflugsziele, Bad Windsheim, Fränkisches Freilandmuseum, Orte, Ortschaften |
Subject Distance Range | Distant |
Tint | +10 |
Tone Curve | 0, 0, 32, 22, 64, 56, 128, 128, 192, 196, 255, 255 |
Tone Curve Name | Medium Contrast |
Version | 4.4.1 |
Vibrance | 0 |
Vignette Amount | 0 |
White Balance | Auto |