Shooting information for this photo
Camera: | PENTAX Corporation PENTAX K10D |
Exposure: | 0.008 sec. (1/125) |
Focal Length: | 100.0 mm (35 mm equivalent: 150.0 mm) |
Flash: | Off, Did not fire |
Exposure mode: | Manual |
Resolution: | 72 x 72 dpi |
Dimension: | 1600 x 1067 pixels |
Original Date: | 2012:09:04 20:33:47 |
Digitized Date: | 2012:09:04 20:33:47+10:00 |
Created on: | 2012:09:04 20:33:47 |
Modified on: | 2021:02:16 13:53:01 |
Software: | Adobe Photoshop Elements 9.0 Windows |
Copyright: | Copyright George Cook "Tiabunna" |
Already Applied | True |
Blue Hue | 0 |
Blue Saturation | 0 |
Brightness | +50 |
Camera Profile | ACR 3.7 |
Caption Writer | scanned slide |
Chromatic Aberration B | 0 |
Chromatic Aberration R | 0 |
Circle Of Confusion | 0.020 mm |
Clarity | 77 |
Color Mode | RGB |
Color Noise Reduction | 25 |
Color Space | sRGB |
Color Temperature | 24000 |
Contrast | High |
Convert To Grayscale | False |
Crop Angle | 0 |
Crop Bottom | 0.995573 |
Crop Height | 3 |
Crop Left | 0.161558 |
Crop Right | 0.898617 |
Crop Top | 0.261547 |
Crop Unit | Unknown (3) |
Crop Width | 2 |
Custom Rendered | Normal |
Defringe | 0 |
Description | Just arrived at PCM main campsite, Prince Charles Mtns, 1966, late at night. Mt Lacey to R, Mt Bechervaise behind vans. |
Exposure | +0.85 |
Exposure Compensation | 0 |
Exposure Mode | Manual |
Field Of View | 13.7 deg |
Fill Light | 20 |
Flash Fired | False |
Flash Function | False |
Flash Mode | Off |
Flash Red Eye Mode | False |
Flash Return | No return detection |
Focal Length In 35mm Format | 150 mm |
Format | image/jpeg |
Green Hue | 0 |
Green Saturation | 0 |
Has Crop | True |
Has Settings | True |
Highlight Recovery | 68 |
Hue Adjustment Aqua | 0 |
Hue Adjustment Blue | 0 |
Hue Adjustment Green | 0 |
Hue Adjustment Magenta | 0 |
Hue Adjustment Orange | 0 |
Hue Adjustment Purple | 0 |
Hue Adjustment Red | 0 |
Hue Adjustment Yellow | 0 |
ICC Profile Name | sRGB IEC61966-2.1 |
ISO | 100 |
Image Description | Just arrived at PCM main campsite, Prince Charles Mtns, 1966, late at night. Mt Lacey to R, Mt Bechervaise behind vans. |
Image Size | 1600x1067 |
Lens ID | M-42 or No Lens |
Luminance Adjustment Aqua | 0 |
Luminance Adjustment Blue | 0 |
Luminance Adjustment Green | 0 |
Luminance Adjustment Magenta | 0 |
Luminance Adjustment Orange | 0 |
Luminance Adjustment Purple | 0 |
Luminance Adjustment Red | 0 |
Luminance Adjustment Yellow | 0 |
Luminance Smoothing | 0 |
Marked | True |
Metering Mode | Center-weighted average |
Parametric Darks | 0 |
Parametric Highlight Split | 75 |
Parametric Highlights | 0 |
Parametric Lights | 0 |
Parametric Midtone Split | 50 |
Parametric Shadow Split | 25 |
Parametric Shadows | 0 |
Rating | 0 |
Raw File Name | _IGP3721.DNG |
Red Hue | 0 |
Red Saturation | 0 |
Rights | Copyright George Cook "Tiabunna" |
Saturation | High |
Saturation Adjustment Aqua | 0 |
Saturation Adjustment Blue | 0 |
Saturation Adjustment Green | 0 |
Saturation Adjustment Magenta | 0 |
Saturation Adjustment Orange | 0 |
Saturation Adjustment Purple | 0 |
Saturation Adjustment Red | 0 |
Saturation Adjustment Yellow | 0 |
Scale Factor To 35 mm Equivalent | 1.5 |
Scene Capture Type | Standard |
Sensing Method | One-chip color area |
Shadow Tint | 0 |
Shadows | 5 |
Sharpen Detail | 25 |
Sharpen Edge Masking | 0 |
Sharpen Radius | +1.4 |
Sharpness | Normal |
Split Toning Balance | 0 |
Split Toning Highlight Hue | 0 |
Split Toning Highlight Saturation | 0 |
Split Toning Shadow Hue | 0 |
Split Toning Shadow Saturation | 0 |
Subject | Mawson 1966, Scanned slides/negs |
Subject Distance Range | Unknown |
Tint | +15 |
Tone Curve | 0, 0, 32, 22, 64, 56, 128, 128, 192, 196, 255, 255 |
Tone Curve Name | Medium Contrast |
Version | 4.2 |
Vibrance | +19 |
Vignette Amount | 0 |
White Balance | Manual |