Shooting information for this photo
| Camera: | Panasonic DMC-FZ20 |
| Exposure: | 0.01 sec. (1/100) |
| Aperture: | f/4.0 |
| Focal Length: | 6.2 mm (35 mm equivalent: 37.0 mm) |
| Flash: | Off, Did not fire |
| Exposure mode: | Aperture-priority AE |
| Max Aperture: | 2.8 |
| Resolution: | 120 x 120 dpi |
| Dimension: | 960 x 1280 pixels |
| Original Date: | 2011:09:17 15:22:51 |
| Digitized Date: | 2011:09:17 15:22:51Z |
| Created on: | 2011:09:17 15:22:51 |
| Modified on: | 2020:11:04 11:17:13 |
| Software: | Adobe Photoshop Elements 9.0 Windows |
| Copyright: | George Cook (Tiabunna) |
| Already Applied | True |
| Artist | George Cook |
| Auto Lateral CA | 0 |
| Blacks 2012 | -19 |
| Blue Hue | 0 |
| Blue Saturation | 0 |
| Camera Profile | Embedded |
| Circle Of Confusion | 0.005 mm |
| Clarity 2012 | +33 |
| Color Mode | RGB |
| Color Noise Reduction | 0 |
| Color Space | sRGB |
| Contrast | Normal |
| Contrast 2012 | +12 |
| Convert To Grayscale | False |
| Creator | George Cook |
| Custom Rendered | Custom |
| Date Created | 2011:09:17 |
| Defringe Green Amount | 0 |
| Defringe Green Hue Hi | 60 |
| Defringe Green Hue Lo | 40 |
| Defringe Purple Amount | 0 |
| Defringe Purple Hue Hi | 70 |
| Defringe Purple Hue Lo | 30 |
| Digital Zoom Ratio | 0 |
| Exposure 2012 | 0.00 |
| Exposure Compensation | 0 |
| Exposure Mode | Auto |
| Field Of View | 51.9 deg |
| Flash Fired | False |
| Flash Function | False |
| Flash Mode | Off |
| Flash Red Eye Mode | False |
| Flash Return | No return detection |
| Focal Length In 35mm Format | 37 mm |
| Format | image/jpeg |
| Gain Control | None |
| Grain Amount | 0 |
| Green Hue | 0 |
| Green Saturation | 0 |
| Has Crop | False |
| Has Settings | True |
| Highlights 2012 | +7 |
| Hue Adjustment Aqua | 0 |
| Hue Adjustment Blue | 0 |
| Hue Adjustment Green | 0 |
| Hue Adjustment Magenta | 0 |
| Hue Adjustment Orange | 0 |
| Hue Adjustment Purple | 0 |
| Hue Adjustment Red | 0 |
| Hue Adjustment Yellow | 0 |
| Hyperfocal Distance | 1.91 m |
| ICC Profile Name | sRGB IEC61966-2.1 |
| ISO | 100 |
| Image Size | 960x1280 |
| Incremental Temperature | 0 |
| Incremental Tint | 0 |
| Lens Manual Distortion Amount | 0 |
| Lens Profile Enable | 0 |
| Lens Profile Setup | LensDefaults |
| Light Source | Unknown |
| Light Value | 10.6 |
| Luminance Adjustment Aqua | 0 |
| Luminance Adjustment Blue | 0 |
| Luminance Adjustment Green | -11 |
| Luminance Adjustment Magenta | 0 |
| Luminance Adjustment Orange | 0 |
| Luminance Adjustment Purple | 0 |
| Luminance Adjustment Red | 0 |
| Luminance Adjustment Yellow | 0 |
| Luminance Noise Reduction Contrast | 0 |
| Luminance Noise Reduction Detail | 50 |
| Luminance Smoothing | 45 |
| Marked | True |
| Metering Mode | Multi-segment |
| Paint Correction Active | true |
| Paint Correction Amount | 1.000000 |
| Paint Correction Brightness | 0.000000 |
| Paint Correction Clarity 2012 | 0.126440 |
| Paint Correction Contrast 2012 | 0.080460 |
| Paint Correction Defringe | 0.000000 |
| Paint Correction Exposure 2012 | -0.218500 |
| Paint Correction Highlights 2012 | -0.356320 |
| Paint Correction Hue | 0.000000 |
| Paint Correction Luminance Noise | 0.000000 |
| Paint Correction Mask Center Weight | 0.214349 |
| Paint Correction Mask Flow | 0.931000 |
| Paint Correction Mask Radius | 0.124673 |
| Paint Correction Mask Value | 0.547000 |
| Paint Correction Mask What | Mask/Paint |
| Paint Correction Moire | 0.000000 |
| Paint Correction Saturation | 0.000000 |
| Paint Correction Shadows 2012 | 0.011490 |
| Paint Correction Sharpness | 0.310340 |
| Paint Correction Temperature | 0.023810 |
| Paint Correction Tint | 0.000000 |
| Paint Correction What | Correction |
| Parametric Darks | 0 |
| Parametric Highlight Split | 75 |
| Parametric Highlights | 0 |
| Parametric Lights | 0 |
| Parametric Midtone Split | 50 |
| Parametric Shadow Split | 25 |
| Parametric Shadows | 0 |
| Perspective Horizontal | 0 |
| Perspective Rotate | 0.0 |
| Perspective Scale | 100 |
| Perspective Vertical | 0 |
| Post Crop Vignette Amount | 0 |
| Process Version | 6.7 |
| Red Hue | 0 |
| Red Saturation | 0 |
| Rights | George Cook (Tiabunna) |
| Saturation | Normal |
| Saturation Adjustment Aqua | 0 |
| Saturation Adjustment Blue | 0 |
| Saturation Adjustment Green | -7 |
| Saturation Adjustment Magenta | 0 |
| Saturation Adjustment Orange | 0 |
| Saturation Adjustment Purple | 0 |
| Saturation Adjustment Red | 0 |
| Saturation Adjustment Yellow | 0 |
| Scale Factor To 35 mm Equivalent | 6.0 |
| Scene Capture Type | Standard |
| Scene Type | Directly photographed |
| Sensing Method | One-chip color area |
| Shadow Tint | 0 |
| Shadows 2012 | -14 |
| Sharpen Detail | 25 |
| Sharpen Edge Masking | 0 |
| Sharpen Radius | +1.8 |
| Sharpness | Normal |
| Split Toning Balance | 0 |
| Split Toning Highlight Hue | 0 |
| Split Toning Highlight Saturation | 0 |
| Split Toning Shadow Hue | 0 |
| Split Toning Shadow Saturation | 0 |
| Subject | Laos |
| Tone Curve Name 2012 | Linear |
| Tone Curve PV2012 | 0, 0, 255, 255 |
| Tone Curve PV2012 Blue | 0, 0, 255, 255 |
| Tone Curve PV2012 Green | 0, 0, 255, 255 |
| Tone Curve PV2012 Red | 0, 0, 255, 255 |
| Version | 7.1 |
| Vibrance | +7 |
| Vignette Amount | 0 |
| White Balance | Auto |
| Whites 2012 | 0 |
X