Shooting information for this photo
| Camera: | PENTAX Corporation PENTAX K10D |
| Exposure: | 0.01111 sec. (1/90) |
| Aperture: | f/5.6 |
| Focal Length: | 40.0 mm (35 mm equivalent: 60.0 mm) |
| Flash: | Off, Did not fire |
| Exposure mode: | Aperture-priority AE |
| Resolution: | 72 x 72 dpi |
| Dimension: | 1162 x 778 pixels |
| Original Date: | 2011:09:17 10:58:56 |
| Digitized Date: | 2011:09:17 10:58:56Z |
| Created on: | 2011:09:17 10:58:56 |
| Modified on: | 2020:10:19 10:12:38 |
| Software: | Adobe Photoshop Elements 9.0 Windows |
| Copyright: | George Cook (Tiabunna) |
| Already Applied | True |
| Artist | George Cook |
| Auto Lateral CA | 1 |
| Blacks 2012 | -52 |
| Blue Hue | 0 |
| Blue Saturation | 0 |
| Camera Profile | Embedded |
| Circle Of Confusion | 0.020 mm |
| Clarity 2012 | +36 |
| Color Mode | RGB |
| Color Noise Reduction | 0 |
| Color Space | sRGB |
| Color Temperature | 6500 |
| Contrast | High |
| Contrast 2012 | +21 |
| Convert To Grayscale | False |
| Creator | George Cook |
| Custom Rendered | Normal |
| Date Created | 2011:09:17 |
| Defringe Green Amount | 0 |
| Defringe Green Hue Hi | 76 |
| Defringe Green Hue Lo | 40 |
| Defringe Purple Amount | 5 |
| Defringe Purple Hue Hi | 70 |
| Defringe Purple Hue Lo | 30 |
| Exposure 2012 | +0.24 |
| Exposure Compensation | +1/2 |
| Exposure Mode | Manual |
| Field Of View | 33.4 deg |
| Flash Fired | False |
| Flash Function | False |
| Flash Mode | Off |
| Flash Red Eye Mode | False |
| Flash Return | No return detection |
| Focal Length In 35mm Format | 60 mm |
| Format | image/jpeg |
| Grain Amount | 0 |
| Green Hue | 0 |
| Green Saturation | 0 |
| Has Crop | False |
| Has Settings | True |
| Highlights 2012 | +2 |
| Hue Adjustment Aqua | 0 |
| Hue Adjustment Blue | 0 |
| Hue Adjustment Green | 0 |
| Hue Adjustment Magenta | 0 |
| Hue Adjustment Orange | 0 |
| Hue Adjustment Purple | 0 |
| Hue Adjustment Red | 0 |
| Hue Adjustment Yellow | 0 |
| Hyperfocal Distance | 14.26 m |
| ICC Profile Name | sRGB IEC61966-2.1 |
| ISO | 200 |
| Image Size | 1162x778 |
| Lens | SIGMA 18-50mm F3.5-5.6 DC |
| Lens ID | Sigma 18-50mm F3.5-5.6 DC |
| Lens Info | 18-50mm f/3.5-5.6 |
| Lens Manual Distortion Amount | 0 |
| Lens Model | SIGMA 18-50mm F3.5-5.6 DC |
| Lens Profile Enable | 1 |
| Lens Profile Setup | LensDefaults |
| Light Value | 10.5 |
| Luminance Adjustment Aqua | 0 |
| Luminance Adjustment Blue | 0 |
| Luminance Adjustment Green | 0 |
| Luminance Adjustment Magenta | 0 |
| Luminance Adjustment Orange | 0 |
| Luminance Adjustment Purple | 0 |
| Luminance Adjustment Red | 0 |
| Luminance Adjustment Yellow | 0 |
| Luminance Noise Reduction Contrast | 0 |
| Luminance Noise Reduction Detail | 50 |
| Luminance Smoothing | 45 |
| Marked | True |
| Metering Mode | Center-weighted average |
| Paint Correction Active | true |
| Paint Correction Amount | 1.000000 |
| Paint Correction Brightness | 0.000000 |
| Paint Correction Clarity 2012 | 0.402300 |
| Paint Correction Contrast 2012 | 0.448280 |
| Paint Correction Defringe | 0.000000 |
| Paint Correction Exposure 2012 | 0.195500 |
| Paint Correction Highlights 2012 | 0.333330 |
| Paint Correction Hue | 0.000000 |
| Paint Correction Luminance Noise | 0.000000 |
| Paint Correction Mask Center Weight | 0.069955 |
| Paint Correction Mask Flow | 0.586000 |
| Paint Correction Mask Radius | 0.012610 |
| Paint Correction Mask Value | 0.547000 |
| Paint Correction Mask What | Mask/Paint |
| Paint Correction Moire | 0.000000 |
| Paint Correction Saturation | 0.000000 |
| Paint Correction Shadows 2012 | -1.000000 |
| Paint Correction Sharpness | 0.080460 |
| Paint Correction Temperature | 0.023810 |
| Paint Correction Tint | 0.000000 |
| Paint Correction What | Correction |
| Parametric Darks | 0 |
| Parametric Highlight Split | 75 |
| Parametric Highlights | 0 |
| Parametric Lights | 0 |
| Parametric Midtone Split | 50 |
| Parametric Shadow Split | 25 |
| Parametric Shadows | 0 |
| Perspective Horizontal | 0 |
| Perspective Rotate | 0.0 |
| Perspective Scale | 100 |
| Perspective Vertical | 0 |
| Post Crop Vignette Amount | 0 |
| Process Version | 6.7 |
| Red Hue | 0 |
| Red Saturation | 0 |
| Rights | George Cook (Tiabunna) |
| Saturation | High |
| Saturation Adjustment Aqua | 0 |
| Saturation Adjustment Blue | 0 |
| Saturation Adjustment Green | 0 |
| Saturation Adjustment Magenta | 0 |
| Saturation Adjustment Orange | 0 |
| Saturation Adjustment Purple | 0 |
| Saturation Adjustment Red | 0 |
| Saturation Adjustment Yellow | 0 |
| Scale Factor To 35 mm Equivalent | 1.5 |
| Scene Capture Type | Standard |
| Sensing Method | One-chip color area |
| Shadow Tint | 0 |
| Shadows 2012 | +57 |
| Sharpen Detail | 25 |
| Sharpen Edge Masking | 0 |
| Sharpen Radius | +1.8 |
| Sharpness | Normal |
| Split Toning Balance | 0 |
| Split Toning Highlight Hue | 0 |
| Split Toning Highlight Saturation | 0 |
| Split Toning Shadow Hue | 0 |
| Split Toning Shadow Saturation | 0 |
| Subject Distance Range | Distant |
| Tint | +92 |
| Tone Curve Name 2012 | Linear |
| Tone Curve PV2012 | 0, 0, 255, 255 |
| Tone Curve PV2012 Blue | 0, 0, 255, 255 |
| Tone Curve PV2012 Green | 0, 0, 255, 255 |
| Tone Curve PV2012 Red | 0, 0, 255, 255 |
| Version | 7.1 |
| Vibrance | +5 |
| Vignette Amount | 0 |
| White Balance | Manual |
| Whites 2012 | 0 |
X