Shooting information for this photo
| Camera: | RICOH IMAGING COMPANY, LTD. PENTAX K-1 |
| Exposure: | 0.06667 sec. (1/15) |
| Aperture: | f/8.0 |
| Focal Length: | 100.0 mm (35 mm equivalent: 100.0 mm) |
| Flash: | Off, Did not fire |
| Exposure mode: | Aperture-priority AE |
| Resolution: | 72 x 72 dpi |
| Dimension: | 1500 x 1001 pixels |
| Original Date: | 2018:08:21 15:39:43 |
| Digitized Date: | 2018:08:21 15:39:43+10:00 |
| Created on: | 2018:08:21 15:39:43 |
| Modified on: | 2018:08:21 18:07:02 |
| Software: | Adobe Photoshop Elements 6.0 Windows |
| Copyright: | Copyright George Cook (Tiabunna) |
| Already Applied | True |
| Artist | George_Cook |
| Auto Lateral CA | 0 |
| Blacks 2012 | -21 |
| Blue Hue | 0 |
| Blue Saturation | 0 |
| Camera Profile | Embedded |
| Caption Writer | SMC Pentax-FA Macro 1:2.8 100mm |
| Circle Of Confusion | 0.030 mm |
| Clarity 2012 | +50 |
| Color Mode | RGB |
| Color Noise Reduction | 25 |
| Color Noise Reduction Detail | 50 |
| Color Space | sRGB |
| Color Temperature | 5150 |
| Contrast | High |
| Contrast 2012 | 0 |
| Convert To Grayscale | False |
| Creator | George_Cook |
| Crop Angle | 0 |
| Crop Bottom | 0.9498 |
| Crop Constrain To Warp | 0 |
| Crop Height | 4197 |
| Crop Left | 0.019521 |
| Crop Right | 0.874002 |
| Crop Top | 0.095319 |
| Crop Unit | pixels |
| Crop Width | 6289 |
| Custom Rendered | Normal |
| Date Created | 2018:08:21 |
| Defringe Green Amount | 0 |
| Defringe Green Hue Hi | 60 |
| Defringe Green Hue Lo | 40 |
| Defringe Purple Amount | 0 |
| Defringe Purple Hue Hi | 70 |
| Defringe Purple Hue Lo | 30 |
| Exposure 2012 | 0.00 |
| Exposure Compensation | -1 |
| Exposure Mode | Manual |
| Field Of View | 20.4 deg |
| Flash Fired | False |
| Flash Function | False |
| Flash Mode | Off |
| Flash Red Eye Mode | False |
| Flash Return | No return detection |
| Focal Length In 35mm Format | 100 mm |
| Format | image/jpeg |
| Grain Amount | 0 |
| Green Hue | 0 |
| Green Saturation | 0 |
| Has Crop | True |
| Has Settings | True |
| Highlights 2012 | -12 |
| Hue Adjustment Aqua | 0 |
| Hue Adjustment Blue | 0 |
| Hue Adjustment Green | 0 |
| Hue Adjustment Magenta | 0 |
| Hue Adjustment Orange | 0 |
| Hue Adjustment Purple | 0 |
| Hue Adjustment Red | 0 |
| Hue Adjustment Yellow | 0 |
| Hyperfocal Distance | 41.60 m |
| ICC Profile Name | sRGB IEC61966-2.1 |
| ISO | 1600 |
| Image Size | 1500x1001 |
| Lens | smc PENTAX-FA MACRO 100mm F2.8 |
| Lens ID | Unknown (5 9) |
| Lens Info | 100mm f/2.8 |
| Lens Manual Distortion Amount | 0 |
| Lens Model | smc PENTAX-FA MACRO 100mm F2.8 |
| Lens Profile Enable | 0 |
| Lens Profile Setup | LensDefaults |
| Light Value | 5.9 |
| Luminance Adjustment Aqua | 0 |
| Luminance Adjustment Blue | 0 |
| Luminance Adjustment Green | 0 |
| Luminance Adjustment Magenta | 0 |
| Luminance Adjustment Orange | 0 |
| Luminance Adjustment Purple | 0 |
| Luminance Adjustment Red | 0 |
| Luminance Adjustment Yellow | 0 |
| Luminance Smoothing | 0 |
| Marked | True |
| Metering Mode | Multi-segment |
| Paint Correction Active | true |
| Paint Correction Amount | 1.000000 |
| Paint Correction Brightness | 0.000000 |
| Paint Correction Clarity 2012 | 0.309520 |
| Paint Correction Contrast 2012 | 0.000000 |
| Paint Correction Defringe | 0.000000 |
| Paint Correction Exposure 2012 | 0.047500 |
| Paint Correction Highlights 2012 | 0.023810 |
| Paint Correction Hue | 0.000000 |
| Paint Correction Luminance Noise | 0.000000 |
| Paint Correction Mask Center Weight | 0.188984 |
| Paint Correction Mask Flow | 0.525000 |
| Paint Correction Mask Radius | 0.152195 |
| Paint Correction Mask Value | 0.682000 |
| Paint Correction Mask What | Mask/Paint |
| Paint Correction Moire | 0.000000 |
| Paint Correction Saturation | 0.000000 |
| Paint Correction Shadows 2012 | 0.571430 |
| Paint Correction Sharpness | -0.047620 |
| Paint Correction Temperature | 0.023810 |
| Paint Correction Tint | 0.023810 |
| Paint Correction What | Correction |
| Parametric Darks | 0 |
| Parametric Highlight Split | 75 |
| Parametric Highlights | 0 |
| Parametric Lights | 0 |
| Parametric Midtone Split | 50 |
| Parametric Shadow Split | 25 |
| Parametric Shadows | 0 |
| Perspective Horizontal | 0 |
| Perspective Rotate | 0.0 |
| Perspective Scale | 100 |
| Perspective Vertical | 0 |
| Post Crop Vignette Amount | 0 |
| Process Version | 6.7 |
| Red Hue | 0 |
| Red Saturation | 0 |
| Rights | Copyright George Cook (Tiabunna) |
| Saturation | Normal |
| Saturation Adjustment Aqua | 0 |
| Saturation Adjustment Blue | 0 |
| Saturation Adjustment Green | 0 |
| Saturation Adjustment Magenta | 0 |
| Saturation Adjustment Orange | 0 |
| Saturation Adjustment Purple | 0 |
| Saturation Adjustment Red | 0 |
| Saturation Adjustment Yellow | 0 |
| Scale Factor To 35 mm Equivalent | 1.0 |
| Scene Capture Type | Standard |
| Sensing Method | One-chip color area |
| Sensitivity Type | Standard Output Sensitivity |
| Shadow Tint | 0 |
| Shadows 2012 | +21 |
| Sharpen Detail | 25 |
| Sharpen Edge Masking | 0 |
| Sharpen Radius | +2.2 |
| Sharpness | Hard |
| Split Toning Balance | 0 |
| Split Toning Highlight Hue | 0 |
| Split Toning Highlight Saturation | 0 |
| Split Toning Shadow Hue | 0 |
| Split Toning Shadow Saturation | 0 |
| Standard Output Sensitivity | 1600 |
| Subject Distance Range | Macro |
| Tint | +15 |
| Tone Curve Name 2012 | Medium Contrast |
| Tone Curve PV2012 | 0, 0, 32, 22, 64, 56, 128, 128, 192, 196, 255, 255 |
| Tone Curve PV2012 Blue | 0, 0, 255, 255 |
| Tone Curve PV2012 Green | 0, 0, 255, 255 |
| Tone Curve PV2012 Red | 0, 0, 255, 255 |
| Version | 7.4 |
| Vibrance | +21 |
| Vignette Amount | 0 |
| White Balance | Auto |
| Whites 2012 | 0 |
X