Shooting information for this photo
| Camera: | RICOH IMAGING COMPANY, LTD. PENTAX K-1 |
| Exposure: | 6 sec. |
| Aperture: | f/22.0 |
| Focal Length: | 31.0 mm (35 mm equivalent: 31.0 mm) |
| Flash: | Off, Did not fire |
| Exposure mode: | Aperture-priority AE |
| Resolution: | 72 x 72 dpi |
| Dimension: | 1500 x 1010 pixels |
| Original Date: | 2016:10:15 19:09:26 |
| Digitized Date: | 2016:10:15 19:09:26+01:00 |
| Created on: | 2016:10:15 19:09:26 |
| Modified on: | 2016:10:16 01:50:29 |
| Software: | Adobe Photoshop Elements 6.0 Windows |
| Copyright: | Copyright George Cook "Tiabunna" |
| Already Applied | True |
| Artist | George_Cook |
| Auto Lateral CA | 0 |
| Blacks 2012 | 0 |
| Blue Hue | 0 |
| Blue Saturation | 0 |
| Camera Profile | Embedded |
| Caption Writer | Tokina AT-X Pro 1:2.8 28-70 |
| Circle Of Confusion | 0.030 mm |
| Clarity 2012 | +30 |
| Color Mode | RGB |
| Color Noise Reduction | 25 |
| Color Noise Reduction Detail | 50 |
| Color Space | sRGB |
| Color Temperature | 7146 |
| Contrast | Normal |
| Contrast 2012 | 0 |
| Convert To Grayscale | False |
| Creator | George_Cook |
| Crop Angle | 0 |
| Crop Bottom | 0.960106 |
| Crop Constrain To Warp | 0 |
| Crop Height | 4716 |
| Crop Left | 0.047915 |
| Crop Right | 1 |
| Crop Top | 0 |
| Crop Unit | pixels |
| Crop Width | 7007 |
| Custom Rendered | Normal |
| Date Created | 2016:10:15 |
| Defringe Green Amount | 0 |
| Defringe Green Hue Hi | 60 |
| Defringe Green Hue Lo | 40 |
| Defringe Purple Amount | 0 |
| Defringe Purple Hue Hi | 70 |
| Defringe Purple Hue Lo | 30 |
| Exposure 2012 | 0.00 |
| Exposure Compensation | 0 |
| Exposure Mode | Auto |
| Field Of View | 60.3 deg |
| Flash Fired | False |
| Flash Function | False |
| Flash Mode | Off |
| Flash Red Eye Mode | False |
| Flash Return | No return detection |
| Focal Length In 35mm Format | 31 mm |
| Format | image/jpeg |
| Gradient Based Corr Active | true |
| Gradient Based Corr Amount | 1.000000 |
| Gradient Based Corr Brightness | 0.000000 |
| Gradient Based Corr Clarity 2012 | 0.239770 |
| Gradient Based Corr Contrast 2012 | 0.157890 |
| Gradient Based Corr Defringe | 0.000000 |
| Gradient Based Corr Exposure 2012 | -0.239750 |
| Gradient Based Corr Highlights 2012 | 0.918130 |
| Gradient Based Corr Hue | 240.000000 |
| Gradient Based Corr Luminance Noise | 0.204680 |
| Gradient Based Corr Mask Full X | 0.849434 |
| Gradient Based Corr Mask Full Y | 0.928664 |
| Gradient Based Corr Mask Value | 1.000000 |
| Gradient Based Corr Mask What | Mask/Gradient |
| Gradient Based Corr Mask Zero X | 0.765537 |
| Gradient Based Corr Mask Zero Y | 0.400886 |
| Gradient Based Corr Moire | 0.000000 |
| Gradient Based Corr Saturation | 0.000000 |
| Gradient Based Corr Shadows 2012 | 0.590640 |
| Gradient Based Corr Sharpness | 0.415200 |
| Gradient Based Corr Temperature | 0.146200 |
| Gradient Based Corr Tint | 0.157890 |
| Gradient Based Corr What | Correction |
| Grain Amount | 0 |
| Green Hue | 0 |
| Green Saturation | 0 |
| Has Crop | True |
| Has Settings | True |
| Highlights 2012 | 0 |
| Hue Adjustment Aqua | 0 |
| Hue Adjustment Blue | 0 |
| Hue Adjustment Green | 0 |
| Hue Adjustment Magenta | 0 |
| Hue Adjustment Orange | 0 |
| Hue Adjustment Purple | 0 |
| Hue Adjustment Red | 0 |
| Hue Adjustment Yellow | 0 |
| Hyperfocal Distance | 1.45 m |
| ICC Profile Name | sRGB IEC61966-2.1 |
| ISO | 100 |
| Image Size | 1500x1010 |
| Lens | smc PENTAX-F 28-80mm F3.5-4.5 |
| Lens ID | Unknown (3 27) |
| Lens Info | 28-80mm f/3.5-4.5 |
| Lens Manual Distortion Amount | 0 |
| Lens Model | smc PENTAX-F 28-80mm F3.5-4.5 |
| Lens Profile Enable | 0 |
| Lens Profile Setup | LensDefaults |
| Light Value | 6.3 |
| Luminance Adjustment Aqua | 0 |
| Luminance Adjustment Blue | 0 |
| Luminance Adjustment Green | 0 |
| Luminance Adjustment Magenta | 0 |
| Luminance Adjustment Orange | 0 |
| Luminance Adjustment Purple | 0 |
| Luminance Adjustment Red | 0 |
| Luminance Adjustment Yellow | 0 |
| Luminance Smoothing | 0 |
| Marked | True |
| Metering Mode | Multi-segment |
| Paint Correction Active | true |
| Paint Correction Amount | 1.000000 |
| Paint Correction Brightness | 0.000000 |
| Paint Correction Clarity 2012 | 0.239770 |
| Paint Correction Contrast 2012 | 0.157890 |
| Paint Correction Defringe | 0.000000 |
| Paint Correction Exposure 2012 | 0.263250 |
| Paint Correction Highlights 2012 | 0.356730 |
| Paint Correction Hue | 240.000000 |
| Paint Correction Luminance Noise | 0.204680 |
| Paint Correction Mask Center Weight | 0.188984 |
| Paint Correction Mask Flow | 0.479000 |
| Paint Correction Mask Radius | 0.016310 |
| Paint Correction Mask Value | 0.647000 |
| Paint Correction Mask What | Mask/Paint |
| Paint Correction Moire | 0.000000 |
| Paint Correction Saturation | 0.000000 |
| Paint Correction Shadows 2012 | 0.426900 |
| Paint Correction Sharpness | 0.415200 |
| Paint Correction Temperature | 0.146200 |
| Paint Correction Tint | 0.157890 |
| Paint Correction What | Correction |
| Parametric Darks | 0 |
| Parametric Highlight Split | 75 |
| Parametric Highlights | 0 |
| Parametric Lights | 0 |
| Parametric Midtone Split | 50 |
| Parametric Shadow Split | 25 |
| Parametric Shadows | 0 |
| Perspective Horizontal | 0 |
| Perspective Rotate | 0.0 |
| Perspective Scale | 100 |
| Perspective Vertical | 0 |
| Post Crop Vignette Amount | 0 |
| Process Version | 6.7 |
| Red Hue | 0 |
| Red Saturation | 0 |
| Rights | Copyright George Cook "Tiabunna" |
| Saturation | Normal |
| Saturation Adjustment Aqua | 0 |
| Saturation Adjustment Blue | 0 |
| Saturation Adjustment Green | 0 |
| Saturation Adjustment Magenta | 0 |
| Saturation Adjustment Orange | 0 |
| Saturation Adjustment Purple | 0 |
| Saturation Adjustment Red | 0 |
| Saturation Adjustment Yellow | 0 |
| Scale Factor To 35 mm Equivalent | 1.0 |
| Scene Capture Type | Standard |
| Sensing Method | One-chip color area |
| Sensitivity Type | Standard Output Sensitivity |
| Shadow Tint | 0 |
| Shadows 2012 | 0 |
| Sharpen Detail | 25 |
| Sharpen Edge Masking | 0 |
| Sharpen Radius | +1.5 |
| Sharpness | Normal |
| Split Toning Balance | 0 |
| Split Toning Highlight Hue | 0 |
| Split Toning Highlight Saturation | 0 |
| Split Toning Shadow Hue | 0 |
| Split Toning Shadow Saturation | 0 |
| Standard Output Sensitivity | 100 |
| Subject Distance Range | Distant |
| Tint | +17 |
| Tone Curve Name 2012 | Linear |
| Tone Curve PV2012 | 0, 0, 255, 255 |
| Tone Curve PV2012 Blue | 0, 0, 255, 255 |
| Tone Curve PV2012 Green | 0, 0, 255, 255 |
| Tone Curve PV2012 Red | 0, 0, 255, 255 |
| Version | 7.4 |
| Vibrance | +25 |
| Vignette Amount | 0 |
| White Balance | Auto |
| Whites 2012 | 0 |
X