Shooting information for this photo
| Camera: | PENTAX K-50 |
| Exposure: | 0.005 sec. (1/200) |
| Aperture: | f/6.3 |
| Focal Length: | 107.5 mm (35 mm equivalent: 162.0 mm) |
| Flash: | Off, Did not fire |
| Exposure mode: | Aperture-priority AE |
| Resolution: | 72 x 72 dpi |
| Dimension: | 1432 x 955 pixels |
| Original Date: | 2015:10:16 11:10:15 |
| Digitized Date: | 2015:10:16 11:10:15+11:00 |
| Created on: | 2015:10:16 11:10:15 |
| Modified on: | 2016:02:01 23:36:41 |
| Software: | Adobe Photoshop Elements 6.0 Windows |
| Copyright: | Copyright George Cook "Tiabunna" |
| Already Applied | True |
| Artist | George_Cook |
| Blue Hue | 0 |
| Blue Saturation | 0 |
| Brightness | +50 |
| Camera Profile | Embedded |
| Caption Writer | HD Pentax-DA 55-300mm f4-5.8 ED WR |
| Chromatic Aberration B | 0 |
| Chromatic Aberration R | 0 |
| Circle Of Confusion | 0.020 mm |
| Clarity | 78 |
| Color Mode | RGB |
| Color Noise Reduction | 25 |
| Color Space | sRGB |
| Color Temperature | 6800 |
| Contrast | Normal |
| Convert To Grayscale | False |
| Creator | George_Cook, George Cook |
| Crop Angle | -0.009771 |
| Crop Bottom | 0.974959 |
| Crop Height | 3 |
| Crop Left | 0 |
| Crop Right | 0.968738 |
| Crop Top | 0.000249 |
| Crop Unit | Unknown (3) |
| Crop Width | 2 |
| Custom Rendered | Normal |
| Defringe | 0 |
| Exposure | +0.90 |
| Exposure Compensation | -0.7 |
| Exposure Mode | Manual |
| Field Of View | 12.7 deg |
| Fill Light | 9 |
| Flash Fired | False |
| Flash Function | False |
| Flash Mode | Off |
| Flash Red Eye Mode | False |
| Flash Return | No return detection |
| Focal Length In 35mm Format | 162 mm |
| Format | image/jpeg |
| Green Hue | 0 |
| Green Saturation | 0 |
| Has Crop | True |
| Has Settings | True |
| Highlight Recovery | 10 |
| Hue Adjustment Aqua | 0 |
| Hue Adjustment Blue | 0 |
| Hue Adjustment Green | 0 |
| Hue Adjustment Magenta | 0 |
| Hue Adjustment Orange | 0 |
| Hue Adjustment Purple | 0 |
| Hue Adjustment Red | 0 |
| Hue Adjustment Yellow | 0 |
| Hyperfocal Distance | 92.00 m |
| ICC Profile Name | sRGB IEC61966-2.1 |
| ISO | 800 |
| Image Size | 1432x955 |
| Light Value | 10.0 |
| Luminance Adjustment Aqua | 0 |
| Luminance Adjustment Blue | 0 |
| Luminance Adjustment Green | 0 |
| Luminance Adjustment Magenta | 0 |
| Luminance Adjustment Orange | 0 |
| Luminance Adjustment Purple | 0 |
| Luminance Adjustment Red | 0 |
| Luminance Adjustment Yellow | 0 |
| Luminance Smoothing | 0 |
| Marked | True |
| Metering Mode | Center-weighted average |
| Parametric Darks | 0 |
| Parametric Highlight Split | 75 |
| Parametric Highlights | 0 |
| Parametric Lights | 0 |
| Parametric Midtone Split | 50 |
| Parametric Shadow Split | 25 |
| Parametric Shadows | 0 |
| Rating | 4 |
| Raw File Name | IMGP2571.DNG |
| Red Hue | 0 |
| Red Saturation | 0 |
| Rights | Copyright George Cook "Tiabunna" |
| Saturation | Normal |
| Saturation Adjustment Aqua | 0 |
| Saturation Adjustment Blue | 0 |
| Saturation Adjustment Green | 0 |
| Saturation Adjustment Magenta | 0 |
| Saturation Adjustment Orange | 0 |
| Saturation Adjustment Purple | 0 |
| Saturation Adjustment Red | 0 |
| Saturation Adjustment Yellow | 0 |
| Scale Factor To 35 mm Equivalent | 1.5 |
| Scene Capture Type | Standard |
| Sensing Method | One-chip color area |
| Shadow Tint | 0 |
| Shadows | 30 |
| Sharpen Detail | 25 |
| Sharpen Edge Masking | 0 |
| Sharpen Radius | +1.0 |
| Sharpness | Normal |
| Split Toning Balance | 0 |
| Split Toning Highlight Hue | 0 |
| Split Toning Highlight Saturation | 0 |
| Split Toning Shadow Hue | 0 |
| Split Toning Shadow Saturation | 0 |
| Subject | South Island, Waterfalls |
| Subject Distance Range | Distant |
| Tint | +40 |
| Tone Curve | 0, 0, 32, 22, 64, 56, 128, 128, 192, 196, 255, 255 |
| Tone Curve Name | Medium Contrast |
| Version | 4.2 |
| Vibrance | +25 |
| Vignette Amount | 0 |
| White Balance | Auto |
X