Shooting information for this photo
| Camera: | PENTAX K-50 |
| Exposure: | 0.01 sec. (1/100) |
| Aperture: | f/14.0 |
| Focal Length: | 20.0 mm (35 mm equivalent: 30.0 mm) |
| Flash: | Off, Did not fire |
| Exposure mode: | Aperture-priority AE |
| Resolution: | 72 x 72 dpi |
| Dimension: | 1478 x 979 pixels |
| Original Date: | 2015:10:14 16:09:40 |
| Digitized Date: | 2015:10:14 16:09:40+11:00 |
| Created on: | 2015:10:14 16:09:40 |
| Modified on: | 2016:01:21 20:50:34 |
| Software: | Adobe Photoshop Elements 6.0 Windows |
| Copyright: | Copyright George Cook "Tiabunna" |
| Already Applied | True |
| Artist | George_Cook |
| Blue Hue | 0 |
| Blue Saturation | 0 |
| Brightness | +50 |
| Camera Profile | Embedded |
| Caption Writer | Pentax DA 18-55 WR |
| Chromatic Aberration B | 0 |
| Chromatic Aberration R | 0 |
| Circle Of Confusion | 0.020 mm |
| Clarity | 83 |
| Color Mode | RGB |
| Color Noise Reduction | 25 |
| Color Space | sRGB |
| Color Temperature | 5150 |
| Contrast | Normal |
| Convert To Grayscale | False |
| Creator | George_Cook, George Cook |
| Custom Rendered | Normal |
| Defringe | 0 |
| Description | Across Lake Wakatipu, Queenstown, NZ, from our unit. |
| Exposure | +0.45 |
| Exposure Compensation | +0.3 |
| Exposure Mode | Manual |
| Field Of View | 61.9 deg |
| Fill Light | 6 |
| Flash Fired | False |
| Flash Function | False |
| Flash Mode | Off |
| Flash Red Eye Mode | False |
| Flash Return | No return detection |
| Focal Length In 35mm Format | 30 mm |
| Format | image/jpeg |
| Green Hue | 0 |
| Green Saturation | 0 |
| Has Crop | False |
| Has Settings | True |
| Highlight Recovery | 0 |
| Hue Adjustment Aqua | 0 |
| Hue Adjustment Blue | 0 |
| Hue Adjustment Green | 0 |
| Hue Adjustment Magenta | 0 |
| Hue Adjustment Orange | 0 |
| Hue Adjustment Purple | 0 |
| Hue Adjustment Red | 0 |
| Hue Adjustment Yellow | 0 |
| Hyperfocal Distance | 1.43 m |
| ICC Profile Name | sRGB IEC61966-2.1 |
| ISO | 100 |
| Image Description | Across Lake Wakatipu, Queenstown, NZ, from our unit. |
| Image Size | 1478x979 |
| Light Value | 14.3 |
| Luminance Adjustment Aqua | 0 |
| Luminance Adjustment Blue | 0 |
| Luminance Adjustment Green | 0 |
| Luminance Adjustment Magenta | 0 |
| Luminance Adjustment Orange | 0 |
| Luminance Adjustment Purple | 0 |
| Luminance Adjustment Red | 0 |
| Luminance Adjustment Yellow | 0 |
| Luminance Smoothing | 5 |
| Marked | True |
| Metering Mode | Center-weighted average |
| Parametric Darks | 0 |
| Parametric Highlight Split | 75 |
| Parametric Highlights | 0 |
| Parametric Lights | 0 |
| Parametric Midtone Split | 50 |
| Parametric Shadow Split | 25 |
| Parametric Shadows | 0 |
| Rating | 0 |
| Raw File Name | IMGP2477.DNG |
| Red Hue | 0 |
| Red Saturation | 0 |
| Rights | Copyright George Cook "Tiabunna" |
| Saturation | Normal |
| Saturation Adjustment Aqua | 0 |
| Saturation Adjustment Blue | 0 |
| Saturation Adjustment Green | 0 |
| Saturation Adjustment Magenta | 0 |
| Saturation Adjustment Orange | 0 |
| Saturation Adjustment Purple | 0 |
| Saturation Adjustment Red | 0 |
| Saturation Adjustment Yellow | 0 |
| Scale Factor To 35 mm Equivalent | 1.5 |
| Scene Capture Type | Standard |
| Sensing Method | One-chip color area |
| Shadow Tint | 0 |
| Shadows | 5 |
| Sharpen Detail | 25 |
| Sharpen Edge Masking | 9 |
| Sharpen Radius | +1.3 |
| Sharpness | Normal |
| Split Toning Balance | 0 |
| Split Toning Highlight Hue | 0 |
| Split Toning Highlight Saturation | 0 |
| Split Toning Shadow Hue | 0 |
| Split Toning Shadow Saturation | 0 |
| Subject | South Island, Fences |
| Subject Distance Range | Distant |
| Tint | +23 |
| Tone Curve | 0, 0, 32, 22, 64, 56, 128, 128, 192, 196, 255, 255 |
| Tone Curve Name | Medium Contrast |
| Version | 4.2 |
| Vibrance | +23 |
| Vignette Amount | 0 |
| White Balance | Auto |
X