Shooting information for this photo
| Camera: | PENTAX K-50 |
| Exposure: | 0.008 sec. (1/125) |
| Aperture: | f/11.0 |
| Focal Length: | 18.0 mm (35 mm equivalent: 27.0 mm) |
| Flash: | Off, Did not fire |
| Exposure mode: | Aperture-priority AE |
| Resolution: | 72 x 72 dpi |
| Dimension: | 1400 x 927 pixels |
| Original Date: | 2015:10:13 09:09:29 |
| Digitized Date: | 2015:10:13 09:09:29+11:00 |
| Created on: | 2015:10:13 09:09:29 |
| Modified on: | 2016:01:07 20:59:57 |
| Software: | Adobe Photoshop Elements 6.0 Windows |
| Copyright: | Copyright George Cook "Tiabunna" |
| Already Applied | True |
| Approximate Focus Distance | 2 |
| Artist | George_Cook |
| Auto Lateral CA | 0 |
| Blacks 2012 | +26 |
| Blue Hue | 0 |
| Blue Saturation | 0 |
| Camera Profile | Embedded |
| Caption Writer | SMC Pentax-DA 1-3.5-5.6 18-55mm |
| Circle Of Confusion | 0.020 mm |
| Clarity 2012 | +69 |
| Color Mode | RGB |
| Color Noise Reduction | 25 |
| Color Noise Reduction Detail | 50 |
| Color Space | sRGB |
| Color Temperature | 5700 |
| Contrast | Normal |
| Contrast 2012 | 0 |
| Convert To Grayscale | False |
| Creator | George_Cook |
| Custom Rendered | Normal |
| Date Created | 2015:10:13 |
| Defringe Green Amount | 0 |
| Defringe Green Hue Hi | 60 |
| Defringe Green Hue Lo | 40 |
| Defringe Purple Amount | 0 |
| Defringe Purple Hue Hi | 70 |
| Defringe Purple Hue Lo | 30 |
| Description | below Franz Josef Glacier, 2015 |
| Exposure 2012 | +0.66 |
| Exposure Compensation | -0.3 |
| Exposure Mode | Manual |
| Field Of View | 67.4 deg |
| Flash Fired | False |
| Flash Function | False |
| Flash Mode | Off |
| Flash Red Eye Mode | False |
| Flash Return | No return detection |
| Focal Length In 35mm Format | 27 mm |
| Format | image/jpeg |
| Grain Amount | 0 |
| Green Hue | 0 |
| Green Saturation | 0 |
| Has Crop | False |
| Has Settings | True |
| Highlights 2012 | -86 |
| Hue Adjustment Aqua | 0 |
| Hue Adjustment Blue | 0 |
| Hue Adjustment Green | 0 |
| Hue Adjustment Magenta | 0 |
| Hue Adjustment Orange | 0 |
| Hue Adjustment Purple | 0 |
| Hue Adjustment Red | 0 |
| Hue Adjustment Yellow | 0 |
| Hyperfocal Distance | 1.47 m |
| ICC Profile Name | sRGB IEC61966-2.1 |
| ISO | 100 |
| Image Description | below Franz Josef Glacier, 2015 |
| Image Size | 1400x927 |
| Lens | smc PENTAX-DA 18-55mm F3.5-5.6 AL WR |
| Lens ID | smc PENTAX-DA 18-55mm F3.5-5.6 AL WR |
| Lens Info | 18-55mm f/3.5-5.6 |
| Lens Manual Distortion Amount | 0 |
| Lens Model | smc PENTAX-DA 18-55mm F3.5-5.6 AL WR |
| Lens Profile Chromatic Aberration Scale | 100 |
| Lens Profile Distortion Scale | 100 |
| Lens Profile Enable | 1 |
| Lens Profile Filename | PENTAX (smc PENTAX-DA 18-55mm F3.5-5.6 AL WR) - RAW.lcp |
| Lens Profile Name | Adobe (smc PENTAX-DA 18-55mm F3.5-5.6 AL WR) |
| Lens Profile Setup | LensDefaults |
| Lens Profile Vignetting Scale | 100 |
| Light Value | 13.9 |
| Luminance Adjustment Aqua | 0 |
| Luminance Adjustment Blue | 0 |
| Luminance Adjustment Green | 0 |
| Luminance Adjustment Magenta | 0 |
| Luminance Adjustment Orange | 0 |
| Luminance Adjustment Purple | 0 |
| Luminance Adjustment Red | 0 |
| Luminance Adjustment Yellow | 0 |
| Luminance Noise Reduction Contrast | 0 |
| Luminance Noise Reduction Detail | 50 |
| Luminance Smoothing | 19 |
| Marked | True |
| Metering Mode | Center-weighted average |
| Parametric Darks | 0 |
| Parametric Highlight Split | 75 |
| Parametric Highlights | 0 |
| Parametric Lights | 0 |
| Parametric Midtone Split | 50 |
| Parametric Shadow Split | 25 |
| Parametric Shadows | 0 |
| Perspective Horizontal | 0 |
| Perspective Rotate | 0.0 |
| Perspective Scale | 100 |
| Perspective Vertical | 0 |
| Post Crop Vignette Amount | 0 |
| Process Version | 6.7 |
| Rating | 4 |
| Red Hue | 0 |
| Red Saturation | 0 |
| Rights | Copyright George Cook "Tiabunna" |
| Saturation | Normal |
| Saturation Adjustment Aqua | 0 |
| Saturation Adjustment Blue | 0 |
| Saturation Adjustment Green | 0 |
| Saturation Adjustment Magenta | 0 |
| Saturation Adjustment Orange | 0 |
| Saturation Adjustment Purple | 0 |
| Saturation Adjustment Red | 0 |
| Saturation Adjustment Yellow | 0 |
| Scale Factor To 35 mm Equivalent | 1.5 |
| Scene Capture Type | Standard |
| Sensing Method | One-chip color area |
| Shadow Tint | 0 |
| Shadows 2012 | +49 |
| Sharpen Detail | 32 |
| Sharpen Edge Masking | 20 |
| Sharpen Radius | +1.3 |
| Sharpness | Normal |
| Split Toning Balance | 0 |
| Split Toning Highlight Hue | 0 |
| Split Toning Highlight Saturation | 0 |
| Split Toning Shadow Hue | 0 |
| Split Toning Shadow Saturation | 0 |
| Subject | Landscapes, Fences, South Island |
| Subject Distance Range | Close |
| Tint | +28 |
| Tone Curve Name 2012 | Custom |
| Tone Curve PV2012 | 0, 0, 29, 37, 89, 105, 159, 172, 255, 255 |
| Tone Curve PV2012 Blue | 0, 0, 255, 255 |
| Tone Curve PV2012 Green | 0, 0, 255, 255 |
| Tone Curve PV2012 Red | 0, 0, 255, 255 |
| Version | 7.4 |
| Vibrance | +21 |
| Vignette Amount | 0 |
| White Balance | Auto |
| Whites 2012 | -38 |
X