Shooting information for this photo
Camera: | PENTAX K-30 |
Exposure: | 0.00156 sec. (1/640) |
Focal Length: | 50.0 mm (35 mm equivalent: 75.0 mm) |
Flash: | Off, Did not fire |
Exposure mode: | Manual |
Resolution: | 72 x 72 dpi |
Dimension: | 1100 x 619 pixels |
Original Date: | 2014:05:17 18:00:07 |
Digitized Date: | 2014:05:17 18:00:07+10:00 |
Created on: | 2014:05:17 18:00:07 |
Modified on: | 2014:08:09 20:37:50 |
Software: | Adobe Photoshop Elements 6.0 Windows |
Copyright: | Copyright George Cook "Tiabunna" |
Already Applied | True |
Artist | George Cook |
Blue Hue | 0 |
Blue Saturation | 0 |
Brightness | +50 |
Camera Profile | Embedded |
Caption Writer | SMC Pentax M 1:1.4/50mm |
Chromatic Aberration B | 0 |
Chromatic Aberration R | 0 |
Circle Of Confusion | 0.020 mm |
Clarity | 25 |
Color Mode | RGB |
Color Noise Reduction | 25 |
Color Space | sRGB |
Color Temperature | 6300 |
Contrast | Normal |
Convert To Grayscale | False |
Creator | George Cook |
Crop Angle | 0 |
Crop Bottom | 0.915865 |
Crop Height | 9 |
Crop Left | 0 |
Crop Right | 1 |
Crop Top | 0.066601 |
Crop Unit | Unknown (3) |
Crop Width | 16 |
Custom Rendered | Normal |
Defringe | 0 |
Exposure | +1.40 |
Exposure Compensation | 0 |
Exposure Mode | Manual |
Field Of View | 27.0 deg |
Fill Light | 0 |
Flash Fired | False |
Flash Function | False |
Flash Mode | Off |
Flash Red Eye Mode | False |
Flash Return | No return detection |
Focal Length In 35mm Format | 75 mm |
Format | image/jpeg |
Green Hue | 0 |
Green Saturation | 0 |
Has Crop | True |
Has Settings | True |
Highlight Recovery | 0 |
Hue Adjustment Aqua | 0 |
Hue Adjustment Blue | 0 |
Hue Adjustment Green | 0 |
Hue Adjustment Magenta | 0 |
Hue Adjustment Orange | 0 |
Hue Adjustment Purple | 0 |
Hue Adjustment Red | 0 |
Hue Adjustment Yellow | 0 |
ICC Profile Name | sRGB IEC61966-2.1 |
ISO | 800 |
Image Size | 1100x619 |
Luminance Adjustment Aqua | 0 |
Luminance Adjustment Blue | 0 |
Luminance Adjustment Green | 0 |
Luminance Adjustment Magenta | 0 |
Luminance Adjustment Orange | 0 |
Luminance Adjustment Purple | 0 |
Luminance Adjustment Red | 0 |
Luminance Adjustment Yellow | 0 |
Luminance Smoothing | 0 |
Marked | True |
Metering Mode | Center-weighted average |
Parametric Darks | 0 |
Parametric Highlight Split | 75 |
Parametric Highlights | 0 |
Parametric Lights | 0 |
Parametric Midtone Split | 50 |
Parametric Shadow Split | 25 |
Parametric Shadows | 0 |
Rating | 0 |
Raw File Name | IMGP8069.DNG |
Red Hue | 0 |
Red Saturation | 0 |
Rights | Copyright George Cook "Tiabunna" |
Saturation | Normal |
Saturation Adjustment Aqua | 0 |
Saturation Adjustment Blue | 0 |
Saturation Adjustment Green | 0 |
Saturation Adjustment Magenta | 0 |
Saturation Adjustment Orange | 0 |
Saturation Adjustment Purple | 0 |
Saturation Adjustment Red | 0 |
Saturation Adjustment Yellow | 0 |
Scale Factor To 35 mm Equivalent | 1.5 |
Scene Capture Type | Standard |
Sensing Method | One-chip color area |
Shadow Tint | 0 |
Shadows | 5 |
Sharpen Detail | 25 |
Sharpen Edge Masking | 0 |
Sharpen Radius | +1.0 |
Sharpness | Normal |
Split Toning Balance | 0 |
Split Toning Highlight Hue | 0 |
Split Toning Highlight Saturation | 0 |
Split Toning Shadow Hue | 0 |
Split Toning Shadow Saturation | 0 |
Subject | North & NW |
Subject Distance Range | Distant |
Tint | +21 |
Tone Curve | 0, 0, 32, 22, 64, 56, 128, 128, 192, 196, 255, 255 |
Tone Curve Name | Medium Contrast |
Version | 4.2 |
Vibrance | +30 |
Vignette Amount | 0 |
White Balance | Auto |