Shooting information for this photo
| Camera: | PENTAX Corporation PENTAX K10D |
| Exposure: | 4 sec. |
| Flash: | Off, Did not fire |
| Exposure mode: | Manual |
| Resolution: | 64 x 64 dpi |
| Dimension: | 640 x 427 pixels |
| Original Date: | 2012:07:10 21:16:48 |
| Digitized Date: | 2012:07:10 21:16:48+10:00 |
| Created on: | 2012:07:10 21:16:48 |
| Modified on: | 2012:07:18 20:14:28 |
| Software: | Adobe Photoshop Elements 6.0 Windows |
| Already Applied | True |
| Blue Hue | 0 |
| Blue Saturation | 0 |
| Brightness | +50 |
| Camera Profile | ACR 3.7 |
| Chromatic Aberration B | 0 |
| Chromatic Aberration R | 0 |
| Clarity | 31 |
| Color Mode | RGB |
| Color Noise Reduction | 25 |
| Color Space | sRGB |
| Color Temperature | 5150 |
| Contrast | High |
| Convert To Grayscale | False |
| Crop Angle | -1.543875 |
| Crop Bottom | 0.714363 |
| Crop Height | 3 |
| Crop Left | 0.177516 |
| Crop Right | 0.765793 |
| Crop Top | 0.162114 |
| Crop Unit | Unknown (3) |
| Crop Width | 2 |
| Custom Rendered | Normal |
| Defringe | 0 |
| Exposure | 0.00 |
| Exposure Compensation | 0 |
| Exposure Mode | Manual |
| Fill Light | 0 |
| Flash Fired | False |
| Flash Function | False |
| Flash Mode | Off |
| Flash Red Eye Mode | False |
| Flash Return | No return detection |
| Format | image/jpeg |
| Green Hue | 0 |
| Green Saturation | 0 |
| Has Crop | True |
| Has Settings | True |
| Highlight Recovery | 37 |
| Hue Adjustment Aqua | 0 |
| Hue Adjustment Blue | 0 |
| Hue Adjustment Green | 0 |
| Hue Adjustment Magenta | 0 |
| Hue Adjustment Orange | 0 |
| Hue Adjustment Purple | 0 |
| Hue Adjustment Red | 0 |
| Hue Adjustment Yellow | 0 |
| ICC Profile Name | sRGB IEC61966-2.1 |
| ISO | 200 |
| Image Size | 640x427 |
| Lens ID | M-42 or No Lens |
| Luminance Adjustment Aqua | 0 |
| Luminance Adjustment Blue | 0 |
| Luminance Adjustment Green | 0 |
| Luminance Adjustment Magenta | 0 |
| Luminance Adjustment Orange | 0 |
| Luminance Adjustment Purple | 0 |
| Luminance Adjustment Red | 0 |
| Luminance Adjustment Yellow | 0 |
| Luminance Smoothing | 0 |
| Metering Mode | Center-weighted average |
| Parametric Darks | 0 |
| Parametric Highlight Split | 75 |
| Parametric Highlights | 0 |
| Parametric Lights | 0 |
| Parametric Midtone Split | 50 |
| Parametric Shadow Split | 25 |
| Parametric Shadows | 0 |
| Rating | 0 |
| Raw File Name | _IGP2787.DNG |
| Red Hue | 0 |
| Red Saturation | 0 |
| Saturation | High |
| Saturation Adjustment Aqua | 0 |
| Saturation Adjustment Blue | 0 |
| Saturation Adjustment Green | 0 |
| Saturation Adjustment Magenta | 0 |
| Saturation Adjustment Orange | 0 |
| Saturation Adjustment Purple | 0 |
| Saturation Adjustment Red | 0 |
| Saturation Adjustment Yellow | 0 |
| Scene Capture Type | Standard |
| Sensing Method | One-chip color area |
| Shadow Tint | 0 |
| Shadows | 5 |
| Sharpen Detail | 25 |
| Sharpen Edge Masking | 0 |
| Sharpen Radius | +1.0 |
| Sharpness | Normal |
| Split Toning Balance | 0 |
| Split Toning Highlight Hue | 0 |
| Split Toning Highlight Saturation | 0 |
| Split Toning Shadow Hue | 0 |
| Split Toning Shadow Saturation | 0 |
| Subject | Mawson 1966 |
| Subject Distance Range | Unknown |
| Tint | 0 |
| Tone Curve | 0, 0, 32, 22, 64, 56, 128, 128, 192, 196, 255, 255 |
| Tone Curve Name | Medium Contrast |
| Version | 4.2 |
| Vibrance | +28 |
| Vignette Amount | 0 |
| White Balance | Auto |
GPS Information |
| GPS Latitude | 0 deg 0' 0.00" N |
| GPS Latitude Ref | North |
| GPS Longitude | 0 deg 0' 0.00" |
| GPS Longitude Ref | East |
| GPS Position | 0 deg 0' 0.00" N, 0 deg 0' 0.00" |
X