Shooting information for this photo
| Camera: | Panasonic DMC-GX7 |
| Exposure: | 0.00063 sec. (1/1600) |
| Aperture: | f/16.0 |
| Focal Length: | 21.0 mm (35 mm equivalent: 43.0 mm) |
| Flash: | Off, Did not fire |
| Exposure mode: | Program AE |
| Max Aperture: | 4.0 |
| Resolution: | 300 x 300 dpi |
| Dimension: | 4500 x 3000 pixels |
| Original Date: | 2015:08:29 15:07:38 |
| Created on: | 2015:08:29 15:07:38 |
| Modified on: | 2015:09:02 23:56:44 |
| Software: | Adobe Photoshop CC 2015 (Windows) |
| Already Applied | True |
| Auto Lateral CA | 0 |
| Auto White Version | 134348800 |
| Blacks 2012 | -10 |
| Blue Hue | 0 |
| Blue Saturation | 0 |
| Camera Profile | Adobe Standard |
| Circle Of Confusion | 0.015 mm |
| Clarity 2012 | 0 |
| Color Mode | RGB |
| Color Noise Reduction | 25 |
| Color Noise Reduction Detail | 50 |
| Color Noise Reduction Smoothness | 50 |
| Color Space | Uncalibrated |
| Color Temperature | 5000 |
| Contrast | Normal |
| Contrast 2012 | +25 |
| Convert To Grayscale | False |
| Custom Rendered | Normal |
| Date Created | 2015:08:29 15:07:38 |
| Defringe Green Amount | 0 |
| Defringe Green Hue Hi | 60 |
| Defringe Green Hue Lo | 40 |
| Defringe Purple Amount | 0 |
| Defringe Purple Hue Hi | 70 |
| Defringe Purple Hue Lo | 30 |
| Dehaze | 0 |
| Digital Zoom Ratio | 0 |
| Distortion Correction Already Applied | True |
| Exposure 2012 | +0.95 |
| Exposure Compensation | -1 |
| Exposure Mode | Auto |
| Field Of View | 45.4 deg |
| Focal Length In 35mm Format | 43 mm |
| Format | image/jpeg |
| Gain Control | High gain up |
| Grain Amount | 0 |
| Green Hue | 0 |
| Green Saturation | 0 |
| Has Crop | False |
| Has Settings | True |
| Highlights 2012 | -15 |
| Hue Adjustment Aqua | 0 |
| Hue Adjustment Blue | 0 |
| Hue Adjustment Green | 0 |
| Hue Adjustment Magenta | 0 |
| Hue Adjustment Orange | 0 |
| Hue Adjustment Purple | 0 |
| Hue Adjustment Red | 0 |
| Hue Adjustment Yellow | 0 |
| Hyperfocal Distance | 1.88 m |
| ICC Profile Name | Adobe RGB (1998) |
| ISO | 800 |
| Image Size | 4500x3000 |
| Lateral Chromatic Aberration Correction Already Applied | True |
| Lens | LUMIX G VARIO 14-140/F3.5-5.6 |
| Lens Manual Distortion Amount | 0 |
| Lens Model | LUMIX G VARIO 14-140/F3.5-5.6 |
| Lens Profile Enable | 0 |
| Lens Profile Setup | LensDefaults |
| Light Source | Unknown |
| Light Value | 15.6 |
| Luminance Adjustment Aqua | 0 |
| Luminance Adjustment Blue | 0 |
| Luminance Adjustment Green | 0 |
| Luminance Adjustment Magenta | 0 |
| Luminance Adjustment Orange | 0 |
| Luminance Adjustment Purple | 0 |
| Luminance Adjustment Red | 0 |
| Luminance Adjustment Yellow | 0 |
| Luminance Smoothing | 0 |
| Metering Mode | Multi-segment |
| Parametric Darks | 0 |
| Parametric Highlight Split | 75 |
| Parametric Highlights | 0 |
| Parametric Lights | 0 |
| Parametric Midtone Split | 50 |
| Parametric Shadow Split | 25 |
| Parametric Shadows | 0 |
| Perspective Aspect | 0 |
| Perspective Horizontal | 0 |
| Perspective Rotate | 0.0 |
| Perspective Scale | 100 |
| Perspective Upright | 0 |
| Perspective Vertical | 0 |
| Photometric Interpretation | RGB |
| Planar Configuration | Chunky |
| Post Crop Vignette Amount | 0 |
| Process Version | 6.7 |
| Rating | 0 |
| Raw File Name | P1010386.RW2 |
| Red Hue | 0 |
| Red Saturation | 0 |
| Samples Per Pixel | 3 |
| Saturation | Normal |
| Saturation Adjustment Aqua | 0 |
| Saturation Adjustment Blue | 0 |
| Saturation Adjustment Green | 0 |
| Saturation Adjustment Magenta | 0 |
| Saturation Adjustment Orange | 0 |
| Saturation Adjustment Purple | 0 |
| Saturation Adjustment Red | 0 |
| Saturation Adjustment Yellow | 0 |
| Scale Factor To 35 mm Equivalent | 2.0 |
| Scene Capture Type | Standard |
| Scene Type | Directly photographed |
| Sensing Method | One-chip color area |
| Shadow Tint | 0 |
| Shadows 2012 | 0 |
| Sharpen Detail | 25 |
| Sharpen Edge Masking | 0 |
| Sharpen Radius | +1.0 |
| Sharpness | Normal |
| Split Toning Balance | 0 |
| Split Toning Highlight Hue | 0 |
| Split Toning Highlight Saturation | 0 |
| Split Toning Shadow Hue | 0 |
| Split Toning Shadow Saturation | 0 |
| Tint | +30 |
| Tone Curve | 0, 0, 32, 22, 64, 56, 128, 128, 192, 196, 255, 255 |
| Tone Curve Blue | 0, 0, 255, 255 |
| Tone Curve Green | 0, 0, 255, 255 |
| Tone Curve Name | Medium Contrast |
| Tone Curve Name 2012 | Linear |
| Tone Curve PV2012 | 0, 0, 255, 255 |
| Tone Curve PV2012 Blue | 0, 0, 255, 255 |
| Tone Curve PV2012 Green | 0, 0, 255, 255 |
| Tone Curve PV2012 Red | 0, 0, 255, 255 |
| Tone Curve Red | 0, 0, 255, 255 |
| Tone Map Strength | 0 |
| Version | 9.1 |
| Vibrance | 0 |
| Vignette Amount | 0 |
| White Balance | Auto |
| Whites 2012 | +50 |
X