Shooting information for this photo
| Camera: | SAMSUNG TECHWIN Co. SAMSUNG GX10 |
| Exposure: | 0.004 sec. (1/250) |
| Aperture: | f/6.3 |
| Focal Length: | 250.0 mm (35 mm equivalent: 375.0 mm) |
| Flash: | Off, Did not fire |
| Exposure mode: | Program AE |
| Resolution: | 240 x 240 dpi |
| Dimension: | 2199 x 2929 pixels |
| Original Date: | 2009:06:27 16:55:27 |
| Digitized Date: | 2009:06:27 16:55:27+02:00 |
| Created on: | 2009:06:27 16:55:27 |
| Modified on: | 2009:06:29 20:35:09 |
| Software: | Adobe Photoshop 7.0 |
| Already Applied | True |
| Blue Hue | 0 |
| Blue Saturation | 0 |
| Brightness | +50 |
| Camera Profile | ACR 4.4 |
| Chromatic Aberration B | 0 |
| Chromatic Aberration R | 0 |
| Circle Of Confusion | 0.020 mm |
| Clarity | 50 |
| Color Noise Reduction | 25 |
| Color Space | sRGB |
| Color Temperature | 5100 |
| Contrast | +25 |
| Convert To Grayscale | False |
| Crop Angle | 0 |
| Crop Bottom | 1 |
| Crop Height | 2199 |
| Crop Left | 0.243478 |
| Crop Right | 1 |
| Crop Top | 0.151515 |
| Crop Unit | pixels |
| Crop Width | 2929 |
| Custom Rendered | Normal |
| Defringe | 0 |
| Exposure | 0.00 |
| Exposure Compensation | 0 |
| Exposure Mode | Auto |
| Field Of View | 5.5 deg |
| Fill Light | 0 |
| Flash Fired | False |
| Flash Function | False |
| Flash Mode | Off |
| Flash Red Eye Mode | False |
| Flash Return | No return detection |
| Focal Length In 35mm Format | 375 mm |
| Green Hue | 0 |
| Green Saturation | 0 |
| Has Crop | True |
| Has Settings | True |
| Hierarchical Subject | Buckow 21.6.2009, Su&Philipp |
| Highlight Recovery | 0 |
| Hue Adjustment Aqua | 0 |
| Hue Adjustment Blue | 0 |
| Hue Adjustment Green | 0 |
| Hue Adjustment Magenta | 0 |
| Hue Adjustment Orange | 0 |
| Hue Adjustment Purple | 0 |
| Hue Adjustment Red | 0 |
| Hue Adjustment Yellow | 0 |
| Hyperfocal Distance | 495.27 m |
| ISO | 800 |
| Image Size | 2199x2929 |
| Lens | TAMRON AF 18-250mm F3.5-6.3 Di II LD Aspherical [IF] MACRO |
| Lens ID | Unknown (7 238) 18-250mm |
| Lens Info | 18-250mm f/3.5-6.3 |
| Light Value | 10.3 |
| Luminance Adjustment Aqua | 0 |
| Luminance Adjustment Blue | 0 |
| Luminance Adjustment Green | 0 |
| Luminance Adjustment Magenta | 0 |
| Luminance Adjustment Orange | 0 |
| Luminance Adjustment Purple | 0 |
| Luminance Adjustment Red | 0 |
| Luminance Adjustment Yellow | 0 |
| Luminance Smoothing | 0 |
| Metering Mode | Center-weighted average |
| Parametric Darks | 0 |
| Parametric Highlight Split | 75 |
| Parametric Highlights | 0 |
| Parametric Lights | 0 |
| Parametric Midtone Split | 50 |
| Parametric Shadow Split | 25 |
| Parametric Shadows | 0 |
| Photometric Interpretation | RGB |
| Red Hue | 0 |
| Red Saturation | 0 |
| Samples Per Pixel | 3 |
| Saturation | 0 |
| Saturation Adjustment Aqua | 0 |
| Saturation Adjustment Blue | 0 |
| Saturation Adjustment Green | 0 |
| Saturation Adjustment Magenta | 0 |
| Saturation Adjustment Orange | 0 |
| Saturation Adjustment Purple | 0 |
| Saturation Adjustment Red | 0 |
| Saturation Adjustment Yellow | 0 |
| Scale Factor To 35 mm Equivalent | 1.5 |
| Scene Capture Type | Standard |
| Sensing Method | One-chip color area |
| Shadow Tint | 0 |
| Shadows | 5 |
| Sharpen Detail | 25 |
| Sharpen Edge Masking | 0 |
| Sharpen Radius | +1.0 |
| Sharpness | 25 |
| Split Toning Balance | 0 |
| Split Toning Highlight Hue | 0 |
| Split Toning Highlight Saturation | 0 |
| Split Toning Shadow Hue | 0 |
| Split Toning Shadow Saturation | 0 |
| Subject | Buckow 21.6.2009, Su&Philipp |
| Subject Distance Range | Distant |
| Tint | -15 |
| Tone Curve | 0, 0, 32, 22, 64, 56, 128, 128, 192, 196, 255, 255 |
| Tone Curve Name | Medium Contrast |
| Version | 4.4.1 |
| Vibrance | +25 |
| Vignette Amount | 0 |
| White Balance | As Shot |
X