Shooting information for this photo
Camera: | DJI FC3582 |
Exposure: | 0.00286 sec. (1/350) |
Aperture: | f/1.7 |
Focal Length: | 6.7 mm (35 mm equivalent: 24.0 mm) |
Flash: | No Flash |
Exposure mode: | Program AE |
Max Aperture: | 1.7 |
Resolution: | 240 x 240 dpi |
Original Date: | 2023:08:16 15:24:54.11 |
Created on: | 2023:08:16 15:24:54.11 |
Modified on: | 2023:08:16 23:23:17 |
Software: | Adobe Photoshop Lightroom Classic 12.4 (Windows) |
Absolute Altitude | +287.313 |
Already Applied | True |
Altitude Type | RtkAlt |
Auto Lateral CA | 0 |
Blacks 2012 | -23 |
Blue Hue | 0 |
Blue Saturation | 0 |
Cam Reverse | 0 |
Camera Profile | Embedded |
Camera Serial Number | 53HQK4M0M107SH |
Circle Of Confusion | 0.008 mm |
City | Yelverton |
Clarity 2012 | +44 |
Color Grade Blending | 50 |
Color Grade Global Hue | 0 |
Color Grade Global Lum | 0 |
Color Grade Global Sat | 0 |
Color Grade Highlight Lum | 0 |
Color Grade Midtone Hue | 0 |
Color Grade Midtone Lum | 0 |
Color Grade Midtone Sat | 0 |
Color Grade Shadow Lum | 0 |
Color Noise Reduction | 25 |
Color Noise Reduction Detail | 50 |
Color Noise Reduction Smoothness | 50 |
Color Space | sRGB |
Color Temperature | 5850 |
Compatible Version | 234881024 |
Contrast | Normal |
Contrast 2012 | +7 |
Convert To Grayscale | False |
Country | Vereinigtes Königreich |
Country Code | GB |
Crop Angle | 0 |
Crop Bottom | 0.903758 |
Crop Constrain To Warp | 0 |
Crop Left | 0.027725 |
Crop Right | 0.90267 |
Crop Top | 0.043962 |
Date Created | 2023:08:16 15:12:31 |
Defringe Green Amount | 0 |
Defringe Green Hue Hi | 60 |
Defringe Green Hue Lo | 40 |
Defringe Purple Amount | 0 |
Defringe Purple Hue Hi | 70 |
Defringe Purple Hue Lo | 30 |
Dehaze | 0 |
Digital Zoom Ratio | 1 |
Drone Model | Mini 3 Pro |
Drone Serial Number | 1581F4XFC22580 |
Exposure 2012 | +0.64 |
Exposure Compensation | -1.3 |
Exposure Mode | Auto |
Field Of View | 73.7 deg |
Flight Pitch Degree | -2.00 |
Flight Roll Degree | +5.00 |
Flight X Speed | 0.0 |
Flight Y Speed | 0.0 |
Flight Yaw Degree | +43.40 |
Flight Z Speed | 0.0 |
Focal Length In 35mm Format | 24 mm |
Format | image/jpeg |
Gain Control | None |
Gimbal Pitch Degree | +1.50 |
Gimbal Reverse | 0 |
Gimbal Roll Degree | +0.00 |
Gimbal Yaw Degree | +22.70 |
Gps Latitude | +50.554276524 |
Gps Longitude | -4.042019418 |
Gps Status | Invalid |
Grain Amount | 0 |
Green Hue | 0 |
Green Saturation | 0 |
Has Crop | True |
Has Settings | True |
Highlights 2012 | -93 |
Hue Adjustment Aqua | 0 |
Hue Adjustment Blue | 0 |
Hue Adjustment Green | 0 |
Hue Adjustment Magenta | 0 |
Hue Adjustment Orange | 0 |
Hue Adjustment Purple | 0 |
Hue Adjustment Red | 0 |
Hue Adjustment Yellow | 0 |
Hyperfocal Distance | 3.16 m |
ISO | 100 |
Image Size | 5996x3996 |
Image Source | DefaultCamera |
Is Merged HDR | True |
Is Merged Panorama | True |
Lateral Chromatic Aberration Correction Already Applied | True |
Lens | 6.7 mm f/1.7 |
Lens Info | 6.72mm f/1.7 |
Lens Manual Distortion Amount | 0 |
Lens Model | 6.7 mm f/1.7 |
Lens Profile Enable | 0 |
Light Source | Cloudy |
Light Value | 10.0 |
Luminance Adjustment Aqua | 0 |
Luminance Adjustment Blue | 0 |
Luminance Adjustment Green | 0 |
Luminance Adjustment Magenta | 0 |
Luminance Adjustment Orange | 0 |
Luminance Adjustment Purple | 0 |
Luminance Adjustment Red | 0 |
Luminance Adjustment Yellow | 0 |
Luminance Smoothing | 0 |
Metering Mode | Average |
Override Look Vignette | False |
Parametric Darks | 0 |
Parametric Highlight Split | 75 |
Parametric Highlights | 0 |
Parametric Lights | 0 |
Parametric Midtone Split | 50 |
Parametric Shadow Split | 25 |
Parametric Shadows | 0 |
Perspective Aspect | 0 |
Perspective Horizontal | 0 |
Perspective Rotate | 0.0 |
Perspective Scale | 100 |
Perspective Upright | 0 |
Perspective Vertical | 0 |
Perspective X | 0.00 |
Perspective Y | 0.00 |
Post Crop Vignette Amount | 0 |
Preserved File Name | DJI_0104.DNG |
Process Version | 15.4 |
Raw File Name | DJI_0068-HDR-Pano.dng |
Red Hue | 0 |
Red Saturation | 0 |
Relative Altitude | +7.200 |
Saturation | Normal |
Saturation Adjustment Aqua | 0 |
Saturation Adjustment Blue | 0 |
Saturation Adjustment Green | 0 |
Saturation Adjustment Magenta | 0 |
Saturation Adjustment Orange | 0 |
Saturation Adjustment Purple | 0 |
Saturation Adjustment Red | 0 |
Saturation Adjustment Yellow | 0 |
Scale Factor To 35 mm Equivalent | 3.6 |
Scene Capture Type | Standard |
Scene Type | Directly photographed |
Sensitivity Type | Recommended Exposure Index |
Shadow Tint | 0 |
Shadows 2012 | +100 |
Sharpen Detail | 25 |
Sharpen Edge Masking | 0 |
Sharpen Radius | +1.0 |
Sharpness | Normal |
Shutter Type | Electronic |
Split Toning Balance | 0 |
Split Toning Highlight Hue | 0 |
Split Toning Highlight Saturation | 0 |
Split Toning Shadow Hue | 0 |
Split Toning Shadow Saturation | 0 |
State | England |
Surveying Mode | 0 |
Texture | +21 |
Tint | +14 |
Tone Curve Name 2012 | Linear |
Tone Curve PV2012 | 0, 0, 255, 255 |
Tone Curve PV2012 Blue | 0, 0, 255, 255 |
Tone Curve PV2012 Green | 0, 0, 255, 255 |
Tone Curve PV2012 Red | 0, 0, 255, 255 |
Transformation | Cylindrical |
Version | 15.4 |
Vibrance | +20 |
Vignette Amount | 0 |
Virtual Focal Length | 0.379423 |
Virtual Image X Center | 0.556988 |
Virtual Image Y Center | 0.36668 |
White Balance | Auto |
Whites 2012 | +24 |
GPS Information |
GPS Altitude | 291.5 m |
GPS Latitude | 50 deg 33' 17.74" N |
GPS Latitude Ref | North |
GPS Longitude | 4 deg 2' 27.55" W |
GPS Longitude Ref | West |
GPS Map Datum | WGS-84 |
GPS Position | 50 deg 33' 17.74" N, 4 deg 2' 27.55" W |
GPS Status | Measurement Void |
GPS Version ID | 2.3.0.0 |