Shooting information for this photo
| Camera: | NIKON CORPORATION NIKON D800 |
| Exposure: | 0.005 sec. (1/200) |
| Aperture: | f/2.8 |
| Focal Length: | 50.0 mm (35 mm equivalent: 50.0 mm) |
| Flash: | Off, Did not fire |
| Exposure mode: | Program AE |
| Max Aperture: | 2.8 |
| Resolution: | 240 x 240 dpi |
| Original Date: | 2019:03:19 17:06:23.50 |
| Created on: | 2019:03:19 17:06:23.50 |
| Modified on: | 2019:06:16 09:14:06 |
| Software: | Adobe Photoshop Lightroom 5.7 (Windows) |
| Copyright: | Sven Scholz |
| Already Applied | True |
| Approximate Focus Distance | 5.62 |
| Artist | Sven Scholz |
| Auto Lateral CA | 0 |
| Auto White Version | 134348800 |
| Blacks 2012 | +4 |
| Blue Hue | 0 |
| Blue Saturation | 0 |
| CFA Pattern | [Red,Green][Green,Blue] |
| Camera Profile | Adobe Standard |
| Circle Of Confusion | 0.030 mm |
| Circular Gradient Based Corrections Correction Active | true |
| Circular Gradient Based Corrections Correction Amount | 1.000000 |
| Circular Gradient Based Corrections Correction Masks Angle | -0.604100 |
| Circular Gradient Based Corrections Correction Masks Bottom | 1.151550 |
| Circular Gradient Based Corrections Correction Masks Feather | +49 |
| Circular Gradient Based Corrections Correction Masks Flipped | false |
| Circular Gradient Based Corrections Correction Masks Left | 0.037728 |
| Circular Gradient Based Corrections Correction Masks Mask Value | 1.000000 |
| Circular Gradient Based Corrections Correction Masks Midpoint | +50 |
| Circular Gradient Based Corrections Correction Masks Right | 0.991655 |
| Circular Gradient Based Corrections Correction Masks Roundness | 0 |
| Circular Gradient Based Corrections Correction Masks Top | 0.196824 |
| Circular Gradient Based Corrections Correction Masks Version | +2 |
| Circular Gradient Based Corrections Correction Masks What | Mask/CircularGradient |
| Circular Gradient Based Corrections Local Brightness | 0.000000 |
| Circular Gradient Based Corrections Local Clarity 2012 | -0.522120 |
| Circular Gradient Based Corrections Local Contrast 2012 | 0.000000 |
| Circular Gradient Based Corrections Local Defringe | 0.000000 |
| Circular Gradient Based Corrections Local Exposure 2012 | 0.000000 |
| Circular Gradient Based Corrections Local Highlights 2012 | 0.000000 |
| Circular Gradient Based Corrections Local Luminance Noise | 0.061950 |
| Circular Gradient Based Corrections Local Moire | 0.000000 |
| Circular Gradient Based Corrections Local Saturation | 0.000000 |
| Circular Gradient Based Corrections Local Shadows 2012 | 0.000000 |
| Circular Gradient Based Corrections Local Sharpness | 0.000000 |
| Circular Gradient Based Corrections Local Temperature | 0.000000 |
| Circular Gradient Based Corrections Local Tint | 0.000000 |
| Circular Gradient Based Corrections Local Toning Hue | 0.000000 |
| Circular Gradient Based Corrections Local Toning Saturation | 0.000000 |
| Circular Gradient Based Corrections What | Correction |
| Clarity 2012 | +77 |
| Color Noise Reduction | 25 |
| Color Noise Reduction Detail | 50 |
| Color Noise Reduction Smoothness | 50 |
| Color Temperature | 5300 |
| Contrast | Normal |
| Contrast 2012 | +28 |
| Convert To Grayscale | False |
| Creator | Sven Scholz |
| Crop Angle | 0 |
| Crop Bottom | 0.856381 |
| Crop Constrain To Warp | 0 |
| Crop Left | 0.160541 |
| Crop Right | 0.870406 |
| Crop Top | 0.146517 |
| Custom Rendered | Normal |
| Date Created | 2019:03:19 17:06:23.50 |
| Defringe Green Amount | 0 |
| Defringe Green Hue Hi | 60 |
| Defringe Green Hue Lo | 40 |
| Defringe Purple Amount | 0 |
| Defringe Purple Hue Hi | 70 |
| Defringe Purple Hue Lo | 30 |
| Digital Zoom Ratio | 1 |
| Exposure 2012 | -0.09 |
| Exposure Compensation | -2/3 |
| Exposure Mode | Auto |
| Field Of View | 39.6 deg |
| Focal Length In 35mm Format | 50 mm |
| Format | image/jpeg |
| Gain Control | None |
| Grain Amount | 0 |
| Green Hue | 0 |
| Green Saturation | 0 |
| Has Crop | True |
| Has Settings | True |
| Highlights 2012 | -51 |
| Hue Adjustment Aqua | 0 |
| Hue Adjustment Blue | 0 |
| Hue Adjustment Green | 0 |
| Hue Adjustment Magenta | 0 |
| Hue Adjustment Orange | 0 |
| Hue Adjustment Purple | 0 |
| Hue Adjustment Red | 0 |
| Hue Adjustment Yellow | 0 |
| Hyperfocal Distance | 29.72 m |
| ISO | 100 |
| Image Number | 14287 |
| Image Size | 5225x3487 |
| Lens | 50.0 mm f/2.8 |
| Lens ID | Sigma Macro 50mm F2.8 EX DG |
| Lens Info | 50mm f/2.8 |
| Lens Manual Distortion Amount | 0 |
| Lens Model | 50.0 mm f/2.8 |
| Lens Profile Chromatic Aberration Scale | 100 |
| Lens Profile Distortion Scale | 100 |
| Lens Profile Enable | 1 |
| Lens Profile Filename | NIKON CORPORATION (Sigma_50mm_F2.8_MACRO_EX_DG ) - RAW.lcp |
| Lens Profile Name | Adobe (SIGMA MACRO 50mm F2.8 EX DG, NIKON CORPORATION) |
| Lens Profile Setup | LensDefaults |
| Lens Profile Vignetting Scale | 100 |
| Light Source | Unknown |
| Light Value | 10.6 |
| Luminance Adjustment Aqua | 0 |
| Luminance Adjustment Blue | +16 |
| Luminance Adjustment Green | +20 |
| Luminance Adjustment Magenta | -11 |
| Luminance Adjustment Orange | +50 |
| Luminance Adjustment Purple | +4 |
| Luminance Adjustment Red | 0 |
| Luminance Adjustment Yellow | +21 |
| Luminance Noise Reduction Contrast | 0 |
| Luminance Noise Reduction Detail | 50 |
| Luminance Smoothing | 25 |
| Metering Mode | Center-weighted average |
| Parametric Darks | 0 |
| Parametric Highlight Split | 75 |
| Parametric Highlights | 0 |
| Parametric Lights | 0 |
| Parametric Midtone Split | 50 |
| Parametric Shadow Split | 25 |
| Parametric Shadows | 0 |
| Perspective Aspect | 0 |
| Perspective Horizontal | 0 |
| Perspective Rotate | 0.0 |
| Perspective Scale | 100 |
| Perspective Upright | 0 |
| Perspective Vertical | 0 |
| Post Crop Vignette Amount | -21 |
| Post Crop Vignette Feather | 50 |
| Post Crop Vignette Highlight Contrast | 0 |
| Post Crop Vignette Midpoint | 66 |
| Post Crop Vignette Roundness | 0 |
| Post Crop Vignette Style | 1 |
| Process Version | 6.7 |
| Red Hue | 0 |
| Red Saturation | 0 |
| Rights | Sven Scholz |
| Saturation | Normal |
| Saturation Adjustment Aqua | 0 |
| Saturation Adjustment Blue | +5 |
| Saturation Adjustment Green | -23 |
| Saturation Adjustment Magenta | -20 |
| Saturation Adjustment Orange | +2 |
| Saturation Adjustment Purple | -27 |
| Saturation Adjustment Red | 0 |
| Saturation Adjustment Yellow | 0 |
| Scale Factor To 35 mm Equivalent | 1.0 |
| Scene Capture Type | Standard |
| Scene Type | Directly photographed |
| Sensing Method | One-chip color area |
| Sensitivity Type | Recommended Exposure Index |
| Shadow Tint | 0 |
| Shadows 2012 | +32 |
| Sharpen Detail | 25 |
| Sharpen Edge Masking | 89 |
| Sharpen Radius | +0.7 |
| Sharpness | Normal |
| Split Toning Balance | 0 |
| Split Toning Highlight Hue | 0 |
| Split Toning Highlight Saturation | 0 |
| Split Toning Shadow Hue | 0 |
| Split Toning Shadow Saturation | 0 |
| Subject Distance Range | Unknown |
| Tint | +18 |
| Tone Curve | 0, 0, 255, 255 |
| Tone Curve Blue | 0, 0, 255, 255 |
| Tone Curve Green | 0, 0, 255, 255 |
| Tone Curve Name | Linear |
| Tone Curve Name 2012 | Custom |
| Tone Curve PV2012 | 0, 0, 21, 15, 54, 51, 126, 135, 255, 255 |
| Tone Curve PV2012 Blue | 0, 0, 255, 255 |
| Tone Curve PV2012 Green | 0, 0, 255, 255 |
| Tone Curve PV2012 Red | 0, 0, 255, 255 |
| Tone Curve Red | 0, 0, 255, 255 |
| Version | 8.7 |
| Vibrance | -6 |
| Vignette Amount | 0 |
| White Balance | Auto |
| Whites 2012 | -30 |
X