Shooting information for this photo
| Camera: | NIKON CORPORATION NIKON D800 |
| Exposure: | 20 sec. |
| Aperture: | f/4.0 |
| Focal Length: | 16.0 mm (35 mm equivalent: 16.0 mm) |
| Flash: | Off, Did not fire |
| Exposure mode: | Manual |
| Max Aperture: | 4.0 |
| Resolution: | 240 x 240 dpi |
| Original Date: | 2019:06:02 02:16:55.10 |
| Created on: | 2019:06:02 02:16:55.10 |
| Modified on: | 2019:06:02 11:42:41 |
| Software: | Adobe Photoshop Lightroom Classic 8.3 (Windows) |
| Copyright: | Sven Scholz |
| Already Applied | True |
| Approximate Focus Distance | 2 |
| Artist | Sven Scholz |
| Auto Lateral CA | 0 |
| Blacks 2012 | 0 |
| Blue Hue | 0 |
| Blue Saturation | 0 |
| CFA Pattern | [Red,Green][Green,Blue] |
| Camera Profile | Adobe Standard |
| Circle Of Confusion | 0.030 mm |
| Circular Gradient Based Corrections Correction Active | true |
| Circular Gradient Based Corrections Correction Amount | 1.000000 |
| Circular Gradient Based Corrections Correction Masks Angle | 27.991800 |
| Circular Gradient Based Corrections Correction Masks Bottom | 1.807660 |
| Circular Gradient Based Corrections Correction Masks Feather | +50 |
| Circular Gradient Based Corrections Correction Masks Flipped | false |
| Circular Gradient Based Corrections Correction Masks Left | 0.564760 |
| Circular Gradient Based Corrections Correction Masks Mask Value | 1.000000 |
| Circular Gradient Based Corrections Correction Masks Midpoint | +50 |
| Circular Gradient Based Corrections Correction Masks Right | 0.195455 |
| Circular Gradient Based Corrections Correction Masks Roundness | 0 |
| Circular Gradient Based Corrections Correction Masks Top | -0.793799 |
| Circular Gradient Based Corrections Correction Masks Version | +2 |
| Circular Gradient Based Corrections Correction Masks What | Mask/CircularGradient |
| Circular Gradient Based Corrections Correction Range Mask Color Amount | 0.500000 |
| Circular Gradient Based Corrections Correction Range Mask Depth Feather | 0.500000 |
| Circular Gradient Based Corrections Correction Range Mask Depth Max | 1.000000 |
| Circular Gradient Based Corrections Correction Range Mask Depth Min | 0.000000 |
| Circular Gradient Based Corrections Correction Range Mask Lum Feather | 0.500000 |
| Circular Gradient Based Corrections Correction Range Mask Lum Max | 1.000000 |
| Circular Gradient Based Corrections Correction Range Mask Lum Min | 0.000000 |
| Circular Gradient Based Corrections Correction Range Mask Type | 0 |
| Circular Gradient Based Corrections Correction Range Mask Version | +2 |
| Circular Gradient Based Corrections Local Blacks 2012 | 0.000000 |
| Circular Gradient Based Corrections Local Brightness | 0.000000 |
| Circular Gradient Based Corrections Local Clarity 2012 | -0.096770 |
| Circular Gradient Based Corrections Local Contrast 2012 | 0.000000 |
| Circular Gradient Based Corrections Local Defringe | 0.000000 |
| Circular Gradient Based Corrections Local Dehaze | 0.075270 |
| Circular Gradient Based Corrections Local Exposure 2012 | -0.025000 |
| Circular Gradient Based Corrections Local Highlights 2012 | 0.000000 |
| Circular Gradient Based Corrections Local Luminance Noise | 0.000000 |
| Circular Gradient Based Corrections Local Moire | 0.000000 |
| Circular Gradient Based Corrections Local Saturation | 0.000000 |
| Circular Gradient Based Corrections Local Shadows 2012 | -0.397850 |
| Circular Gradient Based Corrections Local Sharpness | 0.000000 |
| Circular Gradient Based Corrections Local Temperature | 0.000000 |
| Circular Gradient Based Corrections Local Texture | 0.000000 |
| Circular Gradient Based Corrections Local Tint | 0.000000 |
| Circular Gradient Based Corrections Local Toning Hue | 0.000000 |
| Circular Gradient Based Corrections Local Toning Saturation | 0.000000 |
| Circular Gradient Based Corrections Local Whites 2012 | 0.000000 |
| Circular Gradient Based Corrections What | Correction |
| Clarity 2012 | +100 |
| Color Noise Reduction | 44 |
| Color Noise Reduction Detail | 50 |
| Color Noise Reduction Smoothness | 50 |
| Color Space | sRGB |
| Color Temperature | 4109 |
| Contrast | Normal |
| Contrast 2012 | +33 |
| Convert To Grayscale | False |
| Creator | Sven Scholz |
| Custom Rendered | Custom |
| Date Created | 2019:06:02 02:16:55.10 |
| Defringe Green Amount | 0 |
| Defringe Green Hue Hi | 60 |
| Defringe Green Hue Lo | 40 |
| Defringe Purple Amount | 0 |
| Defringe Purple Hue Hi | 70 |
| Defringe Purple Hue Lo | 30 |
| Dehaze | +19 |
| Digital Zoom Ratio | 1 |
| Exposure 2012 | +0.56 |
| Exposure Compensation | -1/3 |
| Exposure Mode | Manual |
| Field Of View | 96.7 deg |
| Focal Length In 35mm Format | 16 mm |
| Format | image/jpeg |
| Gain Control | High gain up |
| Gradient Based Corr Active | true |
| Gradient Based Corr Amount | 1.000000 |
| Gradient Based Corr Brightness | 0.000000 |
| Gradient Based Corr Clarity 2012 | 0.476700 |
| Gradient Based Corr Contrast 2012 | 0.096770 |
| Gradient Based Corr Correction Range Mask Color Amount | 0.500000 |
| Gradient Based Corr Correction Range Mask Depth Feather | 0.500000 |
| Gradient Based Corr Correction Range Mask Depth Max | 1.000000 |
| Gradient Based Corr Correction Range Mask Depth Min | 0.000000 |
| Gradient Based Corr Correction Range Mask Lum Feather | 0.500000 |
| Gradient Based Corr Correction Range Mask Lum Max | 1.000000 |
| Gradient Based Corr Correction Range Mask Lum Min | 0.000000 |
| Gradient Based Corr Correction Range Mask Type | 0 |
| Gradient Based Corr Correction Range Mask Version | +2 |
| Gradient Based Corr Defringe | 0.000000 |
| Gradient Based Corr Exposure 2012 | -0.089500 |
| Gradient Based Corr Highlights 2012 | -0.197130 |
| Gradient Based Corr Hue | 0.000000 |
| Gradient Based Corr Local Blacks 2012 | 0.003580 |
| Gradient Based Corr Local Dehaze | 0.333330 |
| Gradient Based Corr Local Texture | -0.304660 |
| Gradient Based Corr Local Whites 2012 | 0.046590 |
| Gradient Based Corr Luminance Noise | 0.333330 |
| Gradient Based Corr Mask Full X | 0.912379 |
| Gradient Based Corr Mask Full Y | 0.493798 |
| Gradient Based Corr Mask Value | 1.000000 |
| Gradient Based Corr Mask What | Mask/Gradient |
| Gradient Based Corr Mask Zero X | 0.724483 |
| Gradient Based Corr Mask Zero Y | 0.496121 |
| Gradient Based Corr Moire | 0.000000 |
| Gradient Based Corr Saturation | 0.000000 |
| Gradient Based Corr Shadows 2012 | 1.000000 |
| Gradient Based Corr Sharpness | 0.000000 |
| Gradient Based Corr Temperature | 0.000000 |
| Gradient Based Corr Tint | 0.000000 |
| Gradient Based Corr What | Correction |
| Grain Amount | 0 |
| Green Hue | 0 |
| Green Saturation | 0 |
| Has Crop | False |
| Has Settings | True |
| Highlights 2012 | +11 |
| Hue Adjustment Aqua | 0 |
| Hue Adjustment Blue | +12 |
| Hue Adjustment Green | 0 |
| Hue Adjustment Magenta | 0 |
| Hue Adjustment Orange | 0 |
| Hue Adjustment Purple | 0 |
| Hue Adjustment Red | 0 |
| Hue Adjustment Yellow | 0 |
| Hyperfocal Distance | 2.13 m |
| ISO | 6400 |
| Image Number | 15210 |
| Image Size | 4912x7360 |
| Lens | 16.0-35.0 mm f/4.0 |
| Lens ID | AF-S Nikkor 16-35mm f/4G ED VR |
| Lens Info | 16-35mm f/4 |
| Lens Manual Distortion Amount | 0 |
| Lens Model | 16.0-35.0 mm f/4.0 |
| Lens Profile Enable | 0 |
| Lens Profile Setup | LensDefaults |
| Light Source | Unknown |
| Light Value | -6.3 |
| Look Amount | 1.000000 |
| Look Group | Profiles |
| Look Name | Adobe Color |
| Look Parameters Camera Profile | Adobe Standard |
| Look Parameters Convert To Grayscale | False |
| Look Parameters Look Table | E1095149FDB39D7A057BAB208837E2 E1 |
| Look Parameters Process Version | 11.0 |
| Look Parameters Tone Curve PV2012 | 0, 0, 22, 16, 40, 35, 127, 127, 224, 230, 240, 246, 255, 255 |
| Look Parameters Tone Curve PV2012 Blue | 0, 0, 255, 255 |
| Look Parameters Tone Curve PV2012 Green | 0, 0, 255, 255 |
| Look Parameters Tone Curve PV2012 Red | 0, 0, 255, 255 |
| Look Parameters Version | 11.3 |
| Look Supports Amount | false |
| Look Supports Monochrome | false |
| Look Supports Output Referred | false |
| Luminance Adjustment Aqua | 0 |
| Luminance Adjustment Blue | +13 |
| Luminance Adjustment Green | 0 |
| Luminance Adjustment Magenta | +42 |
| Luminance Adjustment Orange | +21 |
| Luminance Adjustment Purple | +55 |
| Luminance Adjustment Red | 0 |
| Luminance Adjustment Yellow | 0 |
| Luminance Noise Reduction Contrast | 0 |
| Luminance Noise Reduction Detail | 0 |
| Luminance Smoothing | 64 |
| Metering Mode | Center-weighted average |
| Override Look Vignette | False |
| Parametric Darks | 0 |
| Parametric Highlight Split | 75 |
| Parametric Highlights | 0 |
| Parametric Lights | 0 |
| Parametric Midtone Split | 50 |
| Parametric Shadow Split | 25 |
| Parametric Shadows | 0 |
| Perspective Aspect | 0 |
| Perspective Horizontal | 0 |
| Perspective Rotate | 0.0 |
| Perspective Scale | 100 |
| Perspective Upright | 0 |
| Perspective Vertical | 0 |
| Perspective X | 0.00 |
| Perspective Y | 0.00 |
| Post Crop Vignette Amount | 0 |
| Preserved File Name | _DSC5046.NEF |
| Process Version | 11.0 |
| Raw File Name | _DSC5046.NEF |
| Red Hue | 0 |
| Red Saturation | 0 |
| Rights | Sven Scholz |
| Saturation | Normal |
| Saturation Adjustment Aqua | 0 |
| Saturation Adjustment Blue | +13 |
| Saturation Adjustment Green | 0 |
| Saturation Adjustment Magenta | +73 |
| Saturation Adjustment Orange | 0 |
| Saturation Adjustment Purple | +64 |
| Saturation Adjustment Red | 0 |
| Saturation Adjustment Yellow | 0 |
| Scale Factor To 35 mm Equivalent | 1.0 |
| Scene Capture Type | Standard |
| Scene Type | Directly photographed |
| Sensing Method | One-chip color area |
| Sensitivity Type | Recommended Exposure Index |
| Shadow Tint | 0 |
| Shadows 2012 | -19 |
| Sharpen Detail | 25 |
| Sharpen Edge Masking | 0 |
| Sharpen Radius | +1.0 |
| Sharpness | Normal |
| Split Toning Balance | 0 |
| Split Toning Highlight Hue | 0 |
| Split Toning Highlight Saturation | 0 |
| Split Toning Shadow Hue | 0 |
| Split Toning Shadow Saturation | 0 |
| Subject Distance Range | Unknown |
| Texture | -40 |
| Tint | +3 |
| Tone Curve | 0, 0, 255, 255 |
| Tone Curve Blue | 0, 0, 255, 255 |
| Tone Curve Green | 0, 0, 255, 255 |
| Tone Curve Name | Linear |
| Tone Curve Name 2012 | Linear |
| Tone Curve PV2012 | 0, 0, 255, 255 |
| Tone Curve PV2012 Blue | 0, 0, 255, 255 |
| Tone Curve PV2012 Green | 0, 0, 255, 255 |
| Tone Curve PV2012 Red | 0, 0, 255, 255 |
| Tone Curve Red | 0, 0, 255, 255 |
| Tone Map Strength | 0 |
| Version | 11.3 |
| Vibrance | +11 |
| Vignette Amount | 0 |
| White Balance | Auto |
| Whites 2012 | 0 |
X