Shooting information for this photo
| Camera: | NIKON CORPORATION NIKON D800 |
| Exposure: | 0.01 sec. (1/100) |
| Aperture: | f/8.0 |
| Focal Length: | 220.0 mm (35 mm equivalent: 220.0 mm) |
| Flash: | Off, Did not fire |
| Exposure mode: | Program AE |
| Max Aperture: | 5.3 |
| Resolution: | 240 x 240 dpi |
| Original Date: | 2015:09:02 17:48:03.10 |
| Created on: | 2015:09:02 17:48:03.10 |
| Modified on: | 2015:10:01 09:21:31 |
| Software: | Adobe Photoshop Lightroom 5.7 (Windows) |
| Copyright: | Sven Scholz |
| Already Applied | True |
| Approximate Focus Distance | 5.31 |
| Artist | Sven Scholz |
| Auto Lateral CA | 0 |
| Auto White Version | 134348800 |
| Blacks 2012 | -22 |
| Blue Hue | 0 |
| Blue Saturation | 0 |
| CFA Pattern | [Red,Green][Green,Blue] |
| Camera Profile | Adobe Standard |
| Circle Of Confusion | 0.030 mm |
| Clarity 2012 | +69 |
| Color Noise Reduction | 25 |
| Color Noise Reduction Detail | 50 |
| Color Noise Reduction Smoothness | 50 |
| Color Temperature | 5250 |
| Contrast | Normal |
| Contrast 2012 | -61 |
| Convert To Grayscale | True |
| Creator | Sven Scholz |
| Custom Rendered | Normal |
| Date Created | 2015:09:02 17:48:03.10 |
| Digital Zoom Ratio | 1 |
| Exposure 2012 | 0.00 |
| Exposure Compensation | 0 |
| Exposure Mode | Auto |
| Field Of View | 9.4 deg |
| Focal Length In 35mm Format | 220 mm |
| Format | image/jpeg |
| Gain Control | None |
| Grain Amount | 0 |
| Gray Mixer Aqua | -87 |
| Gray Mixer Blue | -43 |
| Gray Mixer Green | -28 |
| Gray Mixer Magenta | +4 |
| Gray Mixer Orange | +28 |
| Gray Mixer Purple | +19 |
| Gray Mixer Red | +74 |
| Gray Mixer Yellow | +56 |
| Green Hue | 0 |
| Green Saturation | 0 |
| Has Crop | False |
| Has Settings | True |
| Highlights 2012 | -100 |
| Hyperfocal Distance | 201.36 m |
| ISO | 100 |
| Image Number | 8843 |
| Image Size | 7360x4912 |
| Lens | 150.0-600.0 mm f/5.0-6.3 |
| Lens ID | 150.0-600.0 mm f/5.0-6.3 |
| Lens Info | 150-600mm f/5-6.3 |
| Lens Manual Distortion Amount | 0 |
| Lens Model | 150.0-600.0 mm f/5.0-6.3 |
| Lens Profile Chromatic Aberration Scale | 100 |
| Lens Profile Distortion Scale | 100 |
| Lens Profile Enable | 1 |
| Lens Profile Filename | NIKON CORPORATION (TAMRON SP 150-600mm F5-6.3 Di VC USD A011N) - RAW.lcp |
| Lens Profile Name | Adobe (TAMRON SP 150-600mm F/5-6.3 Di VC USD A011N, NIKON CORPORATION) |
| Lens Profile Setup | Custom |
| Lens Profile Vignetting Scale | 100 |
| Light Source | Unknown |
| Light Value | 12.6 |
| Luminance Smoothing | 0 |
| Metering Mode | Multi-segment |
| Parametric Darks | 0 |
| Parametric Highlight Split | 75 |
| Parametric Highlights | 0 |
| Parametric Lights | 0 |
| Parametric Midtone Split | 50 |
| Parametric Shadow Split | 25 |
| Parametric Shadows | 0 |
| Perspective Aspect | 0 |
| Perspective Horizontal | 0 |
| Perspective Rotate | 0.0 |
| Perspective Scale | 100 |
| Perspective Upright | 0 |
| Perspective Vertical | 0 |
| Post Crop Vignette Amount | 0 |
| Process Version | 6.7 |
| Red Hue | 0 |
| Red Saturation | 0 |
| Rights | Sven Scholz |
| Saturation | Normal |
| Scale Factor To 35 mm Equivalent | 1.0 |
| Scene Capture Type | Standard |
| Scene Type | Directly photographed |
| Sensing Method | One-chip color area |
| Sensitivity Type | Recommended Exposure Index |
| Shadow Tint | 0 |
| Shadows 2012 | +61 |
| Sharpen Detail | 25 |
| Sharpen Edge Masking | 0 |
| Sharpen Radius | +1.0 |
| Sharpness | Normal |
| Split Toning Balance | 0 |
| Split Toning Highlight Hue | 0 |
| Split Toning Highlight Saturation | 0 |
| Split Toning Shadow Hue | 0 |
| Split Toning Shadow Saturation | 0 |
| Subject Distance Range | Unknown |
| Tint | +8 |
| Tone Curve | 0, 0, 255, 255 |
| Tone Curve Blue | 0, 0, 255, 255 |
| Tone Curve Green | 0, 0, 255, 255 |
| Tone Curve Name | Linear |
| Tone Curve Name 2012 | Custom |
| Tone Curve PV2012 | 0, 0, 28, 17, 72, 65, 126, 135, 255, 255 |
| Tone Curve PV2012 Blue | 0, 0, 255, 255 |
| Tone Curve PV2012 Green | 0, 0, 255, 255 |
| Tone Curve PV2012 Red | 0, 0, 255, 255 |
| Tone Curve Red | 0, 0, 255, 255 |
| Version | 8.7 |
| Vignette Amount | 0 |
| White Balance | Auto |
| Whites 2012 | +51 |
X