Shooting information for this photo
| Camera: | NIKON CORPORATION NIKON D800 |
| Exposure: | 0.004 sec. (1/250) |
| Aperture: | f/8.0 |
| Focal Length: | 150.0 mm (35 mm equivalent: 150.0 mm) |
| Flash: | Off, Did not fire |
| Exposure mode: | Program AE |
| Max Aperture: | 4.9 |
| Resolution: | 240 x 240 dpi |
| Original Date: | 2015:08:31 14:14:25.00 |
| Created on: | 2015:08:31 14:14:25.00 |
| Modified on: | 2015:09:12 09:23:37 |
| Software: | Adobe Photoshop Lightroom 5.7 (Windows) |
| Copyright: | Sven Scholz |
| Already Applied | True |
| Approximate Focus Distance | 4294967295 |
| Artist | Sven Scholz |
| Auto Lateral CA | 0 |
| Auto White Version | 134348800 |
| Blacks 2012 | -38 |
| Blue Hue | 0 |
| Blue Saturation | 0 |
| CFA Pattern | [Red,Green][Green,Blue] |
| Camera Profile | Adobe Standard |
| Circle Of Confusion | 0.030 mm |
| Clarity 2012 | +100 |
| Color Noise Reduction | 25 |
| Color Noise Reduction Detail | 50 |
| Color Noise Reduction Smoothness | 50 |
| Color Temperature | 5350 |
| Contrast | Normal |
| Contrast 2012 | +32 |
| Convert To Grayscale | False |
| Creator | Sven Scholz |
| Custom Rendered | Normal |
| Date Created | 2015:08:31 14:14:25.00 |
| Defringe Green Amount | 0 |
| Defringe Green Hue Hi | 60 |
| Defringe Green Hue Lo | 40 |
| Defringe Purple Amount | 0 |
| Defringe Purple Hue Hi | 70 |
| Defringe Purple Hue Lo | 30 |
| Digital Zoom Ratio | 1 |
| Exposure 2012 | -1.31 |
| Exposure Compensation | -2/3 |
| Exposure Mode | Auto |
| Field Of View | 13.7 deg |
| Focal Length In 35mm Format | 150 mm |
| Format | image/jpeg |
| Gain Control | Low gain up |
| Grain Amount | 0 |
| Green Hue | 0 |
| Green Saturation | 0 |
| Has Crop | False |
| Has Settings | True |
| Highlights 2012 | -100 |
| Hue Adjustment Aqua | 0 |
| Hue Adjustment Blue | -1 |
| Hue Adjustment Green | 0 |
| Hue Adjustment Magenta | 0 |
| Hue Adjustment Orange | 0 |
| Hue Adjustment Purple | 0 |
| Hue Adjustment Red | 0 |
| Hue Adjustment Yellow | 0 |
| Hyperfocal Distance | 93.61 m |
| ISO | 640 |
| Image Number | 8485 |
| Image Size | 7360x4912 |
| Lens | 150.0-600.0 mm f/5.0-6.3 |
| Lens ID | 150.0-600.0 mm f/5.0-6.3 |
| Lens Info | 150-600mm f/5-6.3 |
| Lens Manual Distortion Amount | 0 |
| Lens Model | 150.0-600.0 mm f/5.0-6.3 |
| Lens Profile Chromatic Aberration Scale | 100 |
| Lens Profile Distortion Scale | 100 |
| Lens Profile Enable | 1 |
| Lens Profile Filename | NIKON CORPORATION (TAMRON SP 150-600mm F5-6.3 Di VC USD A011N) - RAW.lcp |
| Lens Profile Name | Adobe (TAMRON SP 150-600mm F/5-6.3 Di VC USD A011N, NIKON CORPORATION) |
| Lens Profile Setup | Custom |
| Lens Profile Vignetting Scale | 100 |
| Light Source | Unknown |
| Light Value | 11.3 |
| Luminance Adjustment Aqua | -5 |
| Luminance Adjustment Blue | +69 |
| Luminance Adjustment Green | 0 |
| Luminance Adjustment Magenta | +43 |
| Luminance Adjustment Orange | 0 |
| Luminance Adjustment Purple | +39 |
| Luminance Adjustment Red | 0 |
| Luminance Adjustment Yellow | 0 |
| Luminance Smoothing | 0 |
| Metering Mode | Multi-segment |
| Parametric Darks | 0 |
| Parametric Highlight Split | 75 |
| Parametric Highlights | 0 |
| Parametric Lights | 0 |
| Parametric Midtone Split | 50 |
| Parametric Shadow Split | 25 |
| Parametric Shadows | 0 |
| Perspective Aspect | 0 |
| Perspective Horizontal | 0 |
| Perspective Rotate | 0.0 |
| Perspective Scale | 100 |
| Perspective Upright | 0 |
| Perspective Vertical | 0 |
| Post Crop Vignette Amount | 0 |
| Process Version | 6.7 |
| Red Hue | 0 |
| Red Saturation | 0 |
| Rights | Sven Scholz |
| Saturation | Normal |
| Saturation Adjustment Aqua | 0 |
| Saturation Adjustment Blue | 0 |
| Saturation Adjustment Green | 0 |
| Saturation Adjustment Magenta | -16 |
| Saturation Adjustment Orange | 0 |
| Saturation Adjustment Purple | -34 |
| Saturation Adjustment Red | 0 |
| Saturation Adjustment Yellow | 0 |
| Scale Factor To 35 mm Equivalent | 1.0 |
| Scene Capture Type | Standard |
| Scene Type | Directly photographed |
| Sensing Method | One-chip color area |
| Sensitivity Type | Recommended Exposure Index |
| Shadow Tint | 0 |
| Shadows 2012 | +55 |
| Sharpen Detail | 25 |
| Sharpen Edge Masking | 0 |
| Sharpen Radius | +1.0 |
| Sharpness | Normal |
| Split Toning Balance | 0 |
| Split Toning Highlight Hue | 0 |
| Split Toning Highlight Saturation | 0 |
| Split Toning Shadow Hue | 0 |
| Split Toning Shadow Saturation | 0 |
| Subject Distance Range | Unknown |
| Tint | +28 |
| Tone Curve | 0, 0, 255, 255 |
| Tone Curve Blue | 0, 0, 255, 255 |
| Tone Curve Green | 0, 0, 255, 255 |
| Tone Curve Name | Linear |
| Tone Curve Name 2012 | Custom |
| Tone Curve PV2012 | 0, 0, 28, 17, 72, 65, 126, 135, 255, 255 |
| Tone Curve PV2012 Blue | 0, 0, 255, 255 |
| Tone Curve PV2012 Green | 0, 0, 255, 255 |
| Tone Curve PV2012 Red | 0, 0, 255, 255 |
| Tone Curve Red | 0, 0, 255, 255 |
| Version | 8.7 |
| Vibrance | +32 |
| Vignette Amount | 0 |
| White Balance | Auto |
| Whites 2012 | +57 |
X