Shooting information for this photo
| Camera: | NIKON CORPORATION NIKON D800 |
| Exposure: | 0.01 sec. (1/100) |
| Aperture: | f/5.0 |
| Focal Length: | 35.0 mm (35 mm equivalent: 35.0 mm) |
| Flash: | Off, Did not fire |
| Exposure mode: | Program AE |
| Max Aperture: | 4.0 |
| Resolution: | 300 x 300 dpi |
| Original Date: | 2013:11:24 15:43:27.60 |
| Created on: | 2013:11:24 15:43:27.60 |
| Modified on: | 2013:11:28 00:53:35 |
| Software: | Adobe Photoshop Lightroom 5.0 (Windows) |
| Copyright: | Sven Scholz |
| Already Applied | True |
| Approximate Focus Distance | 4294967295 |
| Artist | Sven Scholz |
| Auto Lateral CA | 0 |
| Auto White Version | 134348800 |
| Blacks 2012 | 0 |
| Blue Hue | 0 |
| Blue Saturation | 0 |
| CFA Pattern | [Red,Green][Green,Blue] |
| Camera Profile | Adobe Standard |
| Circle Of Confusion | 0.030 mm |
| Clarity 2012 | +29 |
| Color Noise Reduction | 25 |
| Color Noise Reduction Detail | 50 |
| Color Noise Reduction Smoothness | 50 |
| Color Temperature | 6950 |
| Contrast | Normal |
| Contrast 2012 | +16 |
| Convert To Grayscale | True |
| Creator | Sven Scholz |
| Crop Angle | -3.04471 |
| Crop Bottom | 0.926184 |
| Crop Constrain To Warp | 0 |
| Crop Left | 0.020469 |
| Crop Right | 0.979531 |
| Crop Top | 0.073816 |
| Custom Rendered | Normal |
| Date Created | 2013:11:24 15:43:27.60 |
| Digital Zoom Ratio | 1 |
| Exposure 2012 | 0.00 |
| Exposure Compensation | -2/3 |
| Exposure Mode | Auto |
| Field Of View | 54.4 deg |
| Focal Length In 35mm Format | 35 mm |
| Format | image/jpeg |
| Gain Control | Low gain up |
| Grain Amount | 0 |
| Gray Mixer Aqua | -100 |
| Gray Mixer Blue | -63 |
| Gray Mixer Green | -15 |
| Gray Mixer Magenta | +4 |
| Gray Mixer Orange | +14 |
| Gray Mixer Purple | +19 |
| Gray Mixer Red | +100 |
| Gray Mixer Yellow | +4 |
| Green Hue | 0 |
| Green Saturation | 0 |
| Has Crop | True |
| Has Settings | True |
| Highlights 2012 | -100 |
| Hyperfocal Distance | 8.15 m |
| ISO | 400 |
| Image Number | 2655 |
| Image Size | 4556x6826 |
| Lens | 16.0-35.0 mm f/4.0 |
| Lens ID | AF-S Nikkor 16-35mm f/4G ED VR |
| Lens Info | 16-35mm f/4 |
| Lens Manual Distortion Amount | 0 |
| Lens Model | 16.0-35.0 mm f/4.0 |
| Lens Profile Chromatic Aberration Scale | 100 |
| Lens Profile Distortion Scale | 100 |
| Lens Profile Enable | 1 |
| Lens Profile Filename | NIKON D3X (Nikon AF-S NIKKOR 16-35mm f4G ED VR) - RAW.lcp |
| Lens Profile Name | Adobe (Nikon AF-S NIKKOR 16-35mm f/4G ED VR) |
| Lens Profile Setup | Auto |
| Lens Profile Vignetting Scale | 100 |
| Light Source | Unknown |
| Light Value | 9.3 |
| Luminance Noise Reduction Contrast | 0 |
| Luminance Noise Reduction Detail | 50 |
| Luminance Smoothing | 14 |
| Metering Mode | Center-weighted average |
| Parametric Darks | 0 |
| Parametric Highlight Split | 75 |
| Parametric Highlights | 0 |
| Parametric Lights | 0 |
| Parametric Midtone Split | 50 |
| Parametric Shadow Split | 25 |
| Parametric Shadows | 0 |
| Perspective Aspect | 0 |
| Perspective Horizontal | 0 |
| Perspective Rotate | 0.0 |
| Perspective Scale | 100 |
| Perspective Upright | 0 |
| Perspective Vertical | 0 |
| Post Crop Vignette Amount | 0 |
| Process Version | 6.7 |
| Rating Percent | 0 |
| Red Hue | 0 |
| Red Saturation | 0 |
| Rights | Sven Scholz |
| Saturation | Normal |
| Scale Factor To 35 mm Equivalent | 1.0 |
| Scene Capture Type | Standard |
| Scene Type | Directly photographed |
| Sensing Method | One-chip color area |
| Sensitivity Type | Recommended Exposure Index |
| Shadow Tint | 0 |
| Shadows 2012 | +66 |
| Sharpen Detail | 25 |
| Sharpen Edge Masking | 0 |
| Sharpen Radius | +1.0 |
| Sharpness | Normal |
| Split Toning Balance | 0 |
| Split Toning Highlight Hue | 0 |
| Split Toning Highlight Saturation | 0 |
| Split Toning Shadow Hue | 0 |
| Split Toning Shadow Saturation | 0 |
| Subject Distance Range | Unknown |
| Tint | +3 |
| Tone Curve Name 2012 | Custom |
| Tone Curve PV2012 | 0, 0, 22, 22, 113, 131, 255, 255 |
| Tone Curve PV2012 Blue | 0, 0, 255, 255 |
| Tone Curve PV2012 Green | 0, 0, 255, 255 |
| Tone Curve PV2012 Red | 0, 0, 255, 255 |
| Version | 8.2 |
| Vignette Amount | -65 |
| Vignette Midpoint | 50 |
| White Balance | Auto |
| Whites 2012 | -15 |
X