Shooting information for this photo
| Camera: | NIKON CORPORATION NIKON D800 |
| Exposure: | 0.002 sec. (1/500) |
| Aperture: | f/11.0 |
| Focal Length: | 105.0 mm (35 mm equivalent: 105.0 mm) |
| Flash: | Off, Did not fire |
| Exposure mode: | Program AE |
| Max Aperture: | 2.8 |
| Resolution: | 300 x 300 dpi |
| Original Date: | 2013:05:23 14:41:01.30 |
| Created on: | 2013:05:23 14:41:01.30 |
| Modified on: | 2013:06:28 19:41:14 |
| Software: | Adobe Photoshop Lightroom 5.0 (Windows) |
| Copyright: | Sven Scholz |
| Already Applied | True |
| Approximate Focus Distance | 4294967295 |
| Artist | Sven Scholz |
| Auto Lateral CA | 1 |
| Blacks 2012 | +26 |
| Blue Hue | 0 |
| Blue Saturation | 0 |
| CFA Pattern | [Red,Green][Green,Blue] |
| Camera Profile | Adobe Standard |
| Circle Of Confusion | 0.030 mm |
| Clarity 2012 | +28 |
| Color Noise Reduction | 25 |
| Color Noise Reduction Detail | 50 |
| Color Temperature | 5350 |
| Contrast | Normal |
| Contrast 2012 | +22 |
| Convert To Grayscale | False |
| Creator | Sven Scholz |
| Crop Angle | 0.303693 |
| Crop Bottom | 1 |
| Crop Constrain To Warp | 0 |
| Crop Left | 0.005695 |
| Crop Right | 0.994305 |
| Crop Top | 0 |
| Custom Rendered | Normal |
| Date Created | 2013:05:23 14:41:01.30 |
| Defringe Green Amount | 0 |
| Defringe Green Hue Hi | 60 |
| Defringe Green Hue Lo | 40 |
| Defringe Purple Amount | 1 |
| Defringe Purple Hue Hi | 70 |
| Defringe Purple Hue Lo | 30 |
| Digital Zoom Ratio | 1 |
| Exposure 2012 | +0.96 |
| Exposure Compensation | 0 |
| Exposure Mode | Auto |
| Field Of View | 19.5 deg |
| Focal Length In 35mm Format | 105 mm |
| Format | image/jpeg |
| Gain Control | None |
| Grain Amount | 0 |
| Green Hue | 0 |
| Green Saturation | 0 |
| Has Crop | True |
| Has Settings | True |
| Highlights 2012 | -12 |
| Hue Adjustment Aqua | 0 |
| Hue Adjustment Blue | 0 |
| Hue Adjustment Green | 0 |
| Hue Adjustment Magenta | 0 |
| Hue Adjustment Orange | 0 |
| Hue Adjustment Purple | 0 |
| Hue Adjustment Red | 0 |
| Hue Adjustment Yellow | 0 |
| Hyperfocal Distance | 33.36 m |
| ISO | 200 |
| Image Number | 1547 |
| Image Size | 7302x4873 |
| Lens | 105.0 mm f/2.8 |
| Lens ID | AF-S VR Micro-Nikkor 105mm f/2.8G IF-ED |
| Lens Info | 105mm f/2.8 |
| Lens Manual Distortion Amount | 0 |
| Lens Model | 105.0 mm f/2.8 |
| Lens Profile Chromatic Aberration Scale | 100 |
| Lens Profile Distortion Scale | 100 |
| Lens Profile Enable | 1 |
| Lens Profile Filename | NIKON D3 (Nikon AF-S VR Micro-Nikkor 105mm f2.8G IF-ED) - RAW.lcp |
| Lens Profile Name | Adobe (Nikon AF-S VR Micro-Nikkor 105mm f/2.8G IF-ED) |
| Lens Profile Setup | Custom |
| Lens Profile Vignetting Scale | 100 |
| Light Source | Unknown |
| Light Value | 14.9 |
| Luminance Adjustment Aqua | -100 |
| Luminance Adjustment Blue | -27 |
| Luminance Adjustment Green | 0 |
| Luminance Adjustment Magenta | 0 |
| Luminance Adjustment Orange | 0 |
| Luminance Adjustment Purple | 0 |
| Luminance Adjustment Red | 0 |
| Luminance Adjustment Yellow | 0 |
| Luminance Smoothing | 0 |
| Metering Mode | Center-weighted average |
| Parametric Darks | 0 |
| Parametric Highlight Split | 75 |
| Parametric Highlights | 0 |
| Parametric Lights | 0 |
| Parametric Midtone Split | 50 |
| Parametric Shadow Split | 25 |
| Parametric Shadows | 0 |
| Perspective Aspect | 0 |
| Perspective Horizontal | 0 |
| Perspective Rotate | 0.0 |
| Perspective Scale | 100 |
| Perspective Upright | 0 |
| Perspective Vertical | 0 |
| Post Crop Vignette Amount | 0 |
| Process Version | 6.7 |
| Red Hue | 0 |
| Red Saturation | 0 |
| Rights | Sven Scholz |
| Saturation | Normal |
| Saturation Adjustment Aqua | 0 |
| Saturation Adjustment Blue | -37 |
| Saturation Adjustment Green | 0 |
| Saturation Adjustment Magenta | 0 |
| Saturation Adjustment Orange | 0 |
| Saturation Adjustment Purple | 0 |
| Saturation Adjustment Red | 0 |
| Saturation Adjustment Yellow | 0 |
| Scale Factor To 35 mm Equivalent | 1.0 |
| Scene Capture Type | Standard |
| Scene Type | Directly photographed |
| Sensing Method | One-chip color area |
| Sensitivity Type | Recommended Exposure Index |
| Shadow Tint | 0 |
| Shadows 2012 | +41 |
| Sharpen Detail | 25 |
| Sharpen Edge Masking | 0 |
| Sharpen Radius | +1.0 |
| Sharpness | Normal |
| Split Toning Balance | 0 |
| Split Toning Highlight Hue | 0 |
| Split Toning Highlight Saturation | 0 |
| Split Toning Shadow Hue | 0 |
| Split Toning Shadow Saturation | 0 |
| Subject Distance Range | Unknown |
| Tint | +5 |
| Tone Curve Name 2012 | Custom |
| Tone Curve PV2012 | 0, 0, 14, 13, 44, 50, 105, 123, 255, 255 |
| Tone Curve PV2012 Blue | 0, 0, 255, 255 |
| Tone Curve PV2012 Green | 0, 0, 255, 255 |
| Tone Curve PV2012 Red | 0, 0, 255, 255 |
| Version | 8.1 |
| Vibrance | +32 |
| Vignette Amount | 0 |
| White Balance | Auto |
| Whites 2012 | +28 |
X