Shooting information for this photo
| Camera: | NIKON CORPORATION NIKON D800 |
| Exposure: | 0.00125 sec. (1/800) |
| Aperture: | f/14.0 |
| Focal Length: | 24.0 mm (35 mm equivalent: 24.0 mm) |
| Flash: | Off, Did not fire |
| Exposure mode: | Program AE |
| Max Aperture: | 4.4 |
| Resolution: | 300 x 300 dpi |
| Original Date: | 2013:05:23 14:20:59.60 |
| Created on: | 2013:05:23 14:20:59.60 |
| Modified on: | 2013:06:21 22:34:36 |
| Software: | Adobe Photoshop Lightroom 5.0 (Windows) |
| Copyright: | Sven Scholz |
| Already Applied | True |
| Approximate Focus Distance | 4294967295 |
| Artist | Sven Scholz |
| Auto Lateral CA | 0 |
| Blacks 2012 | 0 |
| Blue Hue | 0 |
| Blue Saturation | 0 |
| CFA Pattern | [Red,Green][Green,Blue] |
| Camera Profile | Adobe Standard |
| Circle Of Confusion | 0.030 mm |
| Clarity 2012 | +51 |
| Color Noise Reduction | 25 |
| Color Noise Reduction Detail | 50 |
| Color Temperature | 5150 |
| Contrast | Normal |
| Contrast 2012 | +13 |
| Convert To Grayscale | False |
| Creator | Sven Scholz |
| Crop Angle | 0.256697 |
| Crop Bottom | 1 |
| Crop Constrain To Warp | 0 |
| Crop Left | 0.004819 |
| Crop Right | 0.995181 |
| Crop Top | 0 |
| Custom Rendered | Normal |
| Date Created | 2013:05:23 14:20:59.60 |
| Defringe Green Amount | 0 |
| Defringe Green Hue Hi | 60 |
| Defringe Green Hue Lo | 40 |
| Defringe Purple Amount | 0 |
| Defringe Purple Hue Hi | 70 |
| Defringe Purple Hue Lo | 30 |
| Digital Zoom Ratio | 1 |
| Exposure 2012 | +1.32 |
| Exposure Compensation | -1 |
| Exposure Mode | Auto |
| Field Of View | 73.7 deg |
| Focal Length In 35mm Format | 24 mm |
| Format | image/jpeg |
| Gain Control | None |
| Grain Amount | 0 |
| Green Hue | 0 |
| Green Saturation | 0 |
| Has Crop | True |
| Has Settings | True |
| Highlights 2012 | -100 |
| Hue Adjustment Aqua | 0 |
| Hue Adjustment Blue | 0 |
| Hue Adjustment Green | -6 |
| Hue Adjustment Magenta | 0 |
| Hue Adjustment Orange | 0 |
| Hue Adjustment Purple | 0 |
| Hue Adjustment Red | 0 |
| Hue Adjustment Yellow | 0 |
| Hyperfocal Distance | 1.37 m |
| ISO | 200 |
| Image Number | 1437 |
| Image Size | 7311x4879 |
| Lens | 10.0-24.0 mm f/3.5-4.5 |
| Lens ID | AF-S DX Nikkor 10-24mm f/3.5-4.5G ED |
| Lens Info | 10-24mm f/3.5-4.5 |
| Lens Manual Distortion Amount | 0 |
| Lens Model | 10.0-24.0 mm f/3.5-4.5 |
| Lens Profile Chromatic Aberration Scale | 100 |
| Lens Profile Distortion Scale | 100 |
| Lens Profile Enable | 1 |
| Lens Profile Filename | NIKON D90 (Nikon AF-S DX NIKKOR 10-24mm f3.5-4.5G ED) - RAW.lcp |
| Lens Profile Name | Adobe (Nikon AF-S DX NIKKOR 10-24mm f/3.5-4.5G ED) |
| Lens Profile Setup | LensDefaults |
| Lens Profile Vignetting Scale | 100 |
| Light Source | Unknown |
| Light Value | 16.3 |
| Luminance Adjustment Aqua | 0 |
| Luminance Adjustment Blue | -3 |
| Luminance Adjustment Green | -6 |
| Luminance Adjustment Magenta | 0 |
| Luminance Adjustment Orange | 0 |
| Luminance Adjustment Purple | 0 |
| Luminance Adjustment Red | 0 |
| Luminance Adjustment Yellow | 0 |
| Luminance Smoothing | 0 |
| Metering Mode | Center-weighted average |
| Parametric Darks | 0 |
| Parametric Highlight Split | 75 |
| Parametric Highlights | 0 |
| Parametric Lights | 0 |
| Parametric Midtone Split | 50 |
| Parametric Shadow Split | 25 |
| Parametric Shadows | 0 |
| Perspective Aspect | 0 |
| Perspective Horizontal | 0 |
| Perspective Rotate | 0.0 |
| Perspective Scale | 100 |
| Perspective Upright | 0 |
| Perspective Vertical | 0 |
| Post Crop Vignette Amount | 0 |
| Process Version | 6.7 |
| Red Hue | 0 |
| Red Saturation | 0 |
| Rights | Sven Scholz |
| Saturation | Normal |
| Saturation Adjustment Aqua | 0 |
| Saturation Adjustment Blue | -13 |
| Saturation Adjustment Green | -10 |
| Saturation Adjustment Magenta | 0 |
| Saturation Adjustment Orange | 0 |
| Saturation Adjustment Purple | 0 |
| Saturation Adjustment Red | 0 |
| Saturation Adjustment Yellow | 0 |
| Scale Factor To 35 mm Equivalent | 1.0 |
| Scene Capture Type | Standard |
| Scene Type | Directly photographed |
| Sensing Method | One-chip color area |
| Sensitivity Type | Recommended Exposure Index |
| Shadow Tint | 0 |
| Shadows 2012 | +3 |
| Sharpen Detail | 25 |
| Sharpen Edge Masking | 0 |
| Sharpen Radius | +1.0 |
| Sharpness | Normal |
| Split Toning Balance | 0 |
| Split Toning Highlight Hue | 0 |
| Split Toning Highlight Saturation | 0 |
| Split Toning Shadow Hue | 0 |
| Split Toning Shadow Saturation | 0 |
| Subject Distance Range | Unknown |
| Tint | +6 |
| Tone Curve Name 2012 | Custom |
| Tone Curve PV2012 | 0, 0, 23, 23, 57, 66, 102, 116, 156, 168, 205, 214, 255, 255 |
| Tone Curve PV2012 Blue | 0, 0, 255, 255 |
| Tone Curve PV2012 Green | 0, 0, 255, 255 |
| Tone Curve PV2012 Red | 0, 0, 255, 255 |
| Version | 8.1 |
| Vibrance | +12 |
| Vignette Amount | +74 |
| Vignette Midpoint | 50 |
| White Balance | Auto |
| Whites 2012 | +3 |
X