Shooting information for this photo
| Camera: | NIKON CORPORATION NIKON D800 |
| Exposure: | 0.001 sec. (1/1000) |
| Aperture: | f/4.5 |
| Focal Length: | 24.0 mm (35 mm equivalent: 24.0 mm) |
| Flash: | Off, Did not fire |
| Exposure mode: | Program AE |
| Max Aperture: | 4.4 |
| Resolution: | 300 x 300 dpi |
| Original Date: | 2013:05:15 15:00:54.10 |
| Created on: | 2013:05:15 15:00:54.10 |
| Modified on: | 2013:06:06 23:26:22 |
| Software: | Adobe Photoshop Lightroom 4.4 (Windows) |
| Copyright: | Sven Scholz |
| Already Applied | True |
| Approximate Focus Distance | 4294967295 |
| Artist | Sven Scholz |
| Auto Lateral CA | 0 |
| Blacks 2012 | +40 |
| Blue Hue | 0 |
| Blue Saturation | 0 |
| CFA Pattern | [Red,Green][Green,Blue] |
| Camera Profile | Adobe Standard |
| Circle Of Confusion | 0.030 mm |
| Clarity 2012 | +9 |
| Color Noise Reduction | 25 |
| Color Noise Reduction Detail | 50 |
| Color Temperature | 4750 |
| Contrast | Normal |
| Contrast 2012 | +28 |
| Convert To Grayscale | False |
| Creator | Sven Scholz |
| Crop Angle | -3.2915 |
| Crop Bottom | 0.920664 |
| Crop Constrain To Warp | 0 |
| Crop Height | 4529 |
| Crop Left | 0.021999 |
| Crop Right | 0.978001 |
| Crop Top | 0.079336 |
| Crop Unit | pixels |
| Crop Width | 6787 |
| Custom Rendered | Normal |
| Date Created | 2013:05:15 15:00:54.10 |
| Defringe Green Amount | 0 |
| Defringe Green Hue Hi | 60 |
| Defringe Green Hue Lo | 40 |
| Defringe Purple Amount | 0 |
| Defringe Purple Hue Hi | 70 |
| Defringe Purple Hue Lo | 30 |
| Digital Zoom Ratio | 1 |
| Exposure 2012 | +0.34 |
| Exposure Compensation | 0 |
| Exposure Mode | Auto |
| Field Of View | 73.7 deg |
| Focal Length In 35mm Format | 24 mm |
| Format | image/jpeg |
| Gain Control | None |
| Grain Amount | 0 |
| Green Hue | 0 |
| Green Saturation | 0 |
| Has Crop | True |
| Has Settings | True |
| Highlights 2012 | -100 |
| Hue Adjustment Aqua | 0 |
| Hue Adjustment Blue | 0 |
| Hue Adjustment Green | 0 |
| Hue Adjustment Magenta | 0 |
| Hue Adjustment Orange | 0 |
| Hue Adjustment Purple | 0 |
| Hue Adjustment Red | +17 |
| Hue Adjustment Yellow | 0 |
| Hyperfocal Distance | 4.26 m |
| ISO | 160 |
| Image Number | 1084 |
| Image Size | 6787x4529 |
| Lens | 10.0-24.0 mm f/3.5-4.5 |
| Lens ID | AF-S DX Nikkor 10-24mm f/3.5-4.5G ED |
| Lens Info | 10-24mm f/3.5-4.5 |
| Lens Manual Distortion Amount | 0 |
| Lens Model | 10.0-24.0 mm f/3.5-4.5 |
| Lens Profile Chromatic Aberration Scale | 100 |
| Lens Profile Distortion Scale | 100 |
| Lens Profile Enable | 1 |
| Lens Profile Filename | NIKON CORPORATION (Sigma_50mm_F2.8_MACRO_EX_DG ) - RAW.lcp |
| Lens Profile Name | Adobe (SIGMA MACRO 50mm F2.8 EX DG, NIKON CORPORATION) |
| Lens Profile Setup | Custom |
| Lens Profile Vignetting Scale | 100 |
| Light Source | Unknown |
| Light Value | 13.6 |
| Luminance Adjustment Aqua | 0 |
| Luminance Adjustment Blue | -38 |
| Luminance Adjustment Green | 0 |
| Luminance Adjustment Magenta | 0 |
| Luminance Adjustment Orange | +21 |
| Luminance Adjustment Purple | 0 |
| Luminance Adjustment Red | +17 |
| Luminance Adjustment Yellow | 0 |
| Luminance Noise Reduction Contrast | 0 |
| Luminance Noise Reduction Detail | 50 |
| Luminance Smoothing | 14 |
| Metering Mode | Multi-segment |
| Parametric Darks | 0 |
| Parametric Highlight Split | 75 |
| Parametric Highlights | 0 |
| Parametric Lights | 0 |
| Parametric Midtone Split | 50 |
| Parametric Shadow Split | 25 |
| Parametric Shadows | 0 |
| Perspective Horizontal | 0 |
| Perspective Rotate | 0.0 |
| Perspective Scale | 100 |
| Perspective Vertical | 0 |
| Post Crop Vignette Amount | +6 |
| Post Crop Vignette Feather | 55 |
| Post Crop Vignette Midpoint | 59 |
| Post Crop Vignette Roundness | +100 |
| Post Crop Vignette Style | 1 |
| Process Version | 6.7 |
| Red Hue | 0 |
| Red Saturation | 0 |
| Rights | Sven Scholz |
| Saturation | Normal |
| Saturation Adjustment Aqua | 0 |
| Saturation Adjustment Blue | -72 |
| Saturation Adjustment Green | 0 |
| Saturation Adjustment Magenta | 0 |
| Saturation Adjustment Orange | +10 |
| Saturation Adjustment Purple | 0 |
| Saturation Adjustment Red | -23 |
| Saturation Adjustment Yellow | 0 |
| Scale Factor To 35 mm Equivalent | 1.0 |
| Scene Capture Type | Standard |
| Scene Type | Directly photographed |
| Sensing Method | One-chip color area |
| Sensitivity Type | Recommended Exposure Index |
| Shadow Tint | 0 |
| Shadows 2012 | +31 |
| Sharpen Detail | 25 |
| Sharpen Edge Masking | 0 |
| Sharpen Radius | +1.0 |
| Sharpness | Normal |
| Split Toning Balance | 0 |
| Split Toning Highlight Hue | 0 |
| Split Toning Highlight Saturation | 0 |
| Split Toning Shadow Hue | 0 |
| Split Toning Shadow Saturation | 0 |
| Subject Distance Range | Unknown |
| Tint | +5 |
| Tone Curve Name 2012 | Custom |
| Tone Curve PV2012 | 0, 0, 22, 16, 44, 40, 112, 126, 177, 193, 221, 231, 255, 255 |
| Tone Curve PV2012 Blue | 0, 0, 255, 255 |
| Tone Curve PV2012 Green | 0, 0, 255, 255 |
| Tone Curve PV2012 Red | 0, 0, 255, 255 |
| Version | 7.4 |
| Vibrance | +24 |
| Vignette Amount | 0 |
| White Balance | Auto |
| Whites 2012 | +46 |
X