Shooting information for this photo
| Camera: | NIKON CORPORATION NIKON D800 |
| Exposure: | 0.04 sec. (1/25) |
| Aperture: | f/13.0 |
| Focal Length: | 50.0 mm (35 mm equivalent: 50.0 mm) |
| Flash: | Off, Did not fire |
| Exposure mode: | Program AE |
| Max Aperture: | 2.8 |
| Resolution: | 300 x 300 dpi |
| Original Date: | 2013:04:09 17:05:58.70 |
| Created on: | 2013:04:09 17:05:58.70 |
| Modified on: | 2013:04:15 22:40:12 |
| Software: | Adobe Photoshop Lightroom 4.3 (Windows) |
| Copyright: | Sven Scholz |
| Already Applied | True |
| Approximate Focus Distance | 3.98 |
| Artist | Sven Scholz |
| Auto Lateral CA | 0 |
| Blacks 2012 | -11 |
| Blue Hue | 0 |
| Blue Saturation | 0 |
| CFA Pattern | [Red,Green][Green,Blue] |
| Camera Profile | Adobe Standard |
| Circle Of Confusion | 0.030 mm |
| Clarity 2012 | +7 |
| Color Noise Reduction | 25 |
| Color Noise Reduction Detail | 50 |
| Color Temperature | 4550 |
| Contrast | Normal |
| Contrast 2012 | +17 |
| Convert To Grayscale | False |
| Creator | Sven Scholz |
| Custom Rendered | Normal |
| Date Created | 2013:04:09 17:05:58.70 |
| Defringe Green Amount | 0 |
| Defringe Green Hue Hi | 60 |
| Defringe Green Hue Lo | 40 |
| Defringe Purple Amount | 0 |
| Defringe Purple Hue Hi | 70 |
| Defringe Purple Hue Lo | 30 |
| Digital Zoom Ratio | 1 |
| Exposure 2012 | +0.24 |
| Exposure Compensation | 0 |
| Exposure Mode | Auto |
| Field Of View | 39.6 deg |
| Focal Length In 35mm Format | 50 mm |
| Format | image/jpeg |
| Gain Control | Low gain up |
| Grain Amount | 0 |
| Green Hue | 0 |
| Green Saturation | 0 |
| Has Crop | False |
| Has Settings | True |
| Highlights 2012 | -65 |
| Hue Adjustment Aqua | 0 |
| Hue Adjustment Blue | 0 |
| Hue Adjustment Green | 0 |
| Hue Adjustment Magenta | 0 |
| Hue Adjustment Orange | 0 |
| Hue Adjustment Purple | 0 |
| Hue Adjustment Red | 0 |
| Hue Adjustment Yellow | 0 |
| Hyperfocal Distance | 6.40 m |
| ISO | 500 |
| Image Number | 500 |
| Image Size | 7360x4912 |
| Lens | 50.0 mm f/2.8 |
| Lens ID | Sigma Macro 50mm F2.8 EX DG |
| Lens Info | 50mm f/2.8 |
| Lens Manual Distortion Amount | 0 |
| Lens Model | 50.0 mm f/2.8 |
| Lens Profile Chromatic Aberration Scale | 100 |
| Lens Profile Distortion Scale | 100 |
| Lens Profile Enable | 1 |
| Lens Profile Filename | NIKON CORPORATION (Sigma_50mm_F2.8_MACRO_EX_DG ) - RAW.lcp |
| Lens Profile Name | Adobe (SIGMA MACRO 50mm F2.8 EX DG, NIKON CORPORATION) |
| Lens Profile Setup | LensDefaults |
| Lens Profile Vignetting Scale | 100 |
| Light Source | Unknown |
| Light Value | 9.7 |
| Luminance Adjustment Aqua | 0 |
| Luminance Adjustment Blue | 0 |
| Luminance Adjustment Green | 0 |
| Luminance Adjustment Magenta | 0 |
| Luminance Adjustment Orange | 0 |
| Luminance Adjustment Purple | 0 |
| Luminance Adjustment Red | 0 |
| Luminance Adjustment Yellow | 0 |
| Luminance Smoothing | 0 |
| Metering Mode | Center-weighted average |
| Parametric Darks | 0 |
| Parametric Highlight Split | 75 |
| Parametric Highlights | 0 |
| Parametric Lights | 0 |
| Parametric Midtone Split | 50 |
| Parametric Shadow Split | 25 |
| Parametric Shadows | 0 |
| Perspective Horizontal | 0 |
| Perspective Rotate | 0.0 |
| Perspective Scale | 100 |
| Perspective Vertical | 0 |
| Post Crop Vignette Amount | 0 |
| Process Version | 6.7 |
| Red Hue | 0 |
| Red Saturation | 0 |
| Rights | Sven Scholz |
| Saturation | Normal |
| Saturation Adjustment Aqua | 0 |
| Saturation Adjustment Blue | 0 |
| Saturation Adjustment Green | 0 |
| Saturation Adjustment Magenta | 0 |
| Saturation Adjustment Orange | 0 |
| Saturation Adjustment Purple | 0 |
| Saturation Adjustment Red | 0 |
| Saturation Adjustment Yellow | 0 |
| Scale Factor To 35 mm Equivalent | 1.0 |
| Scene Capture Type | Standard |
| Scene Type | Directly photographed |
| Sensing Method | One-chip color area |
| Sensitivity Type | Recommended Exposure Index |
| Shadow Tint | 0 |
| Shadows 2012 | +13 |
| Sharpen Detail | 25 |
| Sharpen Edge Masking | 0 |
| Sharpen Radius | +1.0 |
| Sharpness | Normal |
| Split Toning Balance | 0 |
| Split Toning Highlight Hue | 0 |
| Split Toning Highlight Saturation | 0 |
| Split Toning Shadow Hue | 0 |
| Split Toning Shadow Saturation | 0 |
| Subject Distance Range | Unknown |
| Tint | +12 |
| Tone Curve Name 2012 | Linear |
| Tone Curve PV2012 | 0, 0, 255, 255 |
| Tone Curve PV2012 Blue | 0, 0, 255, 255 |
| Tone Curve PV2012 Green | 0, 0, 255, 255 |
| Tone Curve PV2012 Red | 0, 0, 255, 255 |
| Version | 7.3 |
| Vibrance | -9 |
| Vignette Amount | 0 |
| White Balance | Auto |
| Whites 2012 | 0 |
X