Shooting information for this photo
| Camera: | Canon EOS-1D Mark III |
| Exposure: | 0.00156 sec. (1/640) |
| Aperture: | f/13.0 |
| Focal Length: | 25.0 mm (35 mm equivalent: 32.0 mm) |
| Flash: | Off, Did not fire |
| Exposure mode: | Program AE |
| Max Aperture: | 2.8 |
| Resolution: | 250 x 250 dpi |
| Original Date: | 2013:02:27 18:37:38.00 |
| Created on: | 2013:02:27 18:37:38.00 |
| Modified on: | 2013:03:08 13:15:11 |
| Software: | Adobe Photoshop Lightroom 4.3 (Macintosh) |
| Copyright: | www.sportpixel.com |
| Already Applied | True |
| Approximate Focus Distance | 2.25 |
| Artist | Martin Maguolo |
| Auto Lateral CA | 0 |
| Blacks 2012 | -9 |
| Blue Hue | 0 |
| Blue Saturation | 0 |
| Camera Profile | Adobe Standard |
| Circle Of Confusion | 0.023 mm |
| Clarity 2012 | 0 |
| Color Noise Reduction | 25 |
| Color Noise Reduction Detail | 50 |
| Color Temperature | 4750 |
| Contrast 2012 | -3 |
| Convert To Grayscale | False |
| Creator | Martin Maguolo |
| Crop Angle | -0.281921 |
| Crop Bottom | 0.769063 |
| Crop Constrain To Warp | 0 |
| Crop Height | 1715 |
| Crop Left | 0.08458 |
| Crop Right | 0.748257 |
| Crop Top | 0.112438 |
| Crop Unit | pixels |
| Crop Width | 2572 |
| Custom Rendered | Normal |
| Date Created | 2013:02:27 18:37:38.00 |
| Defringe Green Amount | 0 |
| Defringe Green Hue Hi | 60 |
| Defringe Green Hue Lo | 40 |
| Defringe Purple Amount | 0 |
| Defringe Purple Hue Hi | 70 |
| Defringe Purple Hue Lo | 30 |
| Exposure 2012 | +0.04 |
| Exposure Compensation | 0 |
| Exposure Mode | Auto |
| Field Of View | 58.7 deg |
| Firmware | 1.2.5 |
| Flash Compensation | 0 |
| Format | image/jpeg |
| Grain Amount | 0 |
| Green Hue | 0 |
| Green Saturation | 0 |
| Has Crop | True |
| Has Settings | True |
| Highlights 2012 | -30 |
| Hue Adjustment Aqua | 0 |
| Hue Adjustment Blue | 0 |
| Hue Adjustment Green | 0 |
| Hue Adjustment Magenta | 0 |
| Hue Adjustment Orange | 0 |
| Hue Adjustment Purple | 0 |
| Hue Adjustment Red | 0 |
| Hue Adjustment Yellow | 0 |
| Hyperfocal Distance | 2.05 m |
| ISO | 250 |
| Image Number | 0 |
| Image Size | 1715x2572 |
| Lens | EF24-70mm f/2.8L USM |
| Lens ID | Canon EF 24-70mm f/2.8L |
| Lens Info | 24-70mm f/? |
| Lens Manual Distortion Amount | 0 |
| Lens Model | EF24-70mm f/2.8L USM |
| Lens Profile Chromatic Aberration Scale | 100 |
| Lens Profile Distortion Scale | 100 |
| Lens Profile Enable | 1 |
| Lens Profile Filename | Canon EOS-1Ds Mark III (Canon EF 24-70mm f2.8 L USM) - RAW.lcp |
| Lens Profile Name | Adobe (Canon EF 24-70mm f/2.8 L USM) |
| Lens Profile Setup | LensDefaults |
| Lens Profile Vignetting Scale | 100 |
| Light Value | 15.4 |
| Luminance Adjustment Aqua | 0 |
| Luminance Adjustment Blue | 0 |
| Luminance Adjustment Green | 0 |
| Luminance Adjustment Magenta | 0 |
| Luminance Adjustment Orange | 0 |
| Luminance Adjustment Purple | 0 |
| Luminance Adjustment Red | 0 |
| Luminance Adjustment Yellow | 0 |
| Luminance Smoothing | 0 |
| Marked | True |
| Metering Mode | Multi-segment |
| Owner Name | Martin Maguolo |
| Parametric Darks | 0 |
| Parametric Highlight Split | 75 |
| Parametric Highlights | 0 |
| Parametric Lights | 0 |
| Parametric Midtone Split | 50 |
| Parametric Shadow Split | 25 |
| Parametric Shadows | 0 |
| Perspective Horizontal | 0 |
| Perspective Rotate | 0.0 |
| Perspective Scale | 100 |
| Perspective Vertical | 0 |
| Post Crop Vignette Amount | 0 |
| Process Version | 6.7 |
| Red Hue | 0 |
| Red Saturation | 0 |
| Rights | www.sportpixel.com |
| Saturation | 0 |
| Saturation Adjustment Aqua | 0 |
| Saturation Adjustment Blue | 0 |
| Saturation Adjustment Green | 0 |
| Saturation Adjustment Magenta | 0 |
| Saturation Adjustment Orange | 0 |
| Saturation Adjustment Purple | 0 |
| Saturation Adjustment Red | 0 |
| Saturation Adjustment Yellow | 0 |
| Scale Factor To 35 mm Equivalent | 1.3 |
| Scene Capture Type | Standard |
| Shadow Tint | 0 |
| Shadows 2012 | +38 |
| Sharpen Detail | 25 |
| Sharpen Edge Masking | 10 |
| Sharpen Radius | +1.1 |
| Sharpness | 45 |
| Split Toning Balance | 0 |
| Split Toning Highlight Hue | 0 |
| Split Toning Highlight Saturation | 0 |
| Split Toning Shadow Hue | 0 |
| Split Toning Shadow Saturation | 0 |
| Subject | 2013, AIDA, Karibik, Philipsburg, Saint Martin, Sint Maarten |
| Tint | +3 |
| Tone Curve Name 2012 | Linear |
| Tone Curve PV2012 | 0, 0, 255, 255 |
| Tone Curve PV2012 Blue | 0, 0, 255, 255 |
| Tone Curve PV2012 Green | 0, 0, 255, 255 |
| Tone Curve PV2012 Red | 0, 0, 255, 255 |
| Usage Terms | www.sportpixel.com |
| Version | 7.3 |
| Vibrance | +19 |
| Vignette Amount | 0 |
| Web Statement | mail@sportpixel.com |
| White Balance | Auto |
| Whites 2012 | +44 |
X