Shooting information for this photo
| Camera: | Canon EOS-1D X |
| Exposure: | 0.00313 sec. (1/320) |
| Aperture: | f/3.2 |
| Focal Length: | 70.0 mm (35 mm equivalent: 453.7 mm) |
| Flash: | Off, Did not fire |
| Exposure mode: | Aperture-priority AE |
| Max Aperture: | 2.8 |
| Resolution: | 300 x 300 dpi |
| Original Date: | 2016:03:19 10:19:30.41 |
| Created on: | 2016:03:19 10:19:30.41 |
| Modified on: | 2016:03:19 19:55:04 |
| Software: | Adobe Photoshop Lightroom 6.5 (Macintosh) |
| Copyright: | all rights reserved |
| Already Applied | True |
| Approximate Focus Distance | 4.27 |
| Artist | Martin Maguolo |
| Auto Lateral CA | 0 |
| Auto White Version | 134348800 |
| Blacks 2012 | -6 |
| Blue Hue | 0 |
| Blue Saturation | 0 |
| Camera Profile | Adobe Standard |
| Circle Of Confusion | 0.005 mm |
| Clarity 2012 | 0 |
| Color Noise Reduction | 25 |
| Color Noise Reduction Detail | 50 |
| Color Noise Reduction Smoothness | 50 |
| Color Space | sRGB |
| Color Temperature | 4000 |
| Contrast 2012 | +13 |
| Convert To Grayscale | False |
| Creator | Martin Maguolo |
| Crop Angle | 0 |
| Crop Bottom | 1 |
| Crop Constrain To Warp | 0 |
| Crop Left | 0.049737 |
| Crop Right | 0.873887 |
| Crop Top | 0.17585 |
| Custom Rendered | Normal |
| Date Created | 2016:03:19 10:19:30.41 |
| Defringe Green Amount | 0 |
| Defringe Green Hue Hi | 60 |
| Defringe Green Hue Lo | 40 |
| Defringe Purple Amount | 0 |
| Defringe Purple Hue Hi | 70 |
| Defringe Purple Hue Lo | 30 |
| Dehaze | 0 |
| Exposure 2012 | +0.68 |
| Exposure Compensation | 0 |
| Exposure Mode | Auto |
| Field Of View | 4.5 deg |
| Firmware | 2.0.3 |
| Flash Compensation | 0 |
| Format | image/jpeg |
| Grain Amount | 0 |
| Green Hue | 0 |
| Green Saturation | 0 |
| Has Crop | True |
| Has Settings | True |
| Highlights 2012 | -33 |
| Hue Adjustment Aqua | 0 |
| Hue Adjustment Blue | 0 |
| Hue Adjustment Green | 0 |
| Hue Adjustment Magenta | 0 |
| Hue Adjustment Orange | 0 |
| Hue Adjustment Purple | 0 |
| Hue Adjustment Red | 0 |
| Hue Adjustment Yellow | 0 |
| Hyperfocal Distance | 330.30 m |
| ISO | 2000 |
| Image Number | 0 |
| Image Size | 800x533 |
| Lens | EF70-200mm f/2.8L IS II USM |
| Lens ID | Canon EF 70-200mm f/2.8L IS II USM |
| Lens Info | 70-200mm f/? |
| Lens Manual Distortion Amount | 0 |
| Lens Model | EF70-200mm f/2.8L IS II USM |
| Lens Profile Enable | 0 |
| Lens Profile Setup | LensDefaults |
| Light Value | 7.4 |
| Luminance Adjustment Aqua | 0 |
| Luminance Adjustment Blue | 0 |
| Luminance Adjustment Green | 0 |
| Luminance Adjustment Magenta | 0 |
| Luminance Adjustment Orange | 0 |
| Luminance Adjustment Purple | 0 |
| Luminance Adjustment Red | 0 |
| Luminance Adjustment Yellow | 0 |
| Luminance Noise Reduction Contrast | 0 |
| Luminance Noise Reduction Detail | 50 |
| Luminance Smoothing | 27 |
| Marked | True |
| Metering Mode | Multi-segment |
| Parametric Darks | 0 |
| Parametric Highlight Split | 75 |
| Parametric Highlights | 0 |
| Parametric Lights | 0 |
| Parametric Midtone Split | 50 |
| Parametric Shadow Split | 25 |
| Parametric Shadows | 0 |
| Perspective Aspect | 0 |
| Perspective Horizontal | 0 |
| Perspective Rotate | 0.0 |
| Perspective Scale | 100 |
| Perspective Upright | 0 |
| Perspective Vertical | 0 |
| Post Crop Vignette Amount | 0 |
| Process Version | 6.7 |
| Recommended Exposure Index | 2000 |
| Red Hue | 0 |
| Red Saturation | 0 |
| Rights | all rights reserved |
| Saturation | 0 |
| Saturation Adjustment Aqua | 0 |
| Saturation Adjustment Blue | 0 |
| Saturation Adjustment Green | 0 |
| Saturation Adjustment Magenta | 0 |
| Saturation Adjustment Orange | 0 |
| Saturation Adjustment Purple | 0 |
| Saturation Adjustment Red | 0 |
| Saturation Adjustment Yellow | 0 |
| Scale Factor To 35 mm Equivalent | 6.5 |
| Scene Capture Type | Standard |
| Sensitivity Type | Recommended Exposure Index |
| Shadow Tint | 0 |
| Shadows 2012 | +33 |
| Sharpen Detail | 25 |
| Sharpen Edge Masking | 15 |
| Sharpen Radius | +1.0 |
| Sharpness | 50 |
| Split Toning Balance | 0 |
| Split Toning Highlight Hue | 0 |
| Split Toning Highlight Saturation | 0 |
| Split Toning Shadow Hue | 0 |
| Split Toning Shadow Saturation | 0 |
| Subject | C- Jugend, D-Jugend, E-Jugend, Pokal-Turnier, Ringen, Tenneberg, Waltershausen, wrestling |
| Tint | +12 |
| Tone Curve | 0, 0, 255, 255 |
| Tone Curve Blue | 0, 0, 255, 255 |
| Tone Curve Green | 0, 0, 255, 255 |
| Tone Curve Name | Linear |
| Tone Curve Name 2012 | Linear |
| Tone Curve PV2012 | 0, 0, 255, 255 |
| Tone Curve PV2012 Blue | 0, 0, 255, 255 |
| Tone Curve PV2012 Green | 0, 0, 255, 255 |
| Tone Curve PV2012 Red | 0, 0, 255, 255 |
| Tone Curve Red | 0, 0, 255, 255 |
| Tone Map Strength | 0 |
| Usage Terms | www.sportpixel.com |
| Version | 9.5 |
| Vibrance | 0 |
| Vignette Amount | 0 |
| Web Statement | www.sportpixel.com |
| White Balance | Auto |
| Whites 2012 | +32 |
 X