Shooting information for this photo
| Camera: | NIKON CORPORATION NIKON D700 |
| Exposure: | 0.008 sec. (1/125) |
| Aperture: | f/4.0 |
| Focal Length: | 200.0 mm (35 mm equivalent: 200.0 mm) |
| Flash: | On, Return detected |
| Exposure mode: | Manual |
| Max Aperture: | 2.8 |
| Resolution: | 240 x 240 dpi |
| Dimension: | 2656 x 1767 pixels |
| Original Date: | 2009:02:09 18:11:09.00 |
| Created on: | 2009:02:09 18:11:09.00 |
| Modified on: | 2011:01:20 21:55:58 |
| Software: | Ver.1.01 |
| Copyright: | Thore Siebrands |
| Already Applied | True |
| Approximate Focus Distance | 10 |
| Artist | Thore Siebrands |
| Blue Hue | 0 |
| Blue Saturation | 0 |
| Brightness | +45 |
| CFA Pattern | [Red,Green][Green,Blue] |
| Camera Profile | Adobe Standard |
| Chromatic Aberration B | 0 |
| Chromatic Aberration R | 0 |
| Circle Of Confusion | 0.030 mm |
| Clarity | +22 |
| Color Mode | RGB |
| Color Noise Reduction | 25 |
| Color Noise Reduction Detail | 50 |
| Color Space | Uncalibrated |
| Color Temperature | 5900 |
| Contrast | +49 |
| Convert To Grayscale | False |
| Creator | Thore Siebrands, Thore Siebrands |
| Crop Angle | 0.766966 |
| Crop Bottom | 0.894388 |
| Crop Constrain To Warp | 1 |
| Crop Left | 0.107842 |
| Crop Right | 0.72631 |
| Crop Top | 0.257807 |
| Custom Rendered | Normal |
| Defringe | 0 |
| Depth Of Field | 0.59 m (9.71 - 10.30) |
| Digital Zoom Ratio | 1 |
| Exposure | 0.00 |
| Exposure Compensation | 0 |
| Exposure Mode | Manual |
| Field Of View | 10.3 deg |
| Fill Light | 0 |
| Flash Fired | True |
| Flash Function | False |
| Flash Mode | On |
| Flash Red Eye Mode | False |
| Flash Return | Return detected |
| Focal Length In 35mm Format | 200 mm |
| Gain Control | Low gain up |
| Grain Amount | 0 |
| Green Hue | 0 |
| Green Saturation | 0 |
| Has Crop | True |
| Has Settings | True |
| Hierarchical Subject | Berlinale|59. Berlinale, Berlinale|59. Internationale Filmfestspiele Berlin, Berlinale|59th Berlin International Film Festival, Berlinale |
| Highlight Recovery | 38 |
| Hue Adjustment Aqua | 0 |
| Hue Adjustment Blue | 0 |
| Hue Adjustment Green | 0 |
| Hue Adjustment Magenta | 0 |
| Hue Adjustment Orange | 0 |
| Hue Adjustment Purple | 0 |
| Hue Adjustment Red | 0 |
| Hue Adjustment Yellow | 0 |
| Hyperfocal Distance | 332.82 m |
| ICC Profile Name | Adobe RGB (1998) |
| ISO | 800 |
| Image Number | 6544 |
| Image Size | 2656x1767 |
| Label | gelb |
| Lens | 70.0-200.0 mm f/2.8 |
| Lens ID | AF-S VR Zoom-Nikkor 70-200mm f/2.8G IF-ED |
| Lens Info | 70-200mm f/2.8 |
| Lens Manual Distortion Amount | 0 |
| Lens Model | 70.0-200.0 mm f/2.8 |
| Lens Profile Enable | 0 |
| Lens Profile Setup | LensDefaults |
| Light Source | Unknown |
| Light Value | 8.0 |
| Luminance Adjustment Aqua | 0 |
| Luminance Adjustment Blue | 0 |
| Luminance Adjustment Green | 0 |
| Luminance Adjustment Magenta | 0 |
| Luminance Adjustment Orange | 0 |
| Luminance Adjustment Purple | 0 |
| Luminance Adjustment Red | 0 |
| Luminance Adjustment Yellow | 0 |
| Luminance Noise Reduction Contrast | 0 |
| Luminance Noise Reduction Detail | 15 |
| Luminance Smoothing | 15 |
| Metering Mode | Multi-segment |
| Parametric Darks | 0 |
| Parametric Highlight Split | 75 |
| Parametric Highlights | 0 |
| Parametric Lights | 0 |
| Parametric Midtone Split | 50 |
| Parametric Shadow Split | 25 |
| Parametric Shadows | 0 |
| Perspective Horizontal | 0 |
| Perspective Rotate | 0.0 |
| Perspective Scale | 100 |
| Perspective Vertical | 0 |
| Photometric Interpretation | RGB |
| Post Crop Vignette Amount | 0 |
| Process Version | 5.7 |
| Rating | 4 |
| Raw File Name | _D7H5990.NEF |
| Red Hue | 0 |
| Red Saturation | 0 |
| Rights | Thore Siebrands |
| Samples Per Pixel | 3 |
| Saturation | 0 |
| Saturation Adjustment Aqua | 0 |
| Saturation Adjustment Blue | 0 |
| Saturation Adjustment Green | 0 |
| Saturation Adjustment Magenta | 0 |
| Saturation Adjustment Orange | 0 |
| Saturation Adjustment Purple | 0 |
| Saturation Adjustment Red | 0 |
| Saturation Adjustment Yellow | 0 |
| Scale Factor To 35 mm Equivalent | 1.0 |
| Scene Capture Type | Standard |
| Scene Type | Directly photographed |
| Sensing Method | One-chip color area |
| Sensitivity Type | Unknown |
| Shadow Tint | 0 |
| Shadows | 0 |
| Sharpen Detail | 27 |
| Sharpen Edge Masking | 10 |
| Sharpen Radius | +1.4 |
| Sharpness | 80 |
| Split Toning Balance | 0 |
| Split Toning Highlight Hue | 0 |
| Split Toning Highlight Saturation | 0 |
| Split Toning Shadow Hue | 0 |
| Split Toning Shadow Saturation | 0 |
| Subject | 59. Berlinale, 59. Internationale Filmfestspiele Berlin, 59th Berlin International Film Festival, Berlinale, Robin Wright Penn |
| Subject Distance | 10 m |
| Subject Distance Range | Unknown |
| Tint | -5 |
| Tone Curve | 0, 0, 32, 22, 64, 56, 128, 128, 192, 196, 255, 255 |
| Tone Curve Name | Medium Contrast |
| Version | 6.3 |
| Vibrance | +8 |
| Vignette Amount | 0 |
| White Balance | As Shot |
X