Shooting information for this photo
| Camera: | NIKON CORPORATION NIKON D700 |
| Exposure: | 0.005 sec. (1/200) |
| Aperture: | f/4.5 |
| Focal Length: | 105.0 mm (35 mm equivalent: 105.0 mm) |
| Flash: | On, Return detected |
| Exposure mode: | Manual |
| Max Aperture: | 4.4 |
| Resolution: | 240 x 240 dpi |
| Dimension: | 2406 x 3617 pixels |
| Original Date: | 2009:02:07 20:50:38.68 |
| Created on: | 2009:02:07 20:50:38.68 |
| Modified on: | 2011:01:20 18:45:00 |
| Software: | Ver.1.01 |
| Already Applied | True |
| Approximate Focus Distance | 2 |
| Blue Hue | 0 |
| Blue Saturation | 0 |
| Brightness | +54 |
| CFA Pattern | [Red,Green][Green,Blue] |
| Camera Profile | Adobe Standard |
| Chromatic Aberration B | 0 |
| Chromatic Aberration R | 0 |
| Circle Of Confusion | 0.030 mm |
| Clarity | +30 |
| Color Mode | RGB |
| Color Noise Reduction | 25 |
| Color Noise Reduction Detail | 50 |
| Color Space | Uncalibrated |
| Color Temperature | 5500 |
| Contrast | +32 |
| Convert To Grayscale | False |
| Crop Angle | 4.807954 |
| Crop Bottom | 0.953888 |
| Crop Constrain To Warp | 1 |
| Crop Left | 0.047397 |
| Crop Right | 0.846842 |
| Crop Top | 0 |
| Custom Rendered | Normal |
| Defringe | 0 |
| Depth Of Field | 0.09 m (1.95 - 2.05) |
| Description | German actor Ulrich Tukur, Premiere of the movie "John Rabe" at the Berlin Friedrichstadtpalast |
| Digital Zoom Ratio | 1 |
| Exposure | +0.95 |
| Exposure Compensation | 0 |
| Exposure Mode | Manual |
| Field Of View | 19.5 deg |
| Fill Light | 31 |
| Flash Fired | True |
| Flash Function | False |
| Flash Mode | On |
| Flash Red Eye Mode | False |
| Flash Return | Return detected |
| Focal Length In 35mm Format | 105 mm |
| Gain Control | None |
| Grain Amount | 0 |
| Green Hue | 0 |
| Green Saturation | 0 |
| Has Crop | True |
| Has Settings | True |
| Hierarchical Subject | Berlinale, Berlinale|59. Berlinale, Berlinale|59. Internationale Filmfestspiele Berlin, Berlinale|59th Berlin International Film Festival, Berlinale|Berlinale 2009 |
| Highlight Recovery | 0 |
| Hue Adjustment Aqua | 0 |
| Hue Adjustment Blue | 0 |
| Hue Adjustment Green | 0 |
| Hue Adjustment Magenta | 0 |
| Hue Adjustment Orange | 0 |
| Hue Adjustment Purple | 0 |
| Hue Adjustment Red | 0 |
| Hue Adjustment Yellow | 0 |
| Hyperfocal Distance | 81.54 m |
| ICC Profile Name | Adobe RGB (1998) |
| ISO | 200 |
| Image Number | 5753 |
| Image Size | 2406x3617 |
| Label | gelb |
| Lens | 28.0-105.0 mm f/3.5-4.5 |
| Lens ID | AF Zoom-Nikkor 28-105mm f/3.5-4.5D IF |
| Lens Info | 28-105mm f/3.5-4.5 |
| Lens Manual Distortion Amount | 0 |
| Lens Model | 28.0-105.0 mm f/3.5-4.5 |
| Lens Profile Enable | 0 |
| Lens Profile Setup | LensDefaults |
| Light Source | Unknown |
| Light Value | 11.0 |
| Luminance Adjustment Aqua | 0 |
| Luminance Adjustment Blue | 0 |
| Luminance Adjustment Green | 0 |
| Luminance Adjustment Magenta | 0 |
| Luminance Adjustment Orange | 0 |
| Luminance Adjustment Purple | 0 |
| Luminance Adjustment Red | 0 |
| Luminance Adjustment Yellow | 0 |
| Luminance Smoothing | 0 |
| Metering Mode | Multi-segment |
| Paint Correction Active | true |
| Paint Correction Amount | 1.000000 |
| Paint Correction Brightness | 0.000000 |
| Paint Correction Clarity | 0.000000 |
| Paint Correction Contrast | 0.000000 |
| Paint Correction Exposure | 0.000000 |
| Paint Correction Hue | 0.000000 |
| Paint Correction Mask Center Weight | 0.061672 |
| Paint Correction Mask Flow | 0.946827 |
| Paint Correction Mask Radius | 0.049591 |
| Paint Correction Mask Value | 0.750000 |
| Paint Correction Mask What | Mask/Paint |
| Paint Correction Saturation | 0.000000 |
| Paint Correction Sharpness | 0.390000 |
| Paint Correction What | Correction |
| Parametric Darks | 0 |
| Parametric Highlight Split | 75 |
| Parametric Highlights | 0 |
| Parametric Lights | 0 |
| Parametric Midtone Split | 50 |
| Parametric Shadow Split | 25 |
| Parametric Shadows | 0 |
| Perspective Horizontal | 0 |
| Perspective Rotate | 0.0 |
| Perspective Scale | 100 |
| Perspective Vertical | 0 |
| Photometric Interpretation | RGB |
| Post Crop Vignette Amount | 0 |
| Process Version | 5.7 |
| Rating | 5 |
| Raw File Name | _D7H5201.NEF |
| Red Hue | 0 |
| Red Saturation | 0 |
| Samples Per Pixel | 3 |
| Saturation | 0 |
| Saturation Adjustment Aqua | 0 |
| Saturation Adjustment Blue | 0 |
| Saturation Adjustment Green | 0 |
| Saturation Adjustment Magenta | 0 |
| Saturation Adjustment Orange | 0 |
| Saturation Adjustment Purple | 0 |
| Saturation Adjustment Red | 0 |
| Saturation Adjustment Yellow | 0 |
| Scale Factor To 35 mm Equivalent | 1.0 |
| Scene Capture Type | Standard |
| Scene Type | Directly photographed |
| Sensing Method | One-chip color area |
| Sensitivity Type | Unknown |
| Shadow Tint | 0 |
| Shadows | 0 |
| Sharpen Detail | 25 |
| Sharpen Edge Masking | 0 |
| Sharpen Radius | +1.0 |
| Sharpness | 67 |
| Split Toning Balance | 0 |
| Split Toning Highlight Hue | 0 |
| Split Toning Highlight Saturation | 0 |
| Split Toning Shadow Hue | 0 |
| Split Toning Shadow Saturation | 0 |
| Subject | 59. Berlinale, 59. Internationale Filmfestspiele Berlin, 59th Berlin International Film Festival, Berlinale, Berlinale 2009, Ulrich Tukur |
| Subject Distance | 2 m |
| Subject Distance Range | Unknown |
| Tint | 0 |
| Tone Curve | 0, 0, 32, 22, 64, 56, 128, 128, 192, 196, 255, 255 |
| Tone Curve Name | Medium Contrast |
| Version | 6.3 |
| Vibrance | -16 |
| Vignette Amount | 0 |
| White Balance | Flash |
X