Shooting information for this photo
| Camera: | NIKON CORPORATION NIKON D700 |
| Exposure: | 0.005 sec. (1/200) |
| Aperture: | f/5.6 |
| Focal Length: | 200.0 mm (35 mm equivalent: 200.0 mm) |
| Flash: | No Flash |
| Exposure mode: | Manual |
| Max Aperture: | 2.8 |
| Resolution: | 240 x 240 dpi |
| Dimension: | 3613 x 2404 pixels |
| Original Date: | 2010:02:17 14:48:45.00 |
| Digitized Date: | 2010:02:17 14:48:45.00+01:00 |
| Created on: | 2010:02:17 14:48:45.00 |
| Modified on: | 2010:04:20 21:10:09 |
| Software: | Ver.1.01 |
| Copyright: | Thore Siebrands |
| Already Applied | True |
| Artist | Thore Siebrands |
| Blue Hue | 0 |
| Blue Saturation | 0 |
| Brightness | +18 |
| CFA Pattern | [Red,Green][Green,Blue] |
| Camera Profile | Adobe Standard |
| Chromatic Aberration B | 0 |
| Chromatic Aberration R | 0 |
| Circle Of Confusion | 0.030 mm |
| Clarity | +25 |
| Color Mode | RGB |
| Color Noise Reduction | 25 |
| Color Space | sRGB |
| Color Temperature | 4300 |
| Contrast | +44 |
| Convert To Grayscale | False |
| Creator | Thore Siebrands |
| Crop Angle | 0.125648 |
| Crop Bottom | 0.999737 |
| Crop Left | 0.070189 |
| Crop Right | 0.917804 |
| Crop Top | 0.148085 |
| Custom Rendered | Normal |
| Defringe | 0 |
| Description | Julianne Moore leaving the press conference for THE KIDS ARE ALL RIGHT at the 2010 Berlinale |
| Digital Zoom Ratio | 1 |
| Exposure | -0.25 |
| Exposure Compensation | 0 |
| Exposure Mode | Manual |
| Field Of View | 10.3 deg |
| Fill Light | 24 |
| Flash Fired | False |
| Flash Function | False |
| Flash Mode | Unknown |
| Flash Red Eye Mode | False |
| Flash Return | No return detection |
| Focal Length In 35mm Format | 200 mm |
| Gain Control | High gain up |
| Green Hue | 0 |
| Green Saturation | 0 |
| Has Crop | True |
| Has Settings | True |
| Hierarchical Subject | Berlinale|Berlinale 2010, Berlinale|actress|Schauspieler in, Berlinale|actress, Berlinale|press conference, Berlinale|Pressekonferenz, Berlinale|The Kids Are All Right |
| Highlight Recovery | 32 |
| Hue Adjustment Aqua | 0 |
| Hue Adjustment Blue | 0 |
| Hue Adjustment Green | 0 |
| Hue Adjustment Magenta | 0 |
| Hue Adjustment Orange | 0 |
| Hue Adjustment Purple | 0 |
| Hue Adjustment Red | 0 |
| Hue Adjustment Yellow | 0 |
| Hyperfocal Distance | 237.73 m |
| ICC Profile Name | sRGB IEC61966-2.1 |
| ISO | 1600 |
| Image Description | Julianne Moore leaving the press conference for THE KIDS ARE ALL RIGHT at the 2010 Berlinale |
| Image Number | 20132 |
| Image Size | 3613x2404 |
| Label | gelb |
| Lens | 70.0-200.0 mm f/2.8 |
| Lens Info | 70-200mm f/2.8 |
| Light Source | Unknown |
| Light Value | 8.6 |
| Luminance Adjustment Aqua | 0 |
| Luminance Adjustment Blue | 0 |
| Luminance Adjustment Green | 0 |
| Luminance Adjustment Magenta | 0 |
| Luminance Adjustment Orange | 0 |
| Luminance Adjustment Purple | 0 |
| Luminance Adjustment Red | 0 |
| Luminance Adjustment Yellow | 0 |
| Luminance Smoothing | 39 |
| Metering Mode | Multi-segment |
| Parametric Darks | 0 |
| Parametric Highlight Split | 75 |
| Parametric Highlights | 0 |
| Parametric Lights | 0 |
| Parametric Midtone Split | 50 |
| Parametric Shadow Split | 25 |
| Parametric Shadows | 0 |
| Photometric Interpretation | RGB |
| Post Crop Vignette Amount | 0 |
| Rating | 5 |
| Raw File Name | D7H_9137.NEF |
| Red Hue | 0 |
| Red Saturation | 0 |
| Rights | Thore Siebrands |
| Samples Per Pixel | 3 |
| Saturation | 0 |
| Saturation Adjustment Aqua | 0 |
| Saturation Adjustment Blue | 0 |
| Saturation Adjustment Green | 0 |
| Saturation Adjustment Magenta | 0 |
| Saturation Adjustment Orange | 0 |
| Saturation Adjustment Purple | 0 |
| Saturation Adjustment Red | 0 |
| Saturation Adjustment Yellow | 0 |
| Scale Factor To 35 mm Equivalent | 1.0 |
| Scene Capture Type | Standard |
| Scene Type | Directly photographed |
| Sensing Method | One-chip color area |
| Shadow Tint | 0 |
| Shadows | 5 |
| Sharpen Detail | 25 |
| Sharpen Edge Masking | 0 |
| Sharpen Radius | +1.0 |
| Sharpness | 81 |
| Split Toning Balance | 0 |
| Split Toning Highlight Hue | 0 |
| Split Toning Highlight Saturation | 0 |
| Split Toning Shadow Hue | 0 |
| Split Toning Shadow Saturation | 0 |
| Subject | actress, Berlinale 2010, Julianne Moore, press conference, Pressekonferenz, Schauspielerin, The Kids Are All Right |
| Subject Distance Range | Unknown |
| Tint | -28 |
| Tone Curve | 0, 0, 32, 22, 64, 56, 128, 128, 192, 196, 255, 255 |
| Tone Curve Name | Medium Contrast |
| Version | 5.2 |
| Vibrance | +15 |
| Vignette Amount | 0 |
| White Balance | As Shot |
X