Shooting information for this photo
| Camera: | NIKON CORPORATION NIKON D700 |
| Exposure: | 0.0125 sec. (1/80) |
| Aperture: | f/2.8 |
| Focal Length: | 70.0 mm (35 mm equivalent: 70.0 mm) |
| Flash: | On, Return detected |
| Exposure mode: | Manual |
| Max Aperture: | 2.8 |
| Resolution: | 240 x 240 dpi |
| Dimension: | 1632 x 2454 pixels |
| Original Date: | 2010:02:12 00:08:11.64 |
| Digitized Date: | 2010:02:12 00:08:11.64+01:00 |
| Created on: | 2010:02:12 00:08:11.64 |
| Modified on: | 2010:03:03 00:52:35.64 |
| Software: | Adobe Photoshop CS4 Macintosh |
| Copyright: | Thore Siebrands |
| Already Applied | True |
| Artist | Thore Siebrands |
| Blue Hue | 0 |
| Blue Saturation | 0 |
| Brightness | +48 |
| CFA Pattern | [Red,Green][Green,Blue] |
| Camera Profile | Adobe Standard |
| Chromatic Aberration B | 0 |
| Chromatic Aberration R | 0 |
| Circle Of Confusion | 0.030 mm |
| Clarity | +35 |
| Color Mode | RGB |
| Color Noise Reduction | 25 |
| Color Space | Uncalibrated |
| Color Temperature | 5500 |
| Contrast | +26 |
| Convert To Grayscale | False |
| Creator | Thore Siebrands |
| Crop Angle | 0 |
| Crop Bottom | 0.995511 |
| Crop Left | 0 |
| Crop Right | 0.870932 |
| Crop Top | 0.124579 |
| Custom Rendered | Normal |
| Defringe | 0 |
| Description | French born actor Dominique Horwitz, arriving at the after show opening party of the 60th Berlin International Film Festival |
| Digital Zoom Ratio | 1 |
| Exposure | +0.30 |
| Exposure Compensation | 0 |
| Exposure Mode | Manual |
| Field Of View | 28.8 deg |
| Fill Light | 39 |
| Flash Fired | True |
| Flash Function | False |
| Flash Mode | On |
| Flash Red Eye Mode | False |
| Flash Return | Return detected |
| Focal Length In 35mm Format | 70 mm |
| Format | image/jpeg |
| Gain Control | None |
| Green Hue | 0 |
| Green Saturation | 0 |
| Has Crop | True |
| Has Settings | True |
| Hierarchical Subject | Andere Stichwörter|Berlinale 2010, Andere Stichwörter|59th Berlin International Film Festival, Andere Stichwörter|59. Internationale Filmfestspiele Berlin, Andere Stichwörter|59. Berlinale |
| Highlight Recovery | 19 |
| Hue Adjustment Aqua | 0 |
| Hue Adjustment Blue | 0 |
| Hue Adjustment Green | 0 |
| Hue Adjustment Magenta | 0 |
| Hue Adjustment Orange | 0 |
| Hue Adjustment Purple | 0 |
| Hue Adjustment Red | 0 |
| Hue Adjustment Yellow | 0 |
| Hyperfocal Distance | 58.24 m |
| ISO | 200 |
| Image Description | French born actor Dominique Horwitz, arriving at the after show opening party of the 60th Berlin International Film Festival |
| Image Number | 19051 |
| Image Size | 1632x2454 |
| Label | gelb |
| Lens | 24.0-70.0 mm f/2.8 |
| Lens Info | 24-70mm f/2.8 |
| Light Source | Unknown |
| Light Value | 8.3 |
| Luminance Adjustment Aqua | 0 |
| Luminance Adjustment Blue | 0 |
| Luminance Adjustment Green | 0 |
| Luminance Adjustment Magenta | 0 |
| Luminance Adjustment Orange | 0 |
| Luminance Adjustment Purple | 0 |
| Luminance Adjustment Red | 0 |
| Luminance Adjustment Yellow | 0 |
| Luminance Smoothing | 0 |
| Metering Mode | Multi-segment |
| Parametric Darks | 0 |
| Parametric Highlight Split | 75 |
| Parametric Highlights | 0 |
| Parametric Lights | 0 |
| Parametric Midtone Split | 50 |
| Parametric Shadow Split | 25 |
| Parametric Shadows | 0 |
| Photometric Interpretation | RGB |
| Post Crop Vignette Amount | 0 |
| Rating | 0 |
| Raw File Name | D7H_8058.NEF |
| Red Hue | 0 |
| Red Saturation | 0 |
| Rights | Thore Siebrands |
| Samples Per Pixel | 3 |
| Saturation | 0 |
| Saturation Adjustment Aqua | 0 |
| Saturation Adjustment Blue | 0 |
| Saturation Adjustment Green | 0 |
| Saturation Adjustment Magenta | 0 |
| Saturation Adjustment Orange | +38 |
| Saturation Adjustment Purple | 0 |
| Saturation Adjustment Red | 0 |
| Saturation Adjustment Yellow | 0 |
| Scale Factor To 35 mm Equivalent | 1.0 |
| Scene Capture Type | Standard |
| Scene Type | Directly photographed |
| Sensing Method | One-chip color area |
| Shadow Tint | 0 |
| Shadows | 0 |
| Sharpen Detail | 25 |
| Sharpen Edge Masking | 0 |
| Sharpen Radius | +1.0 |
| Sharpness | 83 |
| Split Toning Balance | 0 |
| Split Toning Highlight Hue | 0 |
| Split Toning Highlight Saturation | 0 |
| Split Toning Shadow Hue | 0 |
| Split Toning Shadow Saturation | 0 |
| Subject | 60. Berlinale, 60. Internationale Filmfestspiele Berlin, 60th Berlin International Film Festival, actor, Berlinale 2010, Dominique Horwitz, Schauspieler |
| Subject Distance Range | Unknown |
| Tint | 0 |
| Tone Curve | 0, 0, 32, 22, 64, 56, 128, 128, 192, 196, 255, 255 |
| Tone Curve Name | Medium Contrast |
| Version | 5.2 |
| Vibrance | +27 |
| Vignette Amount | 0 |
| White Balance | Flash |
X