Shooting information for this photo
Camera: | NIKON CORPORATION NIKON D700 |
Exposure: | 0.00625 sec. (1/160) |
Aperture: | f/2.8 |
Focal Length: | 200.0 mm (35 mm equivalent: 200.0 mm) |
Flash: | On, Return detected |
Exposure mode: | Shutter speed priority AE |
Max Aperture: | 2.8 |
Resolution: | 240 x 240 dpi |
Dimension: | 2797 x 1861 pixels |
Original Date: | 2010:02:11 18:34:16.80 |
Digitized Date: | 2010:02:11 18:34:16.80+01:00 |
Created on: | 2010:02:11 18:34:16.80 |
Modified on: | 2010:02:22 21:09:52 |
Software: | Ver.1.01 |
Copyright: | Thore Siebrands |
Already Applied | True |
Artist | Thore Siebrands |
Blue Hue | 0 |
Blue Saturation | 0 |
Brightness | +65 |
CFA Pattern | [Red,Green][Green,Blue] |
Camera Profile | Adobe Standard |
Chromatic Aberration B | 0 |
Chromatic Aberration R | 0 |
Circle Of Confusion | 0.030 mm |
Clarity | +36 |
Color Mode | RGB |
Color Noise Reduction | 25 |
Color Space | sRGB |
Color Temperature | 4200 |
Contrast | +26 |
Convert To Grayscale | False |
Creator | Thore Siebrands |
Crop Angle | 0 |
Crop Bottom | 1 |
Crop Left | 0.218353 |
Crop Right | 0.875582 |
Crop Top | 0.342771 |
Custom Rendered | Normal |
Defringe | 0 |
Description | German actress Martina Gedeck |
Digital Zoom Ratio | 1 |
Exposure | 0.00 |
Exposure Compensation | 0 |
Exposure Mode | Auto |
Field Of View | 10.3 deg |
Fill Light | 12 |
Flash Fired | True |
Flash Function | False |
Flash Mode | On |
Flash Red Eye Mode | False |
Flash Return | Return detected |
Focal Length In 35mm Format | 200 mm |
Gain Control | None |
Green Hue | 0 |
Green Saturation | 0 |
Has Crop | True |
Has Settings | True |
Hierarchical Subject | Andere Stichwörter|59th Berlin International Film Festival, Andere Stichwörter|59. Internationale Filmfestspiele Berlin, Andere Stichwörter|Berlinale 2010, Andere Stichwörter|59. Berlinale |
Highlight Recovery | 15 |
Hue Adjustment Aqua | 0 |
Hue Adjustment Blue | 0 |
Hue Adjustment Green | 0 |
Hue Adjustment Magenta | 0 |
Hue Adjustment Orange | 0 |
Hue Adjustment Purple | 0 |
Hue Adjustment Red | 0 |
Hue Adjustment Yellow | 0 |
Hyperfocal Distance | 475.46 m |
ICC Profile Name | sRGB IEC61966-2.1 |
ISO | 200 |
Image Number | 18788 |
Image Size | 2797x1861 |
Label | gelb |
Lens | 70.0-200.0 mm f/2.8 |
Lens Info | 70-200mm f/2.8 |
Light Source | Unknown |
Light Value | 9.3 |
Luminance Adjustment Aqua | 0 |
Luminance Adjustment Blue | 0 |
Luminance Adjustment Green | 0 |
Luminance Adjustment Magenta | 0 |
Luminance Adjustment Orange | 0 |
Luminance Adjustment Purple | 0 |
Luminance Adjustment Red | 0 |
Luminance Adjustment Yellow | 0 |
Luminance Smoothing | 0 |
Metering Mode | Multi-segment |
Parametric Darks | 0 |
Parametric Highlight Split | 75 |
Parametric Highlights | 0 |
Parametric Lights | 0 |
Parametric Midtone Split | 50 |
Parametric Shadow Split | 25 |
Parametric Shadows | 0 |
Photometric Interpretation | RGB |
Post Crop Vignette Amount | 0 |
Rating | 5 |
Raw File Name | D7H_7795.NEF |
Red Hue | 0 |
Red Saturation | 0 |
Rights | Thore Siebrands |
Samples Per Pixel | 3 |
Saturation | 0 |
Saturation Adjustment Aqua | 0 |
Saturation Adjustment Blue | 0 |
Saturation Adjustment Green | 0 |
Saturation Adjustment Magenta | 0 |
Saturation Adjustment Orange | 0 |
Saturation Adjustment Purple | 0 |
Saturation Adjustment Red | 0 |
Saturation Adjustment Yellow | 0 |
Scale Factor To 35 mm Equivalent | 1.0 |
Scene Capture Type | Standard |
Scene Type | Directly photographed |
Sensing Method | One-chip color area |
Shadow Tint | 0 |
Shadows | 5 |
Sharpen Detail | 25 |
Sharpen Edge Masking | 0 |
Sharpen Radius | +1.8 |
Sharpness | 86 |
Split Toning Balance | 0 |
Split Toning Highlight Hue | 0 |
Split Toning Highlight Saturation | 0 |
Split Toning Shadow Hue | 0 |
Split Toning Shadow Saturation | 0 |
Subject | 60. Berlinale, 60. Internationale Filmfestspiele Berlin, 60th Berlin International Film Festival, Berlinale 2010, actress, Schauspielerin, Martina Gedeck |
Subject Distance Range | Unknown |
Tint | -26 |
Tone Curve | 0, 0, 32, 22, 64, 56, 128, 128, 192, 196, 255, 255 |
Tone Curve Name | Medium Contrast |
Version | 5.2 |
Vibrance | +48 |
Vignette Amount | 0 |
White Balance | Custom |